BEGIN:VCALENDAR
VERSION:2.0
PRODID:-//Vänsterpartiet Norrköping - ECPv6.15.17.1//NONSGML v1.0//EN
CALSCALE:GREGORIAN
METHOD:PUBLISH
X-ORIGINAL-URL:https://norrkoping.vansterpartiet.se
X-WR-CALDESC:Händelser för Vänsterpartiet Norrköping
REFRESH-INTERVAL;VALUE=DURATION:PT1H
X-Robots-Tag:noindex
X-PUBLISHED-TTL:PT1H
BEGIN:VTIMEZONE
TZID:Europe/Stockholm
BEGIN:DAYLIGHT
TZOFFSETFROM:+0100
TZOFFSETTO:+0200
TZNAME:CEST
DTSTART:20150329T010000
END:DAYLIGHT
BEGIN:STANDARD
TZOFFSETFROM:+0200
TZOFFSETTO:+0100
TZNAME:CET
DTSTART:20151025T010000
END:STANDARD
BEGIN:DAYLIGHT
TZOFFSETFROM:+0100
TZOFFSETTO:+0200
TZNAME:CEST
DTSTART:20160327T010000
END:DAYLIGHT
BEGIN:STANDARD
TZOFFSETFROM:+0200
TZOFFSETTO:+0100
TZNAME:CET
DTSTART:20161030T010000
END:STANDARD
BEGIN:DAYLIGHT
TZOFFSETFROM:+0100
TZOFFSETTO:+0200
TZNAME:CEST
DTSTART:20170326T010000
END:DAYLIGHT
BEGIN:STANDARD
TZOFFSETFROM:+0200
TZOFFSETTO:+0100
TZNAME:CET
DTSTART:20171029T010000
END:STANDARD
BEGIN:DAYLIGHT
TZOFFSETFROM:+0100
TZOFFSETTO:+0200
TZNAME:CEST
DTSTART:20180325T010000
END:DAYLIGHT
BEGIN:STANDARD
TZOFFSETFROM:+0200
TZOFFSETTO:+0100
TZNAME:CET
DTSTART:20181028T010000
END:STANDARD
END:VTIMEZONE
BEGIN:VEVENT
DTSTART;TZID=Europe/Stockholm:20170501T110000
DTEND;TZID=Europe/Stockholm:20170501T140000
DTSTAMP:20260420T030749
CREATED:20170222T120953Z
LAST-MODIFIED:20170430T103928Z
UID:11430-1493636400-1493647200@norrkoping.vansterpartiet.se
SUMMARY:1 Maj
DESCRIPTION:1 maj 11.00-14.00 \nSamling på Skvallertorget. \nFira 1 maj med Vänsterpartiet Norrköping.\nSamling 11:00 Skvallertorget\nAvmarsch 11:30 till Vasaparken\nNytt för i år är att vi går från Skvallertorget. Karta över gångvägen: \n \n\nÅrets talare:\nLinda Snecker\, riksdagsledamot och rättspolitisk talesperson\nJulia Linander\, ordförande Ung Vänster Östergötland\nMona Olsson\, Vänsterpartiets oppositionsråd i Norrköping \n\nMusik:\nCerefie & Pixie\nVänsterns blåsorkester i Norrköping \nInsamling:\nÅrets 1 maj-insamling kommer att gå till RFSU:s internationella arbete\, som ett svar på Donald Trumps försök att dra undan finansieringen för organisationer som arbetar med sexuell och reproduktiv hälsa världen över. \n \nI år samlas vi vid Skvallertorgets fontän (som kommer att vara avstängd för vår skull) med blicken mot skulpturen Vår enighets fana av Pye Engström. En av figurerna är folkbildaren\, agitatorn och socialisten Kata Dalström\, som också var en av partiets grundare. Vad kunde vara mer passande än att på vårt 100-årsjubileum börja 1 maj-marschen med Kata? \nVi är stolta över att kunna presentera Linda Snecker som huvudtalare på första maj. Förutom att vara Östergötlands riksdagsledamot för V är hon också partiets rättspolitiska talesperson. Hon har sedan 2014 profilerat sig och partiet tydligt i rättsfrågor och är en flitig motionär på området. Hon har motionerat om allt från förbättrad frivård till bättre arbetsmiljö för Poliser. Dessutom är hon en engagerad debattör som bidragit till att partiets rättspolitiska status stärkts. \nWilliam Sulka Drawings & Doodles har gjort årets affisch. \nVarmt välkommen att delta i vårt 1 Maj-firande!! 
URL:https://norrkoping.vansterpartiet.se/event/1-maj-2/
LOCATION:Skvallertorget Norrköping\, Västgötegatan 25\, Norrköping
CATEGORIES:Alla är välkomna!,Allmän aktivitet,Öppet möte
ATTACH;FMTTYPE=image/jpeg:https://norrkoping.vansterpartiet.se/files/2017/02/1-maj-2017-1.jpg
END:VEVENT
BEGIN:VEVENT
DTSTART;TZID=Europe/Stockholm:20170426T180000
DTEND;TZID=Europe/Stockholm:20170426T200000
DTSTAMP:20260420T030749
CREATED:20170222T120927Z
LAST-MODIFIED:20170222T120927Z
UID:11428-1493229600-1493236800@norrkoping.vansterpartiet.se
SUMMARY:Förberedelser för  Maj
DESCRIPTION:
URL:https://norrkoping.vansterpartiet.se/event/forberedelser-for-maj/
CATEGORIES:För medlemmar och sympatisörer.
END:VEVENT
BEGIN:VEVENT
DTSTART;TZID=Europe/Stockholm:20170419T183000
DTEND;TZID=Europe/Stockholm:20170419T203000
DTSTAMP:20260420T030749
CREATED:20170306T122144Z
LAST-MODIFIED:20170412T135715Z
UID:11473-1492626600-1492633800@norrkoping.vansterpartiet.se
SUMMARY:Direktsändning med Jonas Sjöstedt och Ulla Andersson
DESCRIPTION:Den 19 april klockan 18:30 kallar vi till möte (Observera tiden!).  \nVi inleder med allmänpolitisk information och diskussion över fika.  \nKlockan 19:00 börjar direktsändningen via webben med Jonas Sjöstedt och Ulla Andersson. \nDom kommer att prata om budgeten\, vinster i välfärden och arbetet fram till valet 2018 direkt för Vänsterpartiets medlemmar. Det kommer också som vanligt finnas möjlighet att via chatfunktion ställa frågor under sändningen.\n  \n 
URL:https://norrkoping.vansterpartiet.se/event/direktsandning-med-jonas-sjostedt/
CATEGORIES:För medlemmar
END:VEVENT
BEGIN:VEVENT
DTSTART;TZID=Europe/Stockholm:20170407T120000
DTEND;TZID=Europe/Stockholm:20170407T130000
DTSTAMP:20260420T030749
CREATED:20170316T121533Z
LAST-MODIFIED:20170316T121533Z
UID:11501-1491566400-1491570000@norrkoping.vansterpartiet.se
SUMMARY:Flygbladsutdelning
DESCRIPTION:Flygbladsutdelning kl:12:00 \nMellan Spiralen 1 och 2 \nKom och var med! \nAlla är välkomna!
URL:https://norrkoping.vansterpartiet.se/event/flygbladsutdelning-6/
LOCATION:S:t Persgatan 110 Norrköping
CATEGORIES:Alla är välkomna!,Allmän aktivitet
END:VEVENT
BEGIN:VEVENT
DTSTART;TZID=Europe/Stockholm:20170405T180000
DTEND;TZID=Europe/Stockholm:20170405T200000
DTSTAMP:20260420T030749
CREATED:20170222T120828Z
LAST-MODIFIED:20170222T120828Z
UID:11426-1491415200-1491422400@norrkoping.vansterpartiet.se
SUMMARY:V-café. Vänsterpartiet Norrköping 100 år!
DESCRIPTION:
URL:https://norrkoping.vansterpartiet.se/event/v-cafe-vansterpartiet-norrkoping-100-ar/
CATEGORIES:Alla är välkomna!
END:VEVENT
BEGIN:VEVENT
DTSTART;VALUE=DATE:20170325
DTEND;VALUE=DATE:20170326
DTSTAMP:20260420T030749
CREATED:20170316T120919Z
LAST-MODIFIED:20170316T120919Z
UID:11499-1490400000-1490400000@norrkoping.vansterpartiet.se
SUMMARY:Distriktets årskonferens
DESCRIPTION:Den 25 mars 2017 har Vänsterpartiet Östergötland distriktsårskonferens i Norrköping. \nKonferensen utser distriktsordförande\, ordinarie och ersättare till distriktsstyrelsen och revisorer.
URL:https://norrkoping.vansterpartiet.se/event/distriktets-arskonferens/
CATEGORIES:För medlemmar
END:VEVENT
BEGIN:VEVENT
DTSTART;TZID=Europe/Stockholm:20170322T180000
DTEND;TZID=Europe/Stockholm:20170322T200000
DTSTAMP:20260420T030749
CREATED:20170222T120712Z
LAST-MODIFIED:20170316T120612Z
UID:11424-1490205600-1490212800@norrkoping.vansterpartiet.se
SUMMARY:Medlemsmöte
DESCRIPTION:Den 22 mars har vi medlemsmöte! Temat blir partiets vårkampanj – Det är vår tur nu!  \nVi kommer att ha en kortare inledning om den nationella kampanjen och sedan ta ner den på lokal nivå. Vi kommer bland annat att diskutera de två kanske hetaste frågorna i kommunpolitiken och vad vi i vänstern kan göra för att driva dom ännu bättre – S privatisering av Norrköpings välfärd och bostadsbristen. Sedan kommer vi att ha samtal i mindre grupper om vilka frågor vi kan driva fram till valet och hur vi kan göra det på nya smarta sätt. \n\nMötet öppnas\nVal av mötesordförande\nMötestekniska val\nFastställande av dagordning\nDet är vår tur nu – Kampanjlansering\nPrivatiseringar och bostadsbrist i Norrköping\nRapporter från nämnderna\nGruppsamtal – Vilka frågor driver vi och hur?\nDet internfeministiska arbetet\nRapporter – 1 maj\, partilokalen\, aktiviteter\nÖvriga frågor\nTalarstatistik\nMötets avslutande
URL:https://norrkoping.vansterpartiet.se/event/medlemsmote-14/
CATEGORIES:För medlemmar
END:VEVENT
BEGIN:VEVENT
DTSTART;TZID=Europe/Stockholm:20170308T170000
DTEND;TZID=Europe/Stockholm:20170308T210000
DTSTAMP:20260420T030749
CREATED:20170222T120415Z
LAST-MODIFIED:20170222T120509Z
UID:11419-1488992400-1489006800@norrkoping.vansterpartiet.se
SUMMARY:8 mars. Internationella kvinnodagen
DESCRIPTION:Den internationella kvinnodagen 8 mars ska självklart även uppmärksammas i Norrköping! \nVänsterpartiet och Feministiskt Initiativ bjuder in till den årliga demonstrationen under parollen ”Stå upp för aborträtten”. \nTillsammans går vi i fackeltåg från Hörsalsparken till Arbetets museum där vi avslutar med tal av \nLinda Snecker\, rättspolitisk talesperson\, Vänsterpartiet\nSofi Holmin Fridell\, Feministiskt Initiativ Norrköping\nJuta Kawalerowicz\, talesperson polska vänsterpartiet Razem \nPoetry slam av Zorba Asplund\, poet och satiriker \nKl.17.00-18.00\n\nAlla är välkomna!\n \n \n.. \nEfter demonstrationen bjuder Vänsterpartiet in till mingel och panelsamtal om den hotade aborträtten i Europa. Alla feminister är välkomna  \nAborträtten är hotad.\nI Polen har aborträtten inskränkts till att bara gälla vid våldtäkt och incest. I USA har regeringen stoppat allt bistånd till organisationer som informerar om och utför abort. I Sverige vill Sverigedemokraterna inskränka aborträtten. Sedan 2014 pågår ett rättsfall i Sverige om ”samvetsfrihet” – alltså abortvägran på grund av trosuppfattning. Ett rättsfall som stöttas av världens mäktigaste högerkristna lobbyorganisation Alliance Defending Freedom. \nDen internationella kvinnodagen är en viktig dag för att uppmärksamma och driva på den feministiska debatten och \nVänsterpartiet Norrköping uppmärksammar dagen med ett panelsamtal och mingel. Delar av samtalet kommer att föras på engelska. \nDeltar gör\nLinda Snecker\, rättspolitiskt talesperson Vänsterpartiet\nJuta Kawalerowicz\, talesperson polska vänsterpartiet Razem \nPanelsamtalet leds av Carina Milde\, intendent på Arbetets museum och brinnande feminist. \n18.00-21.00 på Arbetets Museum. \nVälkommen!
URL:https://norrkoping.vansterpartiet.se/event/8-mars-internationella-kvinnodagen/
LOCATION:Arbetets Museum\, Laxholmen \, Norrköping 
CATEGORIES:Alla är välkomna!,Allmän aktivitet,Öppet möte
ATTACH;FMTTYPE=image/png:https://norrkoping.vansterpartiet.se/files/2017/02/stå-upp-för-aborträtten.png
END:VEVENT
BEGIN:VEVENT
DTSTART;TZID=Europe/Stockholm:20170225T120000
DTEND;TZID=Europe/Stockholm:20170225T130000
DTSTAMP:20260420T030749
CREATED:20170222T115258Z
LAST-MODIFIED:20170222T115258Z
UID:11417-1488024000-1488027600@norrkoping.vansterpartiet.se
SUMMARY:Utdelning av tidningen Östgötavänstern
DESCRIPTION:Vi delar ut Vänsterpartiet Östergötlands masstidning Östgötavänstern\, vid Spiralen och vid Mirum\, kl.12.00-13.00. \n 
URL:https://norrkoping.vansterpartiet.se/event/utdelning-av-tidningen-ostgotavanstern/
CATEGORIES:Allmän aktivitet
END:VEVENT
BEGIN:VEVENT
DTSTART;TZID=Europe/Stockholm:20170222T180000
DTEND;TZID=Europe/Stockholm:20170222T200000
DTSTAMP:20260420T030749
CREATED:20170113T151531Z
LAST-MODIFIED:20170222T114904Z
UID:11346-1487786400-1487793600@norrkoping.vansterpartiet.se
SUMMARY:Filmvisning: My life\, my lesson
DESCRIPTION:Vår riksdagsledamot Linda Snecker kommer tillsammans med Emelie Tilstam från ”Se barnen” att visa den prisbelönta dokumentären My life\, my lesson den 22 februari. Sedan diskuterar vi om våld i hemmet\, att införa barnkonventionen som lag och hur vi på bästa sätt kan se barnen. \nEfter att tidigt ha förlorat sin biologiska pappa växte Felicia upp mitt i sin styvpappas misshandel av sin mamma. I denna finstämda dokumentära uppväxtskildring följer vi 16-åriga Felicia under två år. SE BARNEN är ett projekt som Film and Tell driver tillsammans med Gålöstiftelsen\, Brottsofferjouren\, Rädda Barnen\, Unizon\, mfl. Läs mer här: https://sebarnen.org/ \nPartilokalen kl.18.00 \nVälkommen!
URL:https://norrkoping.vansterpartiet.se/event/filmvisning-my-life-lesson/
END:VEVENT
BEGIN:VEVENT
DTSTART;TZID=Europe/Stockholm:20170129T140000
DTEND;TZID=Europe/Stockholm:20170129T180000
DTSTAMP:20260420T030749
CREATED:20170113T151324Z
LAST-MODIFIED:20170113T151402Z
UID:11344-1485698400-1485712800@norrkoping.vansterpartiet.se
SUMMARY:Årsmöte
DESCRIPTION:
URL:https://norrkoping.vansterpartiet.se/event/arsmote/
CATEGORIES:För medlemmar
END:VEVENT
BEGIN:VEVENT
DTSTART;TZID=Europe/Stockholm:20170118T180000
DTEND;TZID=Europe/Stockholm:20170118T200000
DTSTAMP:20260420T030749
CREATED:20170113T151040Z
LAST-MODIFIED:20170113T151040Z
UID:11342-1484762400-1484769600@norrkoping.vansterpartiet.se
SUMMARY:Kulturcafé med blåsorkestern.
DESCRIPTION:Onsdag den 18 januari kl.18.00 så sparkar Vänsterpartiet Norrköping igång 2017 med ett maffigt \nKulturcafé! \nVår alldeles egen blåsorkester kommer att spela för oss! Dessutom kommer vi att anordna ett kultur-quiz. \nSedan har vi politiska diskussioner om vår kulturpolitik och om hur vi kan använda kulturen för att nå ut till fler människor med vårt budskap om rättvisa och solidaritet. \nVi håller som vanligt till på partilokalen och bjuder på fika. \nVänstercaféet är öppet för alla intresserade\, man behöver inte vara medlem. \nVälkommen!!
URL:https://norrkoping.vansterpartiet.se/event/kulturcafe-med-blasorkestern/
CATEGORIES:Alla är välkomna!,Öppet möte
END:VEVENT
BEGIN:VEVENT
DTSTART;TZID=Europe/Stockholm:20161207T180000
DTEND;TZID=Europe/Stockholm:20161207T200000
DTSTAMP:20260420T030749
CREATED:20161118T131449Z
LAST-MODIFIED:20161201T114656Z
UID:11220-1481133600-1481140800@norrkoping.vansterpartiet.se
SUMMARY:V-café. Womens boat to Gaza.
DESCRIPTION:Den 7 december besöker Jeannette Escanilla oss. \nJeannette är engagerad Vänsterpartist och starkt engagerad i kampen för Palestinas befrielse. Hon var själv med på  ”Womens Boat to Gaza” \, det senaste försöket att sjövägen försöka bryta Israels illegala belägring av Gaza.  Jeannette var passagerare på båten Zaytouna – Oliven och kommer att berätta om vad som hände under färden till och Gaza och under Israels dramatiska och rättsvidriga kapning av båten.\n  \nVälkommen!!
URL:https://norrkoping.vansterpartiet.se/event/v-cafe-womens-boat-to-gaza/
CATEGORIES:Alla är välkomna!,Öppet möte
ATTACH;FMTTYPE=image/jpeg:https://norrkoping.vansterpartiet.se/files/2016/11/womens-boat-to-gaza.jpg
END:VEVENT
BEGIN:VEVENT
DTSTART;TZID=Europe/Stockholm:20161203T130000
DTEND;TZID=Europe/Stockholm:20161203T150000
DTSTAMP:20260420T030749
CREATED:20161201T113959Z
LAST-MODIFIED:20161201T114053Z
UID:11259-1480770000-1480777200@norrkoping.vansterpartiet.se
SUMMARY:Assistans är frihet - Rädda LSS! Manifestation lördag 3 dec.
DESCRIPTION:Assistans är frihet – Rädda LSS!\nInternationella funktionshinderdagen \nden 3 december klockan 13:00-15:00 hålls en manifestation för att rädda och stärka rätten till personlig assistans. \nPlatsen är mellan Spiralen 1 och 2 (S:t Persgatan). Bland annat vår riksdagsledamot Linda Snecker (V) kommer att hålla tal.
URL:https://norrkoping.vansterpartiet.se/event/assistans-ar-frihet-radda-lss-manifestation-lordag-3-dec/
CATEGORIES:Allmän aktivitet,Öppet möte
END:VEVENT
BEGIN:VEVENT
DTSTART;TZID=Europe/Stockholm:20161203T120000
DTEND;TZID=Europe/Stockholm:20161203T130000
DTSTAMP:20260420T030749
CREATED:20161118T130443Z
LAST-MODIFIED:20161118T130536Z
UID:11214-1480766400-1480770000@norrkoping.vansterpartiet.se
SUMMARY:Flygbladsutdelning. Hjärta välfärd.
DESCRIPTION:Lördag 3 december 12:00-13:00 står vi mellan galleriorna Spiralen 1 och 2 och delar flygbladen Hjärta välfärd. Kom gärna och delta! \nMan kan också hjälpa till via internetaktivism via denna länk. \nVälkommen!
URL:https://norrkoping.vansterpartiet.se/event/flygbladsutdelning-hjarta-valfard/
CATEGORIES:Alla är välkomna!,Allmän aktivitet
END:VEVENT
BEGIN:VEVENT
DTSTART;TZID=Europe/Stockholm:20161201T180000
DTEND;TZID=Europe/Stockholm:20161201T200000
DTSTAMP:20260420T030749
CREATED:20161025T173831Z
LAST-MODIFIED:20161130T130449Z
UID:11165-1480615200-1480622400@norrkoping.vansterpartiet.se
SUMMARY:Medlemsmöte. Zina Al-Dewany om det amerikanska presidentvalet.
DESCRIPTION:Välkommen på Medlemsmöte torsdagen den 1 december kl.18:00 \nFlammanskribenten Zina Al-Dewany  besöker oss för att prata om det amerikanska presidentvalet. \n  \nMånga av oss är nog fortfarande chockade över utgången och vi har mycket att diskutera. Hur kunde Trump vinna med sin rasism och kvinnohat? Är det verkligen de vita männen som nu slår tillbaka? Hur röstade arbetarklassen egentligen? Vad bör vänstern agera mot den växande högerpopulismen fascismen framöver? \n  \n \nVi kommer också att få en rapport om de rekordstora besparingar som hotar sjukvården i region Östergötland framöver. \nVälkommen!! \n 
URL:https://norrkoping.vansterpartiet.se/event/medlemsmote-13/
CATEGORIES:För medlemmar
END:VEVENT
BEGIN:VEVENT
DTSTART;TZID=Europe/Stockholm:20161126T080000
DTEND;TZID=Europe/Stockholm:20161126T170000
DTSTAMP:20260420T030749
CREATED:20161118T131300Z
LAST-MODIFIED:20161118T131300Z
UID:11218-1480147200-1480179600@norrkoping.vansterpartiet.se
SUMMARY:Flygbladsutdelning i Industrilandskapet
DESCRIPTION:I samband med Julmarknaden delar vi ut flygblad och glögg\, utanför Värmekyrkan i Industrilandskapet. \nVälkommen att delta! \n 
URL:https://norrkoping.vansterpartiet.se/event/flygbladsutdelning-i-industrilandskapet/
CATEGORIES:Alla är välkomna!,Allmän aktivitet
END:VEVENT
BEGIN:VEVENT
DTSTART;TZID=Europe/Stockholm:20161124T180000
DTEND;TZID=Europe/Stockholm:20161124T190000
DTSTAMP:20260420T030749
CREATED:20161118T130208Z
LAST-MODIFIED:20161118T130208Z
UID:11212-1480010400-1480014000@norrkoping.vansterpartiet.se
SUMMARY:Marknad i Klockaretorpet
DESCRIPTION:Den 24 november vid 18:00 kommer vi att ha bokbord under marknaden i Klockaretorpets centrum. \nVälkommen att delta!
URL:https://norrkoping.vansterpartiet.se/event/marknad-i-klockaretorpet/
CATEGORIES:Alla är välkomna!,Allmän aktivitet
END:VEVENT
BEGIN:VEVENT
DTSTART;TZID=Europe/Stockholm:20161116T180000
DTEND;TZID=Europe/Stockholm:20161116T200000
DTSTAMP:20260420T030749
CREATED:20161014T104439Z
LAST-MODIFIED:20161103T194048Z
UID:11130-1479319200-1479326400@norrkoping.vansterpartiet.se
SUMMARY:V-café. Psykisk hälsa. RSMH´s ordförande presenterar förbundet. På ABF.
DESCRIPTION:Öppet möte om psykisk hälsa \nRiksförbundet för Social och Mental hälsas (RSMH) \nordförande Jimmie Trevett berättar om förbundet och om de viktigaste intressepolitiska frågorna. \nDen psykiska ohälsan ökar oroväckande i dagens samhälle. Vad är problemen och vad kan vi som politiskt parti göra åt det? \nOnsdag den 16 november kl.18.00 på \nABF Norrköping Bergslagsgården \nVälkommen!
URL:https://norrkoping.vansterpartiet.se/event/v-cafe-psykiatri-abf/
LOCATION:ABF Norrköping Bergslagsgården\, Västgötegatan 25\, Norrköping
CATEGORIES:Alla är välkomna!,Öppet möte
END:VEVENT
BEGIN:VEVENT
DTSTART;TZID=Europe/Stockholm:20161109T180000
DTEND;TZID=Europe/Stockholm:20161109T200000
DTSTAMP:20260420T030749
CREATED:20161103T193232Z
LAST-MODIFIED:20161107T191540Z
UID:11169-1478714400-1478721600@norrkoping.vansterpartiet.se
SUMMARY:Vänsterskolan: Utbildning om Vänsterpartiets ideologi.
DESCRIPTION:Vänsterpartiet är ett parti med långsiktiga mål om ett socialistiskt\, feministiskt och ett ekologiskt hållbart samhälle. \nVill du veta mer om vad vi menar med det är du välkommen till vår Vänsterskola – ett utbildningstillfälle om vår ideologi och hur vi vill förändra samhället.\nKursen beskriver också hur socialism\, feminism\, antirasism och ekologiska perspektiv går hand i hand och utgör förutsättningar för varandra. \nKursledare är Anders Neergaard\, en profil inom partiet som varit med länge och bland annat varit med och författat vårt partiprogram. \nHär är partiprogrammet! \nVälkommen!
URL:https://norrkoping.vansterpartiet.se/event/vansterskolan-utbildning-om-vansterpartiets-ideologi/
LOCATION:Partilokalen Norrköping\, Trädgårdsgatan 25\, Norrköping
CATEGORIES:För medlemmar och sympatisörer.
END:VEVENT
BEGIN:VEVENT
DTSTART;TZID=Europe/Stockholm:20161102T180000
DTEND;TZID=Europe/Stockholm:20161102T200000
DTSTAMP:20260420T030749
CREATED:20161014T104333Z
LAST-MODIFIED:20161025T172942Z
UID:11128-1478109600-1478116800@norrkoping.vansterpartiet.se
SUMMARY:V-café. "Halvera skillnaden" Malin Östh om jämställdheten i Regionen.
DESCRIPTION:Den 2 november kommer vår ledamot i Regionstyrelsen Malin Östh (Söderköping) på besök. Hon kommer bland annat att berätta om rapporten ”halvera skillnaden” som tar upp de stora skillnaderna i hur mycket manliga och kvinnliga anställda orkar jobba i region Östergötland. Faktum är att Regionen är sämst i Sverige på jämställdhet. Så kan vi ju inte ha det!
URL:https://norrkoping.vansterpartiet.se/event/v-cafe-7/
CATEGORIES:Alla är välkomna!
END:VEVENT
BEGIN:VEVENT
DTSTART;TZID=Europe/Stockholm:20161026T180000
DTEND;TZID=Europe/Stockholm:20161026T200000
DTSTAMP:20260420T030749
CREATED:20161005T110219Z
LAST-MODIFIED:20161025T172627Z
UID:11103-1477504800-1477512000@norrkoping.vansterpartiet.se
SUMMARY:V-café. Möte med Kommunal.
DESCRIPTION:Välkommen till ett möte om välfärden med Kommunal! \nUlrika Lundgren (Fackligt/politisk ombudsman Kommunal Avdelning Öst) och Jessica Almroth (Fackligt/politisk ansvarig Kommunal Norrköping) kommer till partilokalen för att prata om sin verksamhet och välfärdsfrågor. Det kommer säkerligen också att bli en hel del diskussion kring privatiseringar och LOV. \nDet kommer bli föreläsning\, fika och frågestund. Temat är välfärd. \nSe till att bjuda in era vänner som är intresserade av välfärdsfrågor och alldeles särskilt medlemmar i Kommunal. \nDatum: Onsdag 26/10\nTid: 18-20\nPlats: Partilokalen\, Trädgårdsgatan 25 Norrköping.
URL:https://norrkoping.vansterpartiet.se/event/v-cafe-6/
CATEGORIES:Alla är välkomna!,Öppet möte
END:VEVENT
BEGIN:VEVENT
DTSTART;TZID=Europe/Stockholm:20161022T120000
DTEND;TZID=Europe/Stockholm:20161022T130000
DTSTAMP:20260420T030749
CREATED:20161014T104252Z
LAST-MODIFIED:20161014T104252Z
UID:11126-1477137600-1477141200@norrkoping.vansterpartiet.se
SUMMARY:Flygbladsutdelning
DESCRIPTION:
URL:https://norrkoping.vansterpartiet.se/event/flygbladsutdelning-5/
CATEGORIES:Alla är välkomna!
END:VEVENT
BEGIN:VEVENT
DTSTART;TZID=Europe/Stockholm:20161022T080000
DTEND;TZID=Europe/Stockholm:20161022T170000
DTSTAMP:20260420T030749
CREATED:20161005T110135Z
LAST-MODIFIED:20161005T110135Z
UID:11099-1477123200-1477155600@norrkoping.vansterpartiet.se
SUMMARY:Rådslag för asylrätt
DESCRIPTION:Asylgruppen Norrköping och Folkkampanj för Asylrätt \nbjuder in till två dagar om flyktingpolitik och asylrätt \n22-23 oktober på Arbetets museum. \nPå lördagen blir det flyktingpolitiskt seminarium om vad som händer nu när Sverige valt att lägga sig på EU:s miniminivå i flyktingpolitiken. Under söndagen håller gruppen bakom Folkkampanj för asylrätt ett nationellt rådslag om asylrätt. Vi samlar asylsökande\, aktivister och organisationer för att tillsammans diskutera hur kampen för en mänsklig asylpolitik kan fortsätta.\nAnmälan  på: flyktinghelg2016@gmail.com. \nMer information:\nhttps://www.facebook.com/folkkampanjforasylrattnorrkoping/
URL:https://norrkoping.vansterpartiet.se/event/radslag-for-asylratt/
LOCATION:Arbetets Museum\, Laxholmen \, Norrköping 
CATEGORIES:Allmän aktivitet
END:VEVENT
BEGIN:VEVENT
DTSTART;TZID=Europe/Stockholm:20161019T180000
DTEND;TZID=Europe/Stockholm:20161019T200000
DTSTAMP:20260420T030749
CREATED:20161014T104055Z
LAST-MODIFIED:20161014T104055Z
UID:11124-1476900000-1476907200@norrkoping.vansterpartiet.se
SUMMARY:Vänsterskola
DESCRIPTION:
URL:https://norrkoping.vansterpartiet.se/event/vansterskola/
LOCATION:Partilokalen Norrköping\, Trädgårdsgatan 25\, Norrköping
CATEGORIES:För medlemmar
END:VEVENT
BEGIN:VEVENT
DTSTART;TZID=Europe/Stockholm:20161012T180000
DTEND;TZID=Europe/Stockholm:20161012T200000
DTSTAMP:20260420T030749
CREATED:20161005T105718Z
LAST-MODIFIED:20161005T105718Z
UID:11097-1476295200-1476302400@norrkoping.vansterpartiet.se
SUMMARY:Medlemsmöte - Budgeten
DESCRIPTION:Den 12 oktober är det dags för medlemsmöte igen. \nDiskussionen kommer främst att handla om Vänsterpartiets kommunbudget som fullmäktigegruppen jobbar med just nu. Sedan kommer vi givetvis också att ge de senaste nyheterna om vad som händer med partilokalen framöver. \nVälkommen!
URL:https://norrkoping.vansterpartiet.se/event/medlemsmote-budgeten/
LOCATION:Partilokalen Norrköping\, Trädgårdsgatan 25\, Norrköping
CATEGORIES:För medlemmar
END:VEVENT
BEGIN:VEVENT
DTSTART;TZID=Europe/Stockholm:20161005T180000
DTEND;TZID=Europe/Stockholm:20161005T200000
DTSTAMP:20260420T030749
CREATED:20160901T180350Z
LAST-MODIFIED:20161005T105750Z
UID:11042-1475690400-1475697600@norrkoping.vansterpartiet.se
SUMMARY:V-café/Öppet möte - Hur skapar vi en jämlik skola? OBS! på ABF Bergslagsgården.
DESCRIPTION:Vänsterpartiet bjuder in till öppet möte för att diskutera de ojämlika villkor som möter elever och personal i svensk skola. \nInbjudna gäster är Miia Austa från Lärarnas Riksförbund samt Sten Svensson från Tankesmedjan Katalys. Bägge organisationerna har nyligen släppt rapporter om hur vi kan skapa en jämlikare skola. \nOnsdag den 5 oktober kl 18.00 på ABF\, Skvallertorget. \nSjälvklart bjuder vi på fika. \nVälkomna!
URL:https://norrkoping.vansterpartiet.se/event/v-cafe-4/
LOCATION:ABF Norrköping Bergslagsgården\, Västgötegatan 25\, Norrköping
CATEGORIES:Alla är välkomna!,Öppet möte
ATTACH;FMTTYPE=image/jpeg:https://norrkoping.vansterpartiet.se/files/2016/09/visn-ojämlika-villkor-öppet-möte-5-okt.jpg
END:VEVENT
BEGIN:VEVENT
DTSTART;TZID=Europe/Stockholm:20160921T180000
DTEND;TZID=Europe/Stockholm:20160921T200000
DTSTAMP:20260420T030749
CREATED:20160911T155220Z
LAST-MODIFIED:20160911T155220Z
UID:11069-1474480800-1474488000@norrkoping.vansterpartiet.se
SUMMARY:V-café. Nya/nygamla medlemmar.
DESCRIPTION:Är du ganska ny eller har du hittills inte har varit så aktiv i partiet ? \nNu vill vi bjuda in dig till en träff den 21 september 18:00. \nVi kommer att berätta om hur kommunpolitiken och partiet fungerar\, och säkert blir det en del skvaller om kommunens övriga partier också. Främst vill vi dock träffa dig och höra om dina erfarenheter och tankar om politiken. \nVarmt välkommen!
URL:https://norrkoping.vansterpartiet.se/event/v-cafe-nyanygamla-medlemmar/
CATEGORIES:Öppet möte
END:VEVENT
BEGIN:VEVENT
DTSTART;TZID=Europe/Stockholm:20160920T180000
DTEND;TZID=Europe/Stockholm:20160920T200000
DTSTAMP:20260420T030749
CREATED:20160901T180208Z
LAST-MODIFIED:20160911T155411Z
UID:11041-1474394400-1474401600@norrkoping.vansterpartiet.se
SUMMARY:Medlemsmöte. Webbsänt tal av Jonas Sjöstedt
DESCRIPTION:Tisdag 20 september håller Vänsterpartiet en livesändning där Jonas Sjöstedt kommer tala. Det blir en presentation av det aktuella politiska läget\, budgetsamarbetet och dessutom om hur vi ska utveckla partiets politik för att nå många fler väljare och medlemmar.  \nObservera att enda chansen att se talet är att komma till partilokalen\, det går inte att se i efterhand! \n \nPå detta extra medlemsmöte kommer vi också att ge medlemmarna den senaste informationen om partilokalens framtid innan sändningen börjar.  \nVi samlas 18:00 i partilokalen för att diskutera. Det blir en politiskt späckad kväll i partikamraters sällskap.  \nVi bjuder som vanligt på fika.  \nVälkommen!
URL:https://norrkoping.vansterpartiet.se/event/medlemsmote-webbsant-tal-av-jonas-sjostedt/
CATEGORIES:För medlemmar
END:VEVENT
BEGIN:VEVENT
DTSTART;TZID=Europe/Stockholm:20160917T110000
DTEND;TZID=Europe/Stockholm:20160917T150000
DTSTAMP:20260420T030749
CREATED:20160901T180038Z
LAST-MODIFIED:20160901T180038Z
UID:11040-1474110000-1474124400@norrkoping.vansterpartiet.se
SUMMARY:Marknad Klockaretorpet
DESCRIPTION:
URL:https://norrkoping.vansterpartiet.se/event/marknad-klockaretorpet/
CATEGORIES:Allmän aktivitet
END:VEVENT
END:VCALENDAR