BEGIN:VCALENDAR
VERSION:2.0
PRODID:-//Vänsterpartiet Norrköping - ECPv6.15.17.1//NONSGML v1.0//EN
CALSCALE:GREGORIAN
METHOD:PUBLISH
X-WR-CALNAME:Vänsterpartiet Norrköping
X-ORIGINAL-URL:https://norrkoping.vansterpartiet.se
X-WR-CALDESC:Händelser för Vänsterpartiet Norrköping
REFRESH-INTERVAL;VALUE=DURATION:PT1H
X-Robots-Tag:noindex
X-PUBLISHED-TTL:PT1H
BEGIN:VTIMEZONE
TZID:Europe/Stockholm
BEGIN:DAYLIGHT
TZOFFSETFROM:+0100
TZOFFSETTO:+0200
TZNAME:CEST
DTSTART:20140330T010000
END:DAYLIGHT
BEGIN:STANDARD
TZOFFSETFROM:+0200
TZOFFSETTO:+0100
TZNAME:CET
DTSTART:20141026T010000
END:STANDARD
BEGIN:DAYLIGHT
TZOFFSETFROM:+0100
TZOFFSETTO:+0200
TZNAME:CEST
DTSTART:20150329T010000
END:DAYLIGHT
BEGIN:STANDARD
TZOFFSETFROM:+0200
TZOFFSETTO:+0100
TZNAME:CET
DTSTART:20151025T010000
END:STANDARD
BEGIN:DAYLIGHT
TZOFFSETFROM:+0100
TZOFFSETTO:+0200
TZNAME:CEST
DTSTART:20160327T010000
END:DAYLIGHT
BEGIN:STANDARD
TZOFFSETFROM:+0200
TZOFFSETTO:+0100
TZNAME:CET
DTSTART:20161030T010000
END:STANDARD
END:VTIMEZONE
BEGIN:VEVENT
DTSTART;TZID=Europe/Stockholm:20150910T180000
DTEND;TZID=Europe/Stockholm:20150910T210000
DTSTAMP:20260420T095100
CREATED:20150907T100548Z
LAST-MODIFIED:20150907T100700Z
UID:9848-1441908000-1441918800@norrkoping.vansterpartiet.se
SUMMARY:Öppet hus. Café. Flyktingsolidaritet. Dag 3.
DESCRIPTION:Öppet i lokalen tre hela dagar\, \nTisdag\, Onsdag och Torsdag\, den 8-10 september. 18.00 – 21.00. \nAlla är välkomna att lyssna på intressanta föredrag och livemusik\, köpa fika och förbereda den stora solidaritetsdemonstrationen nästa vecka. \nAlla intäkter går till fristadsfonden:  https://fristadsfonden.se/ \nTorsdag\nFlyktingsituationen i Europa – Anders Westerlund\, chef på omvärldsenheten\, Migrationsverket 18.00 – 18.40\nBanderollmålning för de som vill 19.00 – 20.00\nMusik – Unity Yard 20.30 -21.00 \nLäs mer här!! \nVälkommen!!
URL:https://norrkoping.vansterpartiet.se/event/oppet-hus-cafe-flyktingsolidaritet-dag-3/
LOCATION:Partilokalen Norrköping\, Trädgårdsgatan 25\, Norrköping
CATEGORIES:Öppet möte
ATTACH;FMTTYPE=image/jpeg:https://norrkoping.vansterpartiet.se/files/2015/09/refugeeswelc.jpg
END:VEVENT
BEGIN:VEVENT
DTSTART;TZID=Europe/Stockholm:20150909T180000
DTEND;TZID=Europe/Stockholm:20150909T210000
DTSTAMP:20260420T095100
CREATED:20150907T100248Z
LAST-MODIFIED:20150907T100911Z
UID:9847-1441821600-1441832400@norrkoping.vansterpartiet.se
SUMMARY:Öppet hus. Café. Flyktingsolidaritet. Dag 2.
DESCRIPTION:Vi har Öppet i lokalen tre hela dagar\, \nTisdag\, Onsdag och Torsdag\, den 8-10 september. 18.00 – 21.00. \nAlla är välkomna att lyssna på intressanta föredrag och livemusik\, köpa fika och förbereda den stora solidaritetsdemonstrationen nästa vecka. \nAlla intäkter går till fristadsfonden:  https://fristadsfonden.se/ \nOnsdag\nFilmvisning – Asylgruppen 18.00 – 19.00\nBanderollmålning för de som vill 19.00 – 20.00\nMusik – Melonkvartetten 20.30 – 21.00 \nLäs mer här! \nVälkommen!! \n 
URL:https://norrkoping.vansterpartiet.se/event/oppet-hus-cafe-flyktingsolidaritet-dag-2/
LOCATION:Partilokalen Norrköping\, Trädgårdsgatan 25\, Norrköping
CATEGORIES:Öppet möte
ATTACH;FMTTYPE=image/jpeg:https://norrkoping.vansterpartiet.se/files/2015/09/refugeeswelc.jpg
END:VEVENT
BEGIN:VEVENT
DTSTART;TZID=Europe/Stockholm:20150908T180000
DTEND;TZID=Europe/Stockholm:20150908T210000
DTSTAMP:20260420T095100
CREATED:20150907T095742Z
LAST-MODIFIED:20150907T100319Z
UID:9846-1441735200-1441746000@norrkoping.vansterpartiet.se
SUMMARY:Öppet hus. Café. Flyktingsolidaritet. Dag 1.
DESCRIPTION:Vi håller Öppet i lokalen tre hela dagar\, \nTisdag\, Onsdag och Torsdag\, den 8-10 september. 18.00 – 21.00. \nAlla är välkomna att lyssna på intressanta föredrag och livemusik\, köpa fika och förbereda den stora solidaritetsdemonstrationen nästa vecka. \nAlla intäkter går till fristadsfonden:  https://fristadsfonden.se/ \nTisdag\nVänsterpartiets flyktingpolitik\, Hanna Cederin\, förbundsordförande Ung Vänster 18.00 – 18.30\nBanderollmålning för de som vill 19.00 – 20.00\nMusik – 20.30 – 21.00 \nLäs mer här! \nVälkommen!!
URL:https://norrkoping.vansterpartiet.se/event/oppet-hus-flyktingsolidaritet-dag-1/
LOCATION:Partilokalen Norrköping\, Trädgårdsgatan 25\, Norrköping
CATEGORIES:Öppet möte
ATTACH;FMTTYPE=image/jpeg:https://norrkoping.vansterpartiet.se/files/2015/09/refugeeswelc.jpg
END:VEVENT
BEGIN:VEVENT
DTSTART;TZID=Europe/Stockholm:20150902T180000
DTEND;TZID=Europe/Stockholm:20150902T200000
DTSTAMP:20260420T095100
CREATED:20150824T115401Z
LAST-MODIFIED:20150901T120944Z
UID:9792-1441216800-1441224000@norrkoping.vansterpartiet.se
SUMMARY:V-café. Toleransprojektet
DESCRIPTION:V-café: \nOnsdag den 2 september kl 18.00 kommer \nRobin Andersson\, projektledare för Toleransprojektet\, \natt hålla ett föredrag om hur kommuner kan arbeta för att bemöta den växande rasismen i samhället. \n  \nUnder flera år på 90-talet etablerade sig nazistiska\, rasistiska och andra intoleranta grupper i bland annat Kungälvs kommun. Mordet på 14-åriga John Hron\, brutalt misshandlad till döds av nynazister\, var kulmen på det eskalerande våldet. Det blev startskottet för Toleransprojektet vars syfte är att motverka och bemöta intolerans i både skolor och övriga samhället. Toleransprojektet har utformat en egen modell som hävdas leda till större tolerans bland ungdomar och minskad rasism i samhället. Det nya nationella institutet om rasism på Göteborgs Universitet kommer bland annat studera Toleransprojektets modell. Vänsterpartiet har därför bjudit in Robin Andersson att berätta om de erfarenheter man har med Toleransprojektet och hur det skulle kunna användas i andra kommuner än Kungälv. \nLäs om Toleransprojektet här! \n \n \nVälkommen!!! \n 
URL:https://norrkoping.vansterpartiet.se/event/v-cafe-toleransprojektet/
LOCATION:Partilokalen Norrköping\, Trädgårdsgatan 25\, Norrköping
CATEGORIES:Öppet möte
ATTACH;FMTTYPE=image/jpeg:https://norrkoping.vansterpartiet.se/files/2015/08/tolerans.jpg
END:VEVENT
BEGIN:VEVENT
DTSTART;TZID=Europe/Stockholm:20150901T180000
DTEND;TZID=Europe/Stockholm:20150901T180000
DTSTAMP:20260420T095100
CREATED:20150824T114905Z
LAST-MODIFIED:20150829T110242Z
UID:9789-1441130400-1441130400@norrkoping.vansterpartiet.se
SUMMARY:CMS studiecirklar börjar
DESCRIPTION:CMS (Centrum för Marxistiska Samhällsstudier) startar upp sina cirklar den 1 september. Lokal som vanligt på ABF Bergslagsgården\, Västgötegatan 25. \nVälkommen!!
URL:https://norrkoping.vansterpartiet.se/event/cms-studiecirklar-borjar/
ATTACH;FMTTYPE=image/jpeg:https://norrkoping.vansterpartiet.se/files/2015/01/visncms.jpg
END:VEVENT
BEGIN:VEVENT
DTSTART;TZID=Europe/Stockholm:20150829T093000
DTEND;TZID=Europe/Stockholm:20150829T120000
DTSTAMP:20260420T095100
CREATED:20150821T185006Z
LAST-MODIFIED:20150821T185055Z
UID:9787-1440840600-1440849600@norrkoping.vansterpartiet.se
SUMMARY:Samtal om Östgötakommissionens rapport. OBS! i Linköping
DESCRIPTION:Den 29 augusti kan man också diskutera\nÖstgötakommissionens rapport\nför jämlik hälsa med partikamrater.\n\nMötet sker på Regionhuset i Linköping och vi får en presentation av rapporten följd av en diskussion om hur den ska tillämpas.\nAnmäl dig till Ricardo på ostergotland@vansterpartiet.se eller sms:a till 0730 78 02 33
URL:https://norrkoping.vansterpartiet.se/event/samtal-om-ostgotakommissionens-rapport/
LOCATION:Regionhuset\, Linköping
CATEGORIES:För medlemmar
END:VEVENT
BEGIN:VEVENT
DTSTART;TZID=Europe/Stockholm:20150828T100000
DTEND;TZID=Europe/Stockholm:20150828T160000
DTSTAMP:20260420T095100
CREATED:20150821T184453Z
LAST-MODIFIED:20150821T184453Z
UID:9786-1440756000-1440777600@norrkoping.vansterpartiet.se
SUMMARY:Marknad i Vilbergen
DESCRIPTION:På fredag 28 augusti kommer vi att finnas på plats på marknaden Vilbergs Marken.\nVi kommer att ha ett bord med försäljning och material i Vilbergen större delen av dagen. Hör gärna av dig om du vill hjälpa till och bemanna bokbordet!
URL:https://norrkoping.vansterpartiet.se/event/marknad-i-vilbergen/
CATEGORIES:Allmän aktivitet,För medlemmar och sympatisörer.
END:VEVENT
BEGIN:VEVENT
DTSTART;TZID=Europe/Stockholm:20150826T180000
DTEND;TZID=Europe/Stockholm:20150826T200000
DTSTAMP:20260420T095100
CREATED:20150702T114622Z
LAST-MODIFIED:20150821T184620Z
UID:9703-1440612000-1440619200@norrkoping.vansterpartiet.se
SUMMARY:Medlemsmöte
DESCRIPTION:Nu på onsdag 26 augusti 18:00 har vi medlemsmöte med bl.a. några valärenden\, rapporter om vad som händer i kommunpolitiken\, diskussion om hur höstens aktiviteter ska se ut och internfeminism.
URL:https://norrkoping.vansterpartiet.se/event/medlemsmote-6/
CATEGORIES:För medlemmar
END:VEVENT
BEGIN:VEVENT
DTSTART;TZID=Europe/Stockholm:20150815T210000
DTEND;TZID=Europe/Stockholm:20150816T000000
DTSTAMP:20260420T095100
CREATED:20150804T120947Z
LAST-MODIFIED:20150812T141615Z
UID:9751-1439672400-1439683200@norrkoping.vansterpartiet.se
SUMMARY:Systerskap - Insamlingsfest för Norrköpings tjejjour.
DESCRIPTION:Vänsterpartiet Norrköping avslutar Augustifesten med en grand slam – en insamlingsfest till Norrköpings tjejjour! \nEn tung feministfest kräver tung musik\, därför leverar vi\nLUNTGATAN GIRLS\nDELIAH\nWAVVULANO WATANO\n+ DJs från KLUBB REPUBLIK \nLördag den 15 augusti  kl. 21.00 i Laxholmskällaren\, Arbetets Museum. \nFörköp på Vaxkupan: 100 kr\nI dörren: 120 kr \nTjejjouren har funnits i Norrköping sedan 2006. Föreningens verksamhet går ut pa att stötta och hjälpa tjejer och unga kvinnor som behover råd\, stöd\, hjälp eller bara någon att prata med. Under åren har föreningens aktiva också haft samtal om bland annat kärlek\, kompisar\, föräldrar\, misshandel\, svartsjuka\, ångest eller tankar om livet. Läs mer om tjejjouren här: https://norrkoping.tjejjouren.se/ \nSå kom ner till Laxholmskällaren\, lyssna på schysst musik med schyssta människor och bidra till ett mer jämställt Norrköping. \nVälkommen!
URL:https://norrkoping.vansterpartiet.se/event/systerskap-insamlingsfest-for-norrkopings-tjejjour/
LOCATION:Laxholmskällaren \, Arbetets Museum\, Norrköping\, Sverige
CATEGORIES:Alla är välkomna!
END:VEVENT
BEGIN:VEVENT
DTSTART;TZID=Europe/Stockholm:20150610T180000
DTEND;TZID=Europe/Stockholm:20150610T200000
DTSTAMP:20260420T095100
CREATED:20150521T100614Z
LAST-MODIFIED:20150603T105113Z
UID:9505-1433959200-1433966400@norrkoping.vansterpartiet.se
SUMMARY:Vänstercafé. Hyresgästföreningen.
DESCRIPTION:Hyresgästföreningen är mycket viktig i svensk bostadspolitik och för att företräda alla hyresgästers intressen. \nHur fungerar Hyresgästföreningen och vad kan vänstern göra för dom? \nOnsdag 10 juni kl.18.00. i partilokalen. \nVÄLKOMMEN!!
URL:https://norrkoping.vansterpartiet.se/event/vanstercafe-hyresgastforeningen/
CATEGORIES:Alla är välkomna!,Öppet möte
END:VEVENT
BEGIN:VEVENT
DTSTART;TZID=Europe/Stockholm:20150606T180000
DTEND;TZID=Europe/Stockholm:20150606T180000
DTSTAMP:20260420T095100
CREATED:20150425T140342Z
LAST-MODIFIED:20150529T181705Z
UID:9362-1433613600-1433613600@norrkoping.vansterpartiet.se
SUMMARY:Sommarfest/Solidaritetsfest för Palestina
DESCRIPTION:  \nI år med solidaritetstema för Palestina! \nVänsterpartiet Norrköping arrangerar en Solidaritetsfest för att samla in pengar till ”Ship to Gaza”. \nJust nu är ”Ship to Gazas” senaste båt på väg från Sverige för att bryta blockaden\, så insamlingen behövs verkligen. \n. \nTorbjörn Björlund berättar om Ship to Gaza\, där han själv varit med. \nPalestinaquiz. \nLivemusik med ”Rönn och Kalk”. \n  \nPartiföreningen står som vanligt för sallad \, bröd och alkoholfri dryck\, men man kan ta med sig annat för att äta\, grilla och dricka. \nVi säljer grillad falafel och bjuder på underhållning och föredrag. \n\nDen 6 juni klockan 18:00 i partilokalen \n  \nVälkommen!!!! \n \n 
URL:https://norrkoping.vansterpartiet.se/event/sommarfest/
LOCATION:Partilokalen
CATEGORIES:Alla är välkomna!,För medlemmar och sympatisörer.
END:VEVENT
BEGIN:VEVENT
DTSTART;TZID=Europe/Stockholm:20150603T180000
DTEND;TZID=Europe/Stockholm:20150603T200000
DTSTAMP:20260420T095100
CREATED:20150425T140310Z
LAST-MODIFIED:20150524T125708Z
UID:9361-1433354400-1433361600@norrkoping.vansterpartiet.se
SUMMARY:Vänstercafé. Kvinno- och Tantjouren i Norrköping.
DESCRIPTION:år 2013 gjordes 27 056 anmälningar av misshandel mot kvinnor över 18 år. I tre av fyra fall var den misstänkte gärningsmannen bekant med kvinnan\, och drygt 45 procent av misshandelsfallen skedde inomhus av en person kvinnan hade en nära relation med. Källa: www.roks.se \nVad säger lagen om mäns våld mot kvinnor? Hur kan vi förklara våldet? Är det bara att bryta upp och lämna honom? \nVänsterpartiet Norrköping har bjudit in Monica Olander och Gunnel Rasmusson för att berätta om sina arbeten i Kvinnojouren och Tantjouren i Norrköping. \nFöredragen är gratis och öppet för alla. \nVälkommen!
URL:https://norrkoping.vansterpartiet.se/event/vanstercafe-2/
CATEGORIES:Öppet möte
END:VEVENT
BEGIN:VEVENT
DTSTART;TZID=Europe/Stockholm:20150528T000000
DTEND;TZID=Europe/Stockholm:20150528T000000
DTSTAMP:20260420T095100
CREATED:20150425T140214Z
LAST-MODIFIED:20150521T095942Z
UID:9360-1432771200-1432771200@norrkoping.vansterpartiet.se
SUMMARY:Vårruset
DESCRIPTION:Vårens stora tjejträff med …\n* tävling\, motion & friskvård – 5 km i egen takt\n* picknickfest & social samvaro\n* gemenskap & trivsel \nCentralbadet är platsen för start\, mål och social samvaro efter loppet. 5 km-banan går via cykelbanor\, parkvägar och gator in till centrala Norrköping och sedan tillbaka till badet där målet är beläget.\nLoppet arrangeras av GoIF Tjalve. \nVänsterpartiet Norrköping deltar med ca 12 löpare. Kom med och hejja fram dom!! Vi ses lite efter kl.19.00 på Drottninggatan vid Rådhuset\, med musik och fanor. \nVälkommen!!! \n\nVid frågor kontakta \nDeniz Tütüncü \nE-post: deniz.tutuncu@vansterpartiet.se \n 
URL:https://norrkoping.vansterpartiet.se/event/varruset/
CATEGORIES:Allmän aktivitet
END:VEVENT
BEGIN:VEVENT
DTSTART;TZID=Europe/Stockholm:20150527T180000
DTEND;TZID=Europe/Stockholm:20150527T200000
DTSTAMP:20260420T095100
CREATED:20150518T103603Z
LAST-MODIFIED:20150518T103603Z
UID:9492-1432749600-1432756800@norrkoping.vansterpartiet.se
SUMMARY:Kan ett land gå i konkurs? Evenemang av Tankesmedjan Brunnen i samarr med bl.a. CMS Norrköping och ABF.
DESCRIPTION:I samarbete med Bona Folkhögskola och ABF Linköping kan vi stolt presentera vårens bästa föreläsning. \nVad finns det för perspektiv och lärdomar att dra från den grekiska statskollapsen och hur har krisen påverkat människorna som lever i den? \nFörfattaren och debattören Kajsa Ekis Ekman föreläser om den ekonomiska krisen med utgångspunkt i Grekland. \nOnsdag 27 maj kl.18.00 \nLinköpings Stadsbibliotek\, Hörsalen. \nÖstgötagatan 5\, Linköping.\nBegränsat antal platser så kom i tid!
URL:https://norrkoping.vansterpartiet.se/event/kan-ett-land-ga-i-konkurs-evenemang-av-tankesmedjan-brunnen-i-samarr-med-bl-a-cms-norrkoping-och-abf/
LOCATION:Stadsbiblioteket i Linköping\, Östgötagatan 5 \, Linköping
CATEGORIES:Öppet möte
END:VEVENT
BEGIN:VEVENT
DTSTART;TZID=Europe/Stockholm:20150522T120000
DTEND;TZID=Europe/Stockholm:20150522T130000
DTSTAMP:20260420T095100
CREATED:20150521T095759Z
LAST-MODIFIED:20150521T095759Z
UID:9504-1432296000-1432299600@norrkoping.vansterpartiet.se
SUMMARY:Flygbladsutdelning! Rädda Träffpunkterna!
DESCRIPTION:Fredag 22 maj har vi flygbladsutdelning för att rädda träffpunkterna.\nVi ses klockan 12:00 i centrum mellan galleriorna spiralen 1 och 2 (utanför Lindex) och håller på cirka en timme.
URL:https://norrkoping.vansterpartiet.se/event/flygbladsutdelning-radda-traffpunkterna/
CATEGORIES:Alla är välkomna!
END:VEVENT
BEGIN:VEVENT
DTSTART;TZID=Europe/Stockholm:20150520T180000
DTEND;TZID=Europe/Stockholm:20150520T200000
DTSTAMP:20260420T095100
CREATED:20150414T131648Z
LAST-MODIFIED:20150518T212907Z
UID:9321-1432144800-1432152000@norrkoping.vansterpartiet.se
SUMMARY:Medlemsmöte
DESCRIPTION:Dagordning inför onsdagens medlemsmöte\n\n\n\n\n\n\n\n\nPå onsdagen den 20 maj har vi medlemsmöte igen. Huvudpunkten blir sannolikt kvartettens förslag om att lägga ner norrköpings alla träffpunkter för våra riktigt gamla kommuninnevånare. Vilken information har kommit fram i nämnderna och i kommunstyrelsen? Hur har Vänsterpartiet agerat och vad ska vi göra framöver?\n\nkl 18.00\nPartilokalen\, Trädgårdsgatan 25\n\nDagordning\n\nVal av mötesordförande\nVal av mötessekreterare\nVal av justerare (talarstatistik)\nFastställande av dagordning\nUtvärdering 1 maj\nDet politiska arbetet – a) information från korridoren\, främst om träffpunkterna b) kort om regionens budget\nStadsdelsansvariga\nInterfeministiskt ansvariga\nPartilokalen\nSommarfest.\nTema Palestina – Ship to Gaza\nTalarstatistik\nMötets avslutande\n\n\n\n\n\n\n\n 
URL:https://norrkoping.vansterpartiet.se/event/medlemsmote-5/
CATEGORIES:För medlemmar
END:VEVENT
BEGIN:VEVENT
DTSTART;TZID=Europe/Stockholm:20150513T180000
DTEND;TZID=Europe/Stockholm:20150513T200000
DTSTAMP:20260420T095100
CREATED:20150414T131602Z
LAST-MODIFIED:20150508T112421Z
UID:9320-1431540000-1431547200@norrkoping.vansterpartiet.se
SUMMARY:Vänstercafé. "Vad händer innanför murarna?" OBS! på ABF Bergslagsgården
DESCRIPTION:Fångaktivisten Jonas Klintberg\, redaktör för internernas egen tidning ”Filen” kommer till Norrköping för att berätta\nom hur fångar behandlas i dagens kriminalvårdssystem och vad som kan göras bättre både innanför murarna och för att det ska gå lättare att komma in i samhället igen. \nOnsdag den 13 maj kl. 18-20 \nPå ABF Bergslagsgården\, OBS! \nLäs mer om Filen här: https://tidningenfilen.se/ \nEvenemanget är öppet för alla. \nVälkommen!
URL:https://norrkoping.vansterpartiet.se/event/vanstercafe/
LOCATION:ABF Norrköping Bergslagsgården\, Västgötegatan 25\, Norrköping
CATEGORIES:Öppet möte
END:VEVENT
BEGIN:VEVENT
DTSTART;TZID=Europe/Stockholm:20150510T110000
DTEND;TZID=Europe/Stockholm:20150510T150000
DTSTAMP:20260420T095100
CREATED:20150508T113800Z
LAST-MODIFIED:20150508T113800Z
UID:9447-1431255600-1431270000@norrkoping.vansterpartiet.se
SUMMARY:Städdag!
DESCRIPTION:På söndag är det städdag på partilokalen från klockan 11:00. \nFlera från styrelsen är med och ju fler vi är desto snyggare lokal får vi! \n  \nVälkommen!!!
URL:https://norrkoping.vansterpartiet.se/event/staddag-2/
LOCATION:Partilokalen
CATEGORIES:För medlemmar
END:VEVENT
BEGIN:VEVENT
DTSTART;TZID=Europe/Stockholm:20150509T120000
DTEND;TZID=Europe/Stockholm:20150509T140000
DTSTAMP:20260420T095100
CREATED:20150508T113214Z
LAST-MODIFIED:20150508T113345Z
UID:9445-1431172800-1431180000@norrkoping.vansterpartiet.se
SUMMARY:Extra insatt flygbladsutdelning. Bl.a. utanför Mirum på lördag.
DESCRIPTION:På lördag kör vi flygbladsutdelningar för att rädda träffpunkterna klockan 12:00 både i Hageby utanför Mirum och i centrum mellan galleriorna spiralen 1 och 2 (utanför Lindex) \nVälkommen att delta!!
URL:https://norrkoping.vansterpartiet.se/event/extra-insatt-flygbladsutdelning-bl-a-utanfor-mirum-pa-lordag/
CATEGORIES:Alla är välkomna!,Allmän aktivitet
END:VEVENT
BEGIN:VEVENT
DTSTART;TZID=Europe/Stockholm:20150502T120000
DTEND;TZID=Europe/Stockholm:20150502T120000
DTSTAMP:20260420T095100
CREATED:20150414T131501Z
LAST-MODIFIED:20150414T131501Z
UID:9318-1430568000-1430568000@norrkoping.vansterpartiet.se
SUMMARY:Prideparad i Norrköping
DESCRIPTION:Kom och visa att du också tycker att alla människor borde bli bemötta med kärlek oavsett vem de är eller vill vara! \nSamling: Gamla busstationen 11.30\nStart: 12.00 \nPrideparaden startar på Rodgagatan (Gamla busstationen) och går via Saltängsbron\, Gamla Rådstugugatan\, Skolgatan\, Dalsgatan\, Nygatan\, Kungsgatan\, Slottsgatan och avslutas till sist med tal vid Hallarna Dynamo. \nParaden är partipolitiskt och religiöst obunden\, detta innebär att det inte är tillåtet med banderoller eller plakat som förespråkar religiösa och partipolitiska budskap.\nSyftet med denna parad är att förmedla kärlek\, jämlikhet\, respekt och gemenskap för alla människor oavsett sexualitet\, könstillhörighet och identitet. Alla människor som kan ställa sig bakom detta är varmt välkomna att delta i vår parad och alla banderoller och plakat som förespråkar dessa budskap får väldigt gärna synas i paraden. Ni får givetvis också hjälpa oss skapa en härlig atmosfär genom att ta med er egna musikspelare om ni har.
URL:https://norrkoping.vansterpartiet.se/event/prideparad-i-norrkoping/
CATEGORIES:Allmän aktivitet
END:VEVENT
BEGIN:VEVENT
DTSTART;TZID=Europe/Stockholm:20150501T200000
DTEND;TZID=Europe/Stockholm:20150501T200000
DTSTAMP:20260420T095100
CREATED:20150414T130637Z
LAST-MODIFIED:20150502T085815Z
UID:9317-1430510400-1430510400@norrkoping.vansterpartiet.se
SUMMARY:1 Maj: Solidaritetsfest med Kobane!
DESCRIPTION:Vänsterpartiet Norrköping presenterar stolt en stor\n\nSolidaritetsfest för folket i Kobane\n\noch vi vill att DU ska komma!\n\nUnder kvällen kommer tyngsta Unity Yard köra\, vi får höra Lex-Sarah och till sist blir det DJ Tjejen Samuelsson. \nVi vill att alla ska komma\, från Marielund till Navestad och därför kör vi frivilligt inträde och ALLA PENGAR GÅR TILL KOBANE. \nOBS! 18-årsgräns! \nDet kommer att finnas både alkohol och alkoholfria alternativ. \n\n\n.\nVälkommen!!
URL:https://norrkoping.vansterpartiet.se/event/1-maj-fest/
LOCATION:Dynamo\, Tunnbindaregatan 37\, Norrköping
CATEGORIES:Alla är välkomna!
END:VEVENT
BEGIN:VEVENT
DTSTART;TZID=Europe/Stockholm:20150501T110000
DTEND;TZID=Europe/Stockholm:20150501T143000
DTSTAMP:20260420T095100
CREATED:20150407T145021Z
LAST-MODIFIED:20150429T102200Z
UID:9304-1430478000-1430490600@norrkoping.vansterpartiet.se
SUMMARY:1 Majfirande
DESCRIPTION: \n\n\n\nTalare på 1 maj är\n\nSven Wernström\,\nMona Olsson\,\nOlof Rosberg (Ung Vänster)\noch Lotta Johnson Fornarve. (v)\n.\nMusiken kommer Tonarvet och Matteus Blad att stå för\n.\n11.00 Samling på partilokalen/ Nya torget\n12.00 Avmarsch demonstrationståg\n12.30 Vasaparken\n12.30 – 14.30 tal och musik\n\n .\nVälkomna!!
URL:https://norrkoping.vansterpartiet.se/event/1-majfirande/
CATEGORIES:Öppet möte
END:VEVENT
BEGIN:VEVENT
DTSTART;TZID=Europe/Stockholm:20150428T160000
DTEND;TZID=Europe/Stockholm:20150428T170000
DTSTAMP:20260420T095100
CREATED:20150407T144817Z
LAST-MODIFIED:20150407T144921Z
UID:9303-1430236800-1430240400@norrkoping.vansterpartiet.se
SUMMARY:Flygbladsutdelning
DESCRIPTION:Vi planerar två tillfällen med flygbladsutdelning inför 1 maj.\nDen 25 april klockan 12:00-14:00.\nOch den 28 april mellan 16:00-17:00.
URL:https://norrkoping.vansterpartiet.se/event/flygbladsutdelning-4/
CATEGORIES:För medlemmar och sympatisörer.
END:VEVENT
BEGIN:VEVENT
DTSTART;TZID=Europe/Stockholm:20150425T120000
DTEND;TZID=Europe/Stockholm:20150425T140000
DTSTAMP:20260420T095100
CREATED:20150407T144723Z
LAST-MODIFIED:20150407T144723Z
UID:9302-1429963200-1429970400@norrkoping.vansterpartiet.se
SUMMARY:Flygbladsutdelning
DESCRIPTION:Vi planerar två tillfällen med flygbladsutdelning inför 1 maj.\nDen 25 april klockan 12:00-14:00.\nOch den 28 april mellan 16:00-17:00.
URL:https://norrkoping.vansterpartiet.se/event/flygbladsutdelning-3/
CATEGORIES:För medlemmar och sympatisörer.
END:VEVENT
BEGIN:VEVENT
DTSTART;TZID=Europe/Stockholm:20150422T180000
DTEND;TZID=Europe/Stockholm:20150422T200000
DTSTAMP:20260420T095100
CREATED:20150404T121118Z
LAST-MODIFIED:20150407T145141Z
UID:9300-1429725600-1429732800@norrkoping.vansterpartiet.se
SUMMARY:Vänsterpyssel. Förberedelser inför 1 Maj.
DESCRIPTION:Inför 1 maj kommer vi att ordna två tillfällen då vi förbereder\, plockar fram prylar\, målar banderoller och plakat o.s.v. 15 och 22 april är det som gäller.
URL:https://norrkoping.vansterpartiet.se/event/vansterpyssel-forberedelser-infor-1-maj-2/
CATEGORIES:För medlemmar och sympatisörer.
END:VEVENT
BEGIN:VEVENT
DTSTART;TZID=Europe/Stockholm:20150420T180000
DTEND;TZID=Europe/Stockholm:20150420T200000
DTSTAMP:20260420T095100
CREATED:20150403T092340Z
LAST-MODIFIED:20150410T171428Z
UID:9291-1429552800-1429560000@norrkoping.vansterpartiet.se
SUMMARY:Öppet möte. Ali Esbati. Obs! på ABF
DESCRIPTION:Vår facklig-politiska grupp bjuder in till Öppet möte med Ali Esbati.
URL:https://norrkoping.vansterpartiet.se/event/oppet-mote-ali-esbati-obs-pa-abf/
CATEGORIES:Öppet möte
END:VEVENT
BEGIN:VEVENT
DTSTART;TZID=Europe/Stockholm:20150415T180000
DTEND;TZID=Europe/Stockholm:20150415T200000
DTSTAMP:20260420T095100
CREATED:20150404T120957Z
LAST-MODIFIED:20150404T120957Z
UID:9299-1429120800-1429128000@norrkoping.vansterpartiet.se
SUMMARY:Vänsterpyssel. Förberedelser inför 1 Maj.
DESCRIPTION:
URL:https://norrkoping.vansterpartiet.se/event/vansterpyssel-forberedelser-infor-1-maj/
CATEGORIES:För medlemmar och sympatisörer.
END:VEVENT
BEGIN:VEVENT
DTSTART;TZID=Europe/Stockholm:20150408T180000
DTEND;TZID=Europe/Stockholm:20150408T193000
DTSTAMP:20260420T095100
CREATED:20150226T190054Z
LAST-MODIFIED:20150314T132913Z
UID:9183-1428516000-1428521400@norrkoping.vansterpartiet.se
SUMMARY:V-café. Psykiatrin i Fokus!
DESCRIPTION:Den 8 april bjuder vår sakpolitiska grupp ”Psykiatrin i Fokus” in till ett café där vi diskuterar psykiatrins framtid i Östergötland\, inte minst aktuellt då socialdemokraterna och majoriteten nu vill införa vårdval\, dvs. privatisera\, alltihop.\n\nVi kommer att prata om skillnader mellan vårdvalet och upphandlingar av verksamheter\, och om kraven på lönsamhet inom vården. Det kommer att finnas stort utrymme för samtal och diskussion.\n\nVälkommen!!
URL:https://norrkoping.vansterpartiet.se/event/v-cafe-2/
CATEGORIES:Öppet möte
END:VEVENT
BEGIN:VEVENT
DTSTART;TZID=Europe/Stockholm:20150401T180000
DTEND;TZID=Europe/Stockholm:20150401T193000
DTSTAMP:20260420T095100
CREATED:20150307T151811Z
LAST-MODIFIED:20150307T151811Z
UID:9224-1427911200-1427916600@norrkoping.vansterpartiet.se
SUMMARY:Medlemsmöte
DESCRIPTION:
URL:https://norrkoping.vansterpartiet.se/event/medlemsmote-4/
CATEGORIES:För medlemmar
END:VEVENT
BEGIN:VEVENT
DTSTART;VALUE=DATE:20150321
DTEND;VALUE=DATE:20150322
DTSTAMP:20260420T095100
CREATED:20141219T113648Z
LAST-MODIFIED:20150213T110856Z
UID:8878-1426896000-1426982399@norrkoping.vansterpartiet.se
SUMMARY:Distriktets Årskonferens\, i Mjölby
DESCRIPTION:Distriktsårskonferens i Mjölby
URL:https://norrkoping.vansterpartiet.se/event/dak-i-boxholm/
LOCATION:Namnlös plats\, Boxholm
CATEGORIES:För medlemmar
END:VEVENT
END:VCALENDAR