BEGIN:VCALENDAR
VERSION:2.0
PRODID:-//Vänsterpartiet Norrköping - ECPv6.15.17.1//NONSGML v1.0//EN
CALSCALE:GREGORIAN
METHOD:PUBLISH
X-WR-CALNAME:Vänsterpartiet Norrköping
X-ORIGINAL-URL:https://norrkoping.vansterpartiet.se
X-WR-CALDESC:Händelser för Vänsterpartiet Norrköping
REFRESH-INTERVAL;VALUE=DURATION:PT1H
X-Robots-Tag:noindex
X-PUBLISHED-TTL:PT1H
BEGIN:VTIMEZONE
TZID:Europe/Stockholm
BEGIN:DAYLIGHT
TZOFFSETFROM:+0100
TZOFFSETTO:+0200
TZNAME:CEST
DTSTART:20130331T010000
END:DAYLIGHT
BEGIN:STANDARD
TZOFFSETFROM:+0200
TZOFFSETTO:+0100
TZNAME:CET
DTSTART:20131027T010000
END:STANDARD
BEGIN:DAYLIGHT
TZOFFSETFROM:+0100
TZOFFSETTO:+0200
TZNAME:CEST
DTSTART:20140330T010000
END:DAYLIGHT
BEGIN:STANDARD
TZOFFSETFROM:+0200
TZOFFSETTO:+0100
TZNAME:CET
DTSTART:20141026T010000
END:STANDARD
BEGIN:DAYLIGHT
TZOFFSETFROM:+0100
TZOFFSETTO:+0200
TZNAME:CEST
DTSTART:20150329T010000
END:DAYLIGHT
BEGIN:STANDARD
TZOFFSETFROM:+0200
TZOFFSETTO:+0100
TZNAME:CET
DTSTART:20151025T010000
END:STANDARD
BEGIN:DAYLIGHT
TZOFFSETFROM:+0100
TZOFFSETTO:+0200
TZNAME:CEST
DTSTART:20160327T010000
END:DAYLIGHT
BEGIN:STANDARD
TZOFFSETFROM:+0200
TZOFFSETTO:+0100
TZNAME:CET
DTSTART:20161030T010000
END:STANDARD
END:VTIMEZONE
BEGIN:VEVENT
DTSTART;TZID=Europe/Stockholm:20150501T200000
DTEND;TZID=Europe/Stockholm:20150501T200000
DTSTAMP:20260420T110530
CREATED:20150414T130637Z
LAST-MODIFIED:20150502T085815Z
UID:9317-1430510400-1430510400@norrkoping.vansterpartiet.se
SUMMARY:1 Maj: Solidaritetsfest med Kobane!
DESCRIPTION:Vänsterpartiet Norrköping presenterar stolt en stor\n\nSolidaritetsfest för folket i Kobane\n\noch vi vill att DU ska komma!\n\nUnder kvällen kommer tyngsta Unity Yard köra\, vi får höra Lex-Sarah och till sist blir det DJ Tjejen Samuelsson. \nVi vill att alla ska komma\, från Marielund till Navestad och därför kör vi frivilligt inträde och ALLA PENGAR GÅR TILL KOBANE. \nOBS! 18-årsgräns! \nDet kommer att finnas både alkohol och alkoholfria alternativ. \n\n\n.\nVälkommen!!
URL:https://norrkoping.vansterpartiet.se/event/1-maj-fest/
LOCATION:Dynamo\, Tunnbindaregatan 37\, Norrköping
CATEGORIES:Alla är välkomna!
END:VEVENT
BEGIN:VEVENT
DTSTART;TZID=Europe/Stockholm:20150501T110000
DTEND;TZID=Europe/Stockholm:20150501T143000
DTSTAMP:20260420T110530
CREATED:20150407T145021Z
LAST-MODIFIED:20150429T102200Z
UID:9304-1430478000-1430490600@norrkoping.vansterpartiet.se
SUMMARY:1 Majfirande
DESCRIPTION: \n\n\n\nTalare på 1 maj är\n\nSven Wernström\,\nMona Olsson\,\nOlof Rosberg (Ung Vänster)\noch Lotta Johnson Fornarve. (v)\n.\nMusiken kommer Tonarvet och Matteus Blad att stå för\n.\n11.00 Samling på partilokalen/ Nya torget\n12.00 Avmarsch demonstrationståg\n12.30 Vasaparken\n12.30 – 14.30 tal och musik\n\n .\nVälkomna!!
URL:https://norrkoping.vansterpartiet.se/event/1-majfirande/
CATEGORIES:Öppet möte
END:VEVENT
BEGIN:VEVENT
DTSTART;TZID=Europe/Stockholm:20150428T160000
DTEND;TZID=Europe/Stockholm:20150428T170000
DTSTAMP:20260420T110530
CREATED:20150407T144817Z
LAST-MODIFIED:20150407T144921Z
UID:9303-1430236800-1430240400@norrkoping.vansterpartiet.se
SUMMARY:Flygbladsutdelning
DESCRIPTION:Vi planerar två tillfällen med flygbladsutdelning inför 1 maj.\nDen 25 april klockan 12:00-14:00.\nOch den 28 april mellan 16:00-17:00.
URL:https://norrkoping.vansterpartiet.se/event/flygbladsutdelning-4/
CATEGORIES:För medlemmar och sympatisörer.
END:VEVENT
BEGIN:VEVENT
DTSTART;TZID=Europe/Stockholm:20150425T120000
DTEND;TZID=Europe/Stockholm:20150425T140000
DTSTAMP:20260420T110530
CREATED:20150407T144723Z
LAST-MODIFIED:20150407T144723Z
UID:9302-1429963200-1429970400@norrkoping.vansterpartiet.se
SUMMARY:Flygbladsutdelning
DESCRIPTION:Vi planerar två tillfällen med flygbladsutdelning inför 1 maj.\nDen 25 april klockan 12:00-14:00.\nOch den 28 april mellan 16:00-17:00.
URL:https://norrkoping.vansterpartiet.se/event/flygbladsutdelning-3/
CATEGORIES:För medlemmar och sympatisörer.
END:VEVENT
BEGIN:VEVENT
DTSTART;TZID=Europe/Stockholm:20150422T180000
DTEND;TZID=Europe/Stockholm:20150422T200000
DTSTAMP:20260420T110530
CREATED:20150404T121118Z
LAST-MODIFIED:20150407T145141Z
UID:9300-1429725600-1429732800@norrkoping.vansterpartiet.se
SUMMARY:Vänsterpyssel. Förberedelser inför 1 Maj.
DESCRIPTION:Inför 1 maj kommer vi att ordna två tillfällen då vi förbereder\, plockar fram prylar\, målar banderoller och plakat o.s.v. 15 och 22 april är det som gäller.
URL:https://norrkoping.vansterpartiet.se/event/vansterpyssel-forberedelser-infor-1-maj-2/
CATEGORIES:För medlemmar och sympatisörer.
END:VEVENT
BEGIN:VEVENT
DTSTART;TZID=Europe/Stockholm:20150420T180000
DTEND;TZID=Europe/Stockholm:20150420T200000
DTSTAMP:20260420T110530
CREATED:20150403T092340Z
LAST-MODIFIED:20150410T171428Z
UID:9291-1429552800-1429560000@norrkoping.vansterpartiet.se
SUMMARY:Öppet möte. Ali Esbati. Obs! på ABF
DESCRIPTION:Vår facklig-politiska grupp bjuder in till Öppet möte med Ali Esbati.
URL:https://norrkoping.vansterpartiet.se/event/oppet-mote-ali-esbati-obs-pa-abf/
CATEGORIES:Öppet möte
END:VEVENT
BEGIN:VEVENT
DTSTART;TZID=Europe/Stockholm:20150415T180000
DTEND;TZID=Europe/Stockholm:20150415T200000
DTSTAMP:20260420T110530
CREATED:20150404T120957Z
LAST-MODIFIED:20150404T120957Z
UID:9299-1429120800-1429128000@norrkoping.vansterpartiet.se
SUMMARY:Vänsterpyssel. Förberedelser inför 1 Maj.
DESCRIPTION:
URL:https://norrkoping.vansterpartiet.se/event/vansterpyssel-forberedelser-infor-1-maj/
CATEGORIES:För medlemmar och sympatisörer.
END:VEVENT
BEGIN:VEVENT
DTSTART;TZID=Europe/Stockholm:20150408T180000
DTEND;TZID=Europe/Stockholm:20150408T193000
DTSTAMP:20260420T110530
CREATED:20150226T190054Z
LAST-MODIFIED:20150314T132913Z
UID:9183-1428516000-1428521400@norrkoping.vansterpartiet.se
SUMMARY:V-café. Psykiatrin i Fokus!
DESCRIPTION:Den 8 april bjuder vår sakpolitiska grupp ”Psykiatrin i Fokus” in till ett café där vi diskuterar psykiatrins framtid i Östergötland\, inte minst aktuellt då socialdemokraterna och majoriteten nu vill införa vårdval\, dvs. privatisera\, alltihop.\n\nVi kommer att prata om skillnader mellan vårdvalet och upphandlingar av verksamheter\, och om kraven på lönsamhet inom vården. Det kommer att finnas stort utrymme för samtal och diskussion.\n\nVälkommen!!
URL:https://norrkoping.vansterpartiet.se/event/v-cafe-2/
CATEGORIES:Öppet möte
END:VEVENT
BEGIN:VEVENT
DTSTART;TZID=Europe/Stockholm:20150401T180000
DTEND;TZID=Europe/Stockholm:20150401T193000
DTSTAMP:20260420T110530
CREATED:20150307T151811Z
LAST-MODIFIED:20150307T151811Z
UID:9224-1427911200-1427916600@norrkoping.vansterpartiet.se
SUMMARY:Medlemsmöte
DESCRIPTION:
URL:https://norrkoping.vansterpartiet.se/event/medlemsmote-4/
CATEGORIES:För medlemmar
END:VEVENT
BEGIN:VEVENT
DTSTART;VALUE=DATE:20150321
DTEND;VALUE=DATE:20150322
DTSTAMP:20260420T110530
CREATED:20141219T113648Z
LAST-MODIFIED:20150213T110856Z
UID:8878-1426896000-1426982399@norrkoping.vansterpartiet.se
SUMMARY:Distriktets Årskonferens\, i Mjölby
DESCRIPTION:Distriktsårskonferens i Mjölby
URL:https://norrkoping.vansterpartiet.se/event/dak-i-boxholm/
LOCATION:Namnlös plats\, Boxholm
CATEGORIES:För medlemmar
END:VEVENT
BEGIN:VEVENT
DTSTART;TZID=Europe/Stockholm:20150318T180000
DTEND;TZID=Europe/Stockholm:20150318T193000
DTSTAMP:20260420T110530
CREATED:20150226T190014Z
LAST-MODIFIED:20150227T112102Z
UID:9182-1426701600-1426707000@norrkoping.vansterpartiet.se
SUMMARY:V-café. Syrien-Revolutionen\, makten och människorna
DESCRIPTION:”Fyra år efter att det syriska upproret inleddes har 200 000 människor dödats och miljoner drivits på flykten. Varför ledde inte upproret till regimens fall? Vad betyder den regionala maktkampen för utsikterna till demokrati i Syrien? Hur ser vardagen ut för aktivister i städer som befriats ur regimens grepp? Varför blev staden Kobane en symbol för motståndet mot extremisterna i Islamiska staten? Kan landet resa sig ur spillrorna efter ett krig som skördat tiotusentals människoliv och gjort miljoner till flyktingar? Och vad kan omvärlden egentligen göra?” \nNär Vänsterpartiet bjöd in journalisten Joakim Medin att tala om Kobane var det fullsatt\, \nnu bjuder vi in Somar Al-Naher som är en av författarna till den nyutkomna samlingen ”Syrien – Revolutionen\, Makten och Människorna”. \nMissa inte det! \nMer om boken här: www.verbalforlag.se/vara-bocker/syrien/ \nMer om Somar Al-Naher här: \nhttps://www.aftonbladet.se/ledare/ledarkronika/somaralnaher/ \n  \nOnsdag den 18 mars kl.18 i partilokalen \nVälkommen! \n 
URL:https://norrkoping.vansterpartiet.se/event/v-cafe/
CATEGORIES:Öppet möte
END:VEVENT
BEGIN:VEVENT
DTSTART;TZID=Europe/Stockholm:20150308T110000
DTEND;TZID=Europe/Stockholm:20150308T110000
DTSTAMP:20260420T110530
CREATED:20150213T105551Z
LAST-MODIFIED:20150213T110138Z
UID:9097-1425812400-1425812400@norrkoping.vansterpartiet.se
SUMMARY:8 mars. Internationella kvinnodagen.
DESCRIPTION:Fira 8 mars! \n11:00                  Demonstration utgår från Hörsalsparken. Tal av Linda Snecker. \n12:00 – 17:00     Aktiviteter på Arbetets Museum \n 
URL:https://norrkoping.vansterpartiet.se/event/8-mars/
CATEGORIES:Allmän aktivitet
END:VEVENT
BEGIN:VEVENT
DTSTART;TZID=Europe/Stockholm:20150305T180000
DTEND;TZID=Europe/Stockholm:20150305T193000
DTSTAMP:20260420T110530
CREATED:20150213T110454Z
LAST-MODIFIED:20150213T110454Z
UID:9099-1425578400-1425583800@norrkoping.vansterpartiet.se
SUMMARY:Förberedelser inför 8 mars
DESCRIPTION:Annika och Deniz att förbereder inför 8 mars\, bland annat genom att trycka feministiska örngott för försäljning och tillverka demonstrationsplakat. \n  \nKom med och låt kreativiteten flöda\, alla feminister är välkomna att delta! \n  \nDen 5 mars kl 18.00 på partilokalen \nObs – på 2:a våningen! \nVälkommen!!
URL:https://norrkoping.vansterpartiet.se/event/forberedelser-infor-8-mars/
CATEGORIES:För medlemmar och sympatisörer.
END:VEVENT
BEGIN:VEVENT
DTSTART;TZID=Europe/Stockholm:20150302T180000
DTEND;TZID=Europe/Stockholm:20150302T190000
DTSTAMP:20260420T110530
CREATED:20150226T185811Z
LAST-MODIFIED:20150226T185811Z
UID:9181-1425319200-1425322800@norrkoping.vansterpartiet.se
SUMMARY:Antirasistisk demonstration
DESCRIPTION:På måndag 2 mars \nkommer sannolikt den rasistiska och islamofoba organisationen ”Pegida” försöka anordna en demonstration i Linköping.\n\nVi uppmanar de som kan att åka till Linköping och delta i den fredliga motdemonstrationen.\nSamling 18:00 på lilla torget.\nFlera Vänsterpartister kommer att finnas på plats.
URL:https://norrkoping.vansterpartiet.se/event/antirasistisk-demonstration/
CATEGORIES:För medlemmar och sympatisörer.
END:VEVENT
BEGIN:VEVENT
DTSTART;TZID=Europe/Stockholm:20150222T140000
DTEND;TZID=Europe/Stockholm:20150222T180000
DTSTAMP:20260420T110530
CREATED:20150109T141704Z
LAST-MODIFIED:20150109T141704Z
UID:8910-1424613600-1424628000@norrkoping.vansterpartiet.se
SUMMARY:Årsmöte
DESCRIPTION:
URL:https://norrkoping.vansterpartiet.se/event/arsmote-2/
CATEGORIES:För medlemmar
END:VEVENT
BEGIN:VEVENT
DTSTART;TZID=Europe/Stockholm:20150215T103000
DTEND;TZID=Europe/Stockholm:20150215T123000
DTSTAMP:20260420T110530
CREATED:20150123T110440Z
LAST-MODIFIED:20150123T110440Z
UID:9002-1423996200-1424003400@norrkoping.vansterpartiet.se
SUMMARY:Träff med Jonas Sjöstedt\, i Linköping.
DESCRIPTION:Den 15 februari bjuder Vänsterpartiet Östergötland in till en träff med Jonas Sjöstedt. \nInbjudan riktar sig särskilt till nya medlemmar men alla är välkomna. Jonas berättar kort om partiet och vad du som medlem kan göra. \nDu kanske har tagit steget och blivit medlem i Vänsterpartiet – det är väldigt bra. Kanske funderar du fortfarande om det är rätt för dig? Kanske har du redan blivit aktiv i partiföreningen där du bor\, kanske har du inte hunnit det än? Att vara aktiv i vårt parti är utvecklande och på köpet kommer du att få många nya kamrater. \nVi bjuder nu in dig och många av andra nya medlemmar i Östergötland till en träff \nsöndagen den 15 februari\, kl 10.30-12.30 (Kaffe/the och macka finns att tillgå redan från Kl.10.00). \nMötet äger rum på Föreningshuset Fontänen i Linköping\,  \nVästra vägen 32: https://www.fontanen.se/Kontakta-oss.php \nVi har bjudit in Jonas Sjöstedt som kommer berätta lite om varför det är så viktigt att vara medlem och aktiv i Vänsterpartiet. \nAnmäl dig till ostergotland@vansterpartiet.se eller sms:a till 0730 78 02 33.\nVi hoppas att du vill aktivera dig i Vänsterpartiet och tillsammans med oss kämpa för en välfärd att lita på. \nVälkommen!\nRicardo Olivares\, ombudsman Vänsterpartiet Östergötland\nLinda Snecker\, distriktsordförande Vänsterpartiet Östergötland
URL:https://norrkoping.vansterpartiet.se/event/traff-med-jonas-sjostedt-i-linkoping/
LOCATION:Föreningshuset Fontänen\, Västra vägen 32\, Linköping
CATEGORIES:För medlemmar
END:VEVENT
BEGIN:VEVENT
DTSTART;TZID=Europe/Stockholm:20150212T120000
DTEND;TZID=Europe/Stockholm:20150212T133000
DTSTAMP:20260420T110530
CREATED:20141219T113105Z
LAST-MODIFIED:20141219T113149Z
UID:8874-1423742400-1423747800@norrkoping.vansterpartiet.se
SUMMARY:Lunchmöte med Mona och Ricardo
DESCRIPTION:Nya medlemmar hälsas välkomna till lunchmöte\, där Mona Olsson och Ricardo Olivares berättar om partiets arbete. \ntorsdag den 12 februari kl.12.00\, i partilokalen. \nVälkommen!
URL:https://norrkoping.vansterpartiet.se/event/lunchmote-med-mona-o-ricardo/
CATEGORIES:För medlemmar och sympatisörer.
END:VEVENT
BEGIN:VEVENT
DTSTART;TZID=Europe/Stockholm:20150203T180000
DTEND;TZID=Europe/Stockholm:20150203T200000
DTSTAMP:20260420T110530
CREATED:20141219T113304Z
LAST-MODIFIED:20150123T105744Z
UID:8875-1422986400-1422993600@norrkoping.vansterpartiet.se
SUMMARY:V-café. Valet i Grekland. OBS tisdag kl.18.00
DESCRIPTION:Valet i Grekland\, hur gick det för vänstern?\nAnna Herdy\, journalist på Flamman besöker V-caféet och berättar. \nTisdag den 3 februari kl.18.00. \ni partilokalen. \n  \nDet går bra för grekiska vänsterpartiet Syriza. Från att ha varit ett litet parti på några få procent har de vuxit till en folkrörelse. \nSöndag den 25/1 är det val i Grekland och journalisten Anna Herdy på Flamman är på plats och bevakar valet. Den 3/2 kommer hon och berättar om stämningen\, valresultatet och Syrizas kamp för ett Grekland som står självständigt från europeiska banker. \nVälkommen!!
URL:https://norrkoping.vansterpartiet.se/event/valcafe-4/
CATEGORIES:För medlemmar och sympatisörer.
END:VEVENT
BEGIN:VEVENT
DTSTART;TZID=Europe/Stockholm:20150127T183000
DTEND;TZID=Europe/Stockholm:20150127T200000
DTSTAMP:20260420T110530
CREATED:20150117T203959Z
LAST-MODIFIED:20150123T111019Z
UID:8945-1422383400-1422388800@norrkoping.vansterpartiet.se
SUMMARY:Extra medlemsmöte med direktsänt tal av Jonas Sjöstedt. OBS 18:30!
DESCRIPTION:Tisdag 27 januari har vi ett nyinsatt medlemsmöte med ett direktsänt tal av Jonas Sjöstedt.\n\nLiksom tidigare tillfällen så är enda chansen att se talet live på medlemsmötet. Jonas kommer främst att tala om vad decemberöverenskommelsen innebär för Vänsterpartiet samt tankar och strategier inför den kommande mandatperioden.\n\nVi börjar mötet med att Linda berättar mer om vad som händer i riksdagen och PS och diskuterar sedan det nya politiska läget.\n\nNotera att mötet börjar först 18:30 och\nJonas tal sänds 19:30.
URL:https://norrkoping.vansterpartiet.se/event/extra-medlemsmote-med-tal-av-jonas-sjostedt/
CATEGORIES:För medlemmar
END:VEVENT
BEGIN:VEVENT
DTSTART;TZID=Europe/Stockholm:20150124T140000
DTEND;TZID=Europe/Stockholm:20150124T160000
DTSTAMP:20260420T110530
CREATED:20150117T204650Z
LAST-MODIFIED:20150117T204739Z
UID:8946-1422108000-1422115200@norrkoping.vansterpartiet.se
SUMMARY:CMS anordnar: Föreläsning med Åke Kilander. På Bergslagsgården.
DESCRIPTION: Föreläsning med Åke Kilander på temat\n”Kapitalismens globala utveckling på 2000-talet”\nLördag den 24 januari klockan 14:00\npå ABF Norrköping\, Bergslagsgården.\n\nCMS arrangerar\n\nVälkommen!!
URL:https://norrkoping.vansterpartiet.se/event/cms-anordnar-forelasning-med-ake-kilander/
CATEGORIES:Öppet möte
END:VEVENT
BEGIN:VEVENT
DTSTART;TZID=Europe/Stockholm:20150121T180000
DTEND;TZID=Europe/Stockholm:20150121T200000
DTSTAMP:20260420T110530
CREATED:20141219T111048Z
LAST-MODIFIED:20150108T193113Z
UID:8871-1421863200-1421870400@norrkoping.vansterpartiet.se
SUMMARY:Rickard Warlenius . På ABF Bergslagsgården
DESCRIPTION:Om ekologi och ekonomi \n”Samtidigt som den ekologiska marxismen delar den radikala miljörörelsens analys av ekonomisk tillväxt som i grunden ohållbar\, anser den\, till skillnad från exempelvis ekologiska ekonomer\, inte att en stillastående eller rentav krympande kapitalistisk ekonomi är möjlig. Strikt logiskt utmynnar därmed en ekomarxistisk analys i att en hållbar kapitalism är en självmotsägelse.”\nUr Rikard Warlenius inledning i antologin Ekomarxism: Grundtexter \n  \nDoktoranden och journalisten Rikard Warlenius berättar om sin nya antologi och om ekomarxismens grunder. \nFöredraget är öppet för alla och är helt gratis. \nVi fixar vegetarisk fika. \n  \nBergslagsgården\, ABF Norrköping \nVästgötegatan 25 \nVälkommen! \n 
URL:https://norrkoping.vansterpartiet.se/event/rickard-warlenius/
LOCATION:ABF Norrköping Bergslagsgården\, Västgötegatan 25\, Norrköping
CATEGORIES:Öppet möte
END:VEVENT
BEGIN:VEVENT
DTSTART;TZID=Europe/Stockholm:20150117T120000
DTEND;TZID=Europe/Stockholm:20150117T140000
DTSTAMP:20260420T110530
CREATED:20141219T110540Z
LAST-MODIFIED:20150109T141233Z
UID:8870-1421496000-1421503200@norrkoping.vansterpartiet.se
SUMMARY:Flygbladskampanj!
DESCRIPTION:Fygbladskampanj. \nMellan Spiralen 1 och 2. \nVälkommen att delta!!
URL:https://norrkoping.vansterpartiet.se/event/flygbladskampanj/
CATEGORIES:För medlemmar och sympatisörer.
END:VEVENT
BEGIN:VEVENT
DTSTART;TZID=Europe/Stockholm:20141217T180000
DTEND;TZID=Europe/Stockholm:20141217T193000
DTSTAMP:20260420T110530
CREATED:20141023T182743Z
LAST-MODIFIED:20141023T182743Z
UID:8617-1418839200-1418844600@norrkoping.vansterpartiet.se
SUMMARY:Studiecirkel del 2
DESCRIPTION:
URL:https://norrkoping.vansterpartiet.se/event/studiecirkel-del-2/
LOCATION:Partilokalen
CATEGORIES:För medlemmar
END:VEVENT
BEGIN:VEVENT
DTSTART;TZID=Europe/Stockholm:20141212T180000
DTEND;TZID=Europe/Stockholm:20141212T180000
DTSTAMP:20260420T110530
CREATED:20141023T182846Z
LAST-MODIFIED:20141023T182846Z
UID:8619-1418407200-1418407200@norrkoping.vansterpartiet.se
SUMMARY:Julfest
DESCRIPTION:Knytis
URL:https://norrkoping.vansterpartiet.se/event/julfest/
CATEGORIES:För medlemmar och sympatisörer.
END:VEVENT
BEGIN:VEVENT
DTSTART;TZID=Europe/Stockholm:20141210T180000
DTEND;TZID=Europe/Stockholm:20141210T193000
DTSTAMP:20260420T110530
CREATED:20141023T182559Z
LAST-MODIFIED:20141023T182559Z
UID:8616-1418234400-1418239800@norrkoping.vansterpartiet.se
SUMMARY:Medlemsmöte
DESCRIPTION:
URL:https://norrkoping.vansterpartiet.se/event/medlemsmote-3/
LOCATION:partilokalen\, Nelinsgatan 14\, Norrköping
CATEGORIES:För medlemmar
END:VEVENT
BEGIN:VEVENT
DTSTART;TZID=Europe/Stockholm:20141126T180000
DTEND;TZID=Europe/Stockholm:20141126T193000
DTSTAMP:20260420T110531
CREATED:20141023T182445Z
LAST-MODIFIED:20141119T210132Z
UID:8615-1417024800-1417030200@norrkoping.vansterpartiet.se
SUMMARY:Studiecirkel del 1
DESCRIPTION:Den 26 november och den 17 december har vi en\nstudiecirkel\nom vårt partiprogram.\nOrdförande Nicklas Lundström håller i träffarna.\n\n\n\nVi läser till första tillfället fram till sidan 33 och rubriken ”Hållbar utveckling och rättvis fördelning”.\nDet tryckta partiprogrammet finns på partilokalen\, man kan hämta det gratis\, men går också att läsa online på:\nhttps://www.vansterpartiet.se/material/partiprogram\n\nHuvudpunkterna för studiecirkeln är:\n1. Vad tycker du om form och språk?\n2. Finns det områden ni saknar i partiprogrammet och som skulle behöva läggas till\, finns det annat som kan strykas?\n3. Vad håller du inte med om eller skulle vilja ändra på?\n\n\nAnmäl dig gärna till\nVänsterpartiet Norrköping\neller\nNicklas Lundström\n\nVÄLKOMMEN!
URL:https://norrkoping.vansterpartiet.se/event/studiecirkel-del-1/
LOCATION:partilokalen\, Nelinsgatan 14\, Norrköping
CATEGORIES:För medlemmar
END:VEVENT
BEGIN:VEVENT
DTSTART;TZID=Europe/Stockholm:20141124T173000
DTEND;TZID=Europe/Stockholm:20141124T190000
DTSTAMP:20260420T110531
CREATED:20141115T194354Z
LAST-MODIFIED:20141115T194354Z
UID:8717-1416850200-1416855600@norrkoping.vansterpartiet.se
SUMMARY:Träff med PiF! (Psykiatrin i Fokus)
DESCRIPTION:Vi ses och pratar igenom hur vi skall lägga upp arbetet i den sakpolitiska gruppen ”psykiatrin i fokus”. \nI partilokalen kl.17.30. \nVi fixar med fika. \nVÄLKOMMEN!
URL:https://norrkoping.vansterpartiet.se/event/traff-med-pif-psykiatrin-i-fokus/
CATEGORIES:För medl. o sympatisörer
END:VEVENT
BEGIN:VEVENT
DTSTART;VALUE=DATE:20141122
DTEND;VALUE=DATE:20141123
DTSTAMP:20260420T110531
CREATED:20141023T110457Z
LAST-MODIFIED:20141023T110541Z
UID:8606-1416614400-1416700799@norrkoping.vansterpartiet.se
SUMMARY:Flygbladsutdelning utanför Hageby Centrum
DESCRIPTION:
URL:https://norrkoping.vansterpartiet.se/event/flygbladsutdelning-utanfor-hageby-centrum/
CATEGORIES:För medl. o sympatisörer
END:VEVENT
BEGIN:VEVENT
DTSTART;TZID=Europe/Stockholm:20141112T180000
DTEND;TZID=Europe/Stockholm:20141112T193000
DTSTAMP:20260420T110531
CREATED:20141023T110252Z
LAST-MODIFIED:20141023T110252Z
UID:8605-1415815200-1415820600@norrkoping.vansterpartiet.se
SUMMARY:Medlemsmöte
DESCRIPTION:Medlemsmöte\nsom fokuserar på en rejäl valutvärdering. \nVi kommer att ha gruppdiskussioner\, kika på statistik och färdigställa en skriftlig utvärdering. \nVälkommen!!
URL:https://norrkoping.vansterpartiet.se/event/medlemsmote-2/
LOCATION:partilokalen\, Nelinsgatan 14\, Norrköping
CATEGORIES:För medlemmar
END:VEVENT
BEGIN:VEVENT
DTSTART;TZID=Europe/Stockholm:20141108T120000
DTEND;TZID=Europe/Stockholm:20141108T140000
DTSTAMP:20260420T110531
CREATED:20141023T110047Z
LAST-MODIFIED:20141023T110047Z
UID:8603-1415448000-1415455200@norrkoping.vansterpartiet.se
SUMMARY:Flygbladsutdelning och kaffe\, i centrum
DESCRIPTION:Vi bjuder då på kaffe och delar flygblad om våra frågor och om den nya rödblå kvartettens privatiseringspolitik. \nVi håller till mellan galleriorna spiralen 1 och 2 mellan klockan 12:00-14:00. \n  \n 
URL:https://norrkoping.vansterpartiet.se/event/flygbladsutdelning-och-kaffe-i-centrum/
LOCATION:Mellan gamla och nya Spiralen
CATEGORIES:För medl. o sympatisörer
END:VEVENT
END:VCALENDAR