BEGIN:VCALENDAR
VERSION:2.0
PRODID:-//Vänsterpartiet Norrköping - ECPv6.15.17.1//NONSGML v1.0//EN
CALSCALE:GREGORIAN
METHOD:PUBLISH
X-WR-CALNAME:Vänsterpartiet Norrköping
X-ORIGINAL-URL:https://norrkoping.vansterpartiet.se
X-WR-CALDESC:Händelser för Vänsterpartiet Norrköping
REFRESH-INTERVAL;VALUE=DURATION:PT1H
X-Robots-Tag:noindex
X-PUBLISHED-TTL:PT1H
BEGIN:VTIMEZONE
TZID:Europe/Stockholm
BEGIN:DAYLIGHT
TZOFFSETFROM:+0100
TZOFFSETTO:+0200
TZNAME:CEST
DTSTART:20130331T010000
END:DAYLIGHT
BEGIN:STANDARD
TZOFFSETFROM:+0200
TZOFFSETTO:+0100
TZNAME:CET
DTSTART:20131027T010000
END:STANDARD
BEGIN:DAYLIGHT
TZOFFSETFROM:+0100
TZOFFSETTO:+0200
TZNAME:CEST
DTSTART:20140330T010000
END:DAYLIGHT
BEGIN:STANDARD
TZOFFSETFROM:+0200
TZOFFSETTO:+0100
TZNAME:CET
DTSTART:20141026T010000
END:STANDARD
BEGIN:DAYLIGHT
TZOFFSETFROM:+0100
TZOFFSETTO:+0200
TZNAME:CEST
DTSTART:20150329T010000
END:DAYLIGHT
BEGIN:STANDARD
TZOFFSETFROM:+0200
TZOFFSETTO:+0100
TZNAME:CET
DTSTART:20151025T010000
END:STANDARD
BEGIN:DAYLIGHT
TZOFFSETFROM:+0100
TZOFFSETTO:+0200
TZNAME:CEST
DTSTART:20160327T010000
END:DAYLIGHT
BEGIN:STANDARD
TZOFFSETFROM:+0200
TZOFFSETTO:+0100
TZNAME:CET
DTSTART:20161030T010000
END:STANDARD
END:VTIMEZONE
BEGIN:VEVENT
DTSTART;TZID=Europe/Stockholm:20150121T180000
DTEND;TZID=Europe/Stockholm:20150121T200000
DTSTAMP:20260420T123058
CREATED:20141219T111048Z
LAST-MODIFIED:20150108T193113Z
UID:8871-1421863200-1421870400@norrkoping.vansterpartiet.se
SUMMARY:Rickard Warlenius . På ABF Bergslagsgården
DESCRIPTION:Om ekologi och ekonomi \n”Samtidigt som den ekologiska marxismen delar den radikala miljörörelsens analys av ekonomisk tillväxt som i grunden ohållbar\, anser den\, till skillnad från exempelvis ekologiska ekonomer\, inte att en stillastående eller rentav krympande kapitalistisk ekonomi är möjlig. Strikt logiskt utmynnar därmed en ekomarxistisk analys i att en hållbar kapitalism är en självmotsägelse.”\nUr Rikard Warlenius inledning i antologin Ekomarxism: Grundtexter \n  \nDoktoranden och journalisten Rikard Warlenius berättar om sin nya antologi och om ekomarxismens grunder. \nFöredraget är öppet för alla och är helt gratis. \nVi fixar vegetarisk fika. \n  \nBergslagsgården\, ABF Norrköping \nVästgötegatan 25 \nVälkommen! \n 
URL:https://norrkoping.vansterpartiet.se/event/rickard-warlenius/
LOCATION:ABF Norrköping Bergslagsgården\, Västgötegatan 25\, Norrköping
CATEGORIES:Öppet möte
END:VEVENT
BEGIN:VEVENT
DTSTART;TZID=Europe/Stockholm:20150117T120000
DTEND;TZID=Europe/Stockholm:20150117T140000
DTSTAMP:20260420T123058
CREATED:20141219T110540Z
LAST-MODIFIED:20150109T141233Z
UID:8870-1421496000-1421503200@norrkoping.vansterpartiet.se
SUMMARY:Flygbladskampanj!
DESCRIPTION:Fygbladskampanj. \nMellan Spiralen 1 och 2. \nVälkommen att delta!!
URL:https://norrkoping.vansterpartiet.se/event/flygbladskampanj/
CATEGORIES:För medlemmar och sympatisörer.
END:VEVENT
BEGIN:VEVENT
DTSTART;TZID=Europe/Stockholm:20141217T180000
DTEND;TZID=Europe/Stockholm:20141217T193000
DTSTAMP:20260420T123058
CREATED:20141023T182743Z
LAST-MODIFIED:20141023T182743Z
UID:8617-1418839200-1418844600@norrkoping.vansterpartiet.se
SUMMARY:Studiecirkel del 2
DESCRIPTION:
URL:https://norrkoping.vansterpartiet.se/event/studiecirkel-del-2/
LOCATION:Partilokalen
CATEGORIES:För medlemmar
END:VEVENT
BEGIN:VEVENT
DTSTART;TZID=Europe/Stockholm:20141212T180000
DTEND;TZID=Europe/Stockholm:20141212T180000
DTSTAMP:20260420T123058
CREATED:20141023T182846Z
LAST-MODIFIED:20141023T182846Z
UID:8619-1418407200-1418407200@norrkoping.vansterpartiet.se
SUMMARY:Julfest
DESCRIPTION:Knytis
URL:https://norrkoping.vansterpartiet.se/event/julfest/
CATEGORIES:För medlemmar och sympatisörer.
END:VEVENT
BEGIN:VEVENT
DTSTART;TZID=Europe/Stockholm:20141210T180000
DTEND;TZID=Europe/Stockholm:20141210T193000
DTSTAMP:20260420T123058
CREATED:20141023T182559Z
LAST-MODIFIED:20141023T182559Z
UID:8616-1418234400-1418239800@norrkoping.vansterpartiet.se
SUMMARY:Medlemsmöte
DESCRIPTION:
URL:https://norrkoping.vansterpartiet.se/event/medlemsmote-3/
LOCATION:partilokalen\, Nelinsgatan 14\, Norrköping
CATEGORIES:För medlemmar
END:VEVENT
BEGIN:VEVENT
DTSTART;TZID=Europe/Stockholm:20141126T180000
DTEND;TZID=Europe/Stockholm:20141126T193000
DTSTAMP:20260420T123058
CREATED:20141023T182445Z
LAST-MODIFIED:20141119T210132Z
UID:8615-1417024800-1417030200@norrkoping.vansterpartiet.se
SUMMARY:Studiecirkel del 1
DESCRIPTION:Den 26 november och den 17 december har vi en\nstudiecirkel\nom vårt partiprogram.\nOrdförande Nicklas Lundström håller i träffarna.\n\n\n\nVi läser till första tillfället fram till sidan 33 och rubriken ”Hållbar utveckling och rättvis fördelning”.\nDet tryckta partiprogrammet finns på partilokalen\, man kan hämta det gratis\, men går också att läsa online på:\nhttps://www.vansterpartiet.se/material/partiprogram\n\nHuvudpunkterna för studiecirkeln är:\n1. Vad tycker du om form och språk?\n2. Finns det områden ni saknar i partiprogrammet och som skulle behöva läggas till\, finns det annat som kan strykas?\n3. Vad håller du inte med om eller skulle vilja ändra på?\n\n\nAnmäl dig gärna till\nVänsterpartiet Norrköping\neller\nNicklas Lundström\n\nVÄLKOMMEN!
URL:https://norrkoping.vansterpartiet.se/event/studiecirkel-del-1/
LOCATION:partilokalen\, Nelinsgatan 14\, Norrköping
CATEGORIES:För medlemmar
END:VEVENT
BEGIN:VEVENT
DTSTART;TZID=Europe/Stockholm:20141124T173000
DTEND;TZID=Europe/Stockholm:20141124T190000
DTSTAMP:20260420T123058
CREATED:20141115T194354Z
LAST-MODIFIED:20141115T194354Z
UID:8717-1416850200-1416855600@norrkoping.vansterpartiet.se
SUMMARY:Träff med PiF! (Psykiatrin i Fokus)
DESCRIPTION:Vi ses och pratar igenom hur vi skall lägga upp arbetet i den sakpolitiska gruppen ”psykiatrin i fokus”. \nI partilokalen kl.17.30. \nVi fixar med fika. \nVÄLKOMMEN!
URL:https://norrkoping.vansterpartiet.se/event/traff-med-pif-psykiatrin-i-fokus/
CATEGORIES:För medl. o sympatisörer
END:VEVENT
BEGIN:VEVENT
DTSTART;VALUE=DATE:20141122
DTEND;VALUE=DATE:20141123
DTSTAMP:20260420T123058
CREATED:20141023T110457Z
LAST-MODIFIED:20141023T110541Z
UID:8606-1416614400-1416700799@norrkoping.vansterpartiet.se
SUMMARY:Flygbladsutdelning utanför Hageby Centrum
DESCRIPTION:
URL:https://norrkoping.vansterpartiet.se/event/flygbladsutdelning-utanfor-hageby-centrum/
CATEGORIES:För medl. o sympatisörer
END:VEVENT
BEGIN:VEVENT
DTSTART;TZID=Europe/Stockholm:20141112T180000
DTEND;TZID=Europe/Stockholm:20141112T193000
DTSTAMP:20260420T123058
CREATED:20141023T110252Z
LAST-MODIFIED:20141023T110252Z
UID:8605-1415815200-1415820600@norrkoping.vansterpartiet.se
SUMMARY:Medlemsmöte
DESCRIPTION:Medlemsmöte\nsom fokuserar på en rejäl valutvärdering. \nVi kommer att ha gruppdiskussioner\, kika på statistik och färdigställa en skriftlig utvärdering. \nVälkommen!!
URL:https://norrkoping.vansterpartiet.se/event/medlemsmote-2/
LOCATION:partilokalen\, Nelinsgatan 14\, Norrköping
CATEGORIES:För medlemmar
END:VEVENT
BEGIN:VEVENT
DTSTART;TZID=Europe/Stockholm:20141108T120000
DTEND;TZID=Europe/Stockholm:20141108T140000
DTSTAMP:20260420T123058
CREATED:20141023T110047Z
LAST-MODIFIED:20141023T110047Z
UID:8603-1415448000-1415455200@norrkoping.vansterpartiet.se
SUMMARY:Flygbladsutdelning och kaffe\, i centrum
DESCRIPTION:Vi bjuder då på kaffe och delar flygblad om våra frågor och om den nya rödblå kvartettens privatiseringspolitik. \nVi håller till mellan galleriorna spiralen 1 och 2 mellan klockan 12:00-14:00. \n  \n 
URL:https://norrkoping.vansterpartiet.se/event/flygbladsutdelning-och-kaffe-i-centrum/
LOCATION:Mellan gamla och nya Spiralen
CATEGORIES:För medl. o sympatisörer
END:VEVENT
BEGIN:VEVENT
DTSTART;TZID=Europe/Stockholm:20141029T180000
DTEND;TZID=Europe/Stockholm:20141029T193000
DTSTAMP:20260420T123058
CREATED:20141001T102200Z
LAST-MODIFIED:20141023T105640Z
UID:8496-1414605600-1414611000@norrkoping.vansterpartiet.se
SUMMARY:V-café. Politiskt läge i Riksdag och Landsting
DESCRIPTION:Om Vänsterpartiet går i opposition måste det politiska arbetet förändras. \nPå kvällens V-café pratar vi om hur politiskt arbete i opposition kan se ut i Riksdag och i Landsting. \nVår nya riksdagsledamot Linda Snecker kommer och pratar om vad som händer i riksdagen\, budgetförhandlingarna och partiets strategier. Någon från Landstingsgruppen kommer också och berättar om läget och vår oppositionsroll där. \nVälkommen!!!
URL:https://norrkoping.vansterpartiet.se/event/v-cafe-nytank/
CATEGORIES:För medlemmar och sympatisörer.,Öppet möte
END:VEVENT
BEGIN:VEVENT
DTSTART;TZID=Europe/Stockholm:20141023T190000
DTEND;TZID=Europe/Stockholm:20141023T203000
DTSTAMP:20260420T123058
CREATED:20141018T134451Z
LAST-MODIFIED:20141018T134451Z
UID:8570-1414090800-1414096200@norrkoping.vansterpartiet.se
SUMMARY:Miljöpolitiska gruppen träffas
DESCRIPTION:Möte på torsdag den 23 oktober \nDiskussion om  kommande aktiviteter och fokusområden. \nkl.19.00 i partilokalen \nVälkommen!!
URL:https://norrkoping.vansterpartiet.se/event/miljopolitiska-gruppen-traffas/
CATEGORIES:För medlemmar
END:VEVENT
BEGIN:VEVENT
DTSTART;TZID=Europe/Stockholm:20141022T180000
DTEND;TZID=Europe/Stockholm:20141022T193000
DTSTAMP:20260420T123058
CREATED:20141018T111921Z
LAST-MODIFIED:20141018T111921Z
UID:8559-1414000800-1414006200@norrkoping.vansterpartiet.se
SUMMARY:Kobanê. Kampen för frihet
DESCRIPTION:Mitt under det kaotiska Syrien har de norra kurd-dominerade delarna av landet bildat autonoma folkstyren inspirerade av både demokratisk socialism och feminism. Under snart en månad har den autonoma kantonen Kobane i Rojava varit under belägring av brutala och fascistiska miliser\, kallat ISIS. Ändå är lokalbefolkning fast besluten att mot alla odds försvara sig själva\, sina hem\, sin stad och sin nyvunna socialistiska och feministiska autonomi. \nJoakim Medin är en svensk journalist från Uppsala och den sista västerländska reportern som till sist tvingades lämna Kobane. Hör hans historia om det självständiga Rojava\, lokalbefolkningens organisering samt deras heroiska kamp för frihet och överlevnad. \nOnsdagen den 22 oktober \nkl 18.00  \ni Vänsterpartiets lokal\, Trädgårdsgatan 25 \n  \nVi bjuder på kaffe och fika. \n 
URL:https://norrkoping.vansterpartiet.se/event/kobane-kampen-for-frihet/
CATEGORIES:Öppet möte
END:VEVENT
BEGIN:VEVENT
DTSTART;TZID=Europe/Stockholm:20141016T180000
DTEND;TZID=Europe/Stockholm:20141016T193000
DTSTAMP:20260420T123058
CREATED:20140916T101851Z
LAST-MODIFIED:20141007T171823Z
UID:8469-1413482400-1413487800@norrkoping.vansterpartiet.se
SUMMARY:Medlemsmöte. Valärenden.
DESCRIPTION:Medlemsmöte 16 oktober klockan 18:00 på partilokalen. \nTorbjörn Björlund kommer att sitta ordförande på mötet. \nPå mötet avhandlas bl.a. \nInformation och diskussion om valresultat och det parlamentariskt läget. \nVal av politisk sekreterare\nVal av kommunal/oppositionsråd\nVal av ledamöter till kommunstyrelse\n\n.\nVälkommen!!
URL:https://norrkoping.vansterpartiet.se/event/medlemsmote-valarenden/
CATEGORIES:För medlemmar
END:VEVENT
BEGIN:VEVENT
DTSTART;TZID=Europe/Stockholm:20141001T180000
DTEND;TZID=Europe/Stockholm:20141001T193000
DTSTAMP:20260420T123058
CREATED:20140916T101520Z
LAST-MODIFIED:20140916T103044Z
UID:8468-1412186400-1412191800@norrkoping.vansterpartiet.se
SUMMARY:V-café. Nya medlemmar. Information och diskussion.
DESCRIPTION:Nya medlemmar hälsas välkomna till Vänsterpartiet Norrköping. \nMona och Nicklas informerar. \nVälkommen!!
URL:https://norrkoping.vansterpartiet.se/event/v-cafe-nya-medlemmar-information-och-diskussion/
CATEGORIES:För medlemmar och sympatisörer.
END:VEVENT
BEGIN:VEVENT
DTSTART;TZID=Europe/Stockholm:20140917T180000
DTEND;TZID=Europe/Stockholm:20140917T193000
DTSTAMP:20260420T123058
CREATED:20140827T103540Z
LAST-MODIFIED:20140916T102716Z
UID:8229-1410976800-1410982200@norrkoping.vansterpartiet.se
SUMMARY:Medlemsmöte
DESCRIPTION:Nationell utvärdering och diskussion kring valresultatet. \nVi utvärderar samtidigt på lokalt plan\, och styrelsen informerar om läget i Norrköping. \nBeslut måste tas angående partiföreningens inställning till eventuellt fortsatt regeringssamarbete S-V-MP i Norrköping. \nVälkommen!
URL:https://norrkoping.vansterpartiet.se/event/medlemsmote/
CATEGORIES:För medlemmar
END:VEVENT
BEGIN:VEVENT
DTSTART;VALUE=DATE:20140914
DTEND;VALUE=DATE:20140915
DTSTAMP:20260420T123058
CREATED:20140628T183416Z
LAST-MODIFIED:20140811T133029Z
UID:7138-1410652800-1410739199@norrkoping.vansterpartiet.se
SUMMARY:Valdagen
DESCRIPTION:Val till riksdag\, landsting och kommun. \nUtdelning av valsedlar och valvaka.
URL:https://norrkoping.vansterpartiet.se/event/valdagen/
CATEGORIES:Öppet möte
END:VEVENT
BEGIN:VEVENT
DTSTART;TZID=Europe/Stockholm:20140914T000000
DTEND;TZID=Europe/Stockholm:20140914T000000
DTSTAMP:20260420T123058
CREATED:20140827T103452Z
LAST-MODIFIED:20140909T100719Z
UID:8228-1410652800-1410652800@norrkoping.vansterpartiet.se
SUMMARY:Vänsterpartiet Norrköpings valvaka.
DESCRIPTION:Vi har valvaka på restaurang Stars and Stripes\, i Hageby Centrum. (Mirum) \nDär finns mat och dryck till försäljning. \nVi starar kl. 20.00. \nVälkommen!! \n 
URL:https://norrkoping.vansterpartiet.se/event/vansterpartiet-norrkopings-valvaka/
END:VEVENT
BEGIN:VEVENT
DTSTART;TZID=Europe/Stockholm:20140910T180000
DTEND;TZID=Europe/Stockholm:20140910T193000
DTSTAMP:20260420T123058
CREATED:20140811T132953Z
LAST-MODIFIED:20140909T100541Z
UID:8008-1410372000-1410377400@norrkoping.vansterpartiet.se
SUMMARY:Valcafé.
DESCRIPTION:Vi pratar om hur valrörelsen fungerat hittills och om vad som är på gång dom sista dagarna. \nHur har diskussionerna i valstugan gått? \nVälkommen!!!
URL:https://norrkoping.vansterpartiet.se/event/valcafe-3/
END:VEVENT
BEGIN:VEVENT
DTSTART;TZID=Europe/Stockholm:20140910T063000
DTEND;TZID=Europe/Stockholm:20140910T073000
DTSTAMP:20260420T123058
CREATED:20140811T132909Z
LAST-MODIFIED:20140811T132909Z
UID:8007-1410330600-1410334200@norrkoping.vansterpartiet.se
SUMMARY:Flygbladsutdelning. Vrinnevisjukhuset.
DESCRIPTION:Morgonutdelning för morgonpigga! \nVi står utanför Vrinnvisjukhuset 6:30 – 7:30 \nVälkommen att delta!
URL:https://norrkoping.vansterpartiet.se/event/flygbladsutdelning-vrinnevisjukhuset-2/
END:VEVENT
BEGIN:VEVENT
DTSTART;TZID=Europe/Stockholm:20140909T000000
DTEND;TZID=Europe/Stockholm:20140909T000000
DTSTAMP:20260420T123058
CREATED:20140816T180354Z
LAST-MODIFIED:20140827T103251Z
UID:8068-1410220800-1410220800@norrkoping.vansterpartiet.se
SUMMARY:Mäklarskyltskampanj
DESCRIPTION:Vi placerar ut ”mäklarskyltar” ”Inte till salu” vid skolor\, vårdcentraler m.m. \nKom och hjälp till!! \n 
URL:https://norrkoping.vansterpartiet.se/event/maklarskyltskampanj/
END:VEVENT
BEGIN:VEVENT
DTSTART;TZID=Europe/Stockholm:20140906T110000
DTEND;TZID=Europe/Stockholm:20140906T160000
DTSTAMP:20260420T123058
CREATED:20140811T132706Z
LAST-MODIFIED:20140816T180045Z
UID:8006-1410001200-1410019200@norrkoping.vansterpartiet.se
SUMMARY:Valturnén och Jonas Sjöstedt i Norrköping
DESCRIPTION:Musik\, mat och aktiviteter hela eftermiddagen\, när \nVänsterpartiets centrala valturné kommer till Östergötland\, den 5-6 september.\n\n\nValturnén med Mia Sydow Mölleby besöker Linköping fredag den 5 september kl.11-16.30\, trailern kommer att placeras på Gyllentorget. \nLördagen den 6 september är trailern på Hörsalsparken i Norrköping kl.11-16.00\, Jonas Sjöstedt kommer att hålla tal kl.12.00. \nVälkommen!!! \n \n  \n\n 
URL:https://norrkoping.vansterpartiet.se/event/valturnen-och-jonas-sjostedt-i-norrkoping/
END:VEVENT
BEGIN:VEVENT
DTSTART;TZID=Europe/Stockholm:20140903T190000
DTEND;TZID=Europe/Stockholm:20140903T203000
DTSTAMP:20260420T123058
CREATED:20140811T134125Z
LAST-MODIFIED:20140817T120257Z
UID:8009-1409770800-1409776200@norrkoping.vansterpartiet.se
SUMMARY:Antirasism. Föredrag med Anders Nergaard.
DESCRIPTION:Anders Neergard kommer att föreläsa på temat ”Rasism: att exploatera och/eller att utesluta\, och vad är då antirasism” \nMer info nedan. \n19.00  i partilokalen. \nVälkommen!! \nSamarr. med CMS Norrköping
URL:https://norrkoping.vansterpartiet.se/event/antirasism-foredrag-med-anders-nergaard/
END:VEVENT
BEGIN:VEVENT
DTSTART;TZID=Europe/Stockholm:20140903T180000
DTEND;TZID=Europe/Stockholm:20140903T190000
DTSTAMP:20260420T123058
CREATED:20140811T132450Z
LAST-MODIFIED:20140811T134025Z
UID:8005-1409767200-1409770800@norrkoping.vansterpartiet.se
SUMMARY:Valcafé.
DESCRIPTION:
URL:https://norrkoping.vansterpartiet.se/event/valcafe-2/
END:VEVENT
BEGIN:VEVENT
DTSTART;TZID=Europe/Stockholm:20140903T130000
DTEND;TZID=Europe/Stockholm:20140903T150000
DTSTAMP:20260420T123058
CREATED:20140811T132330Z
LAST-MODIFIED:20140811T132330Z
UID:8004-1409749200-1409756400@norrkoping.vansterpartiet.se
SUMMARY:Flygbladsutdelning. Vrinnevisjukhuset.
DESCRIPTION:Utdelning vid Vrinnevisjukhuset \n13:00-15:00 \nVälkommen att vara med!!
URL:https://norrkoping.vansterpartiet.se/event/flygbladsutdelning-vrinnevisjukhuset/
END:VEVENT
BEGIN:VEVENT
DTSTART;TZID=Europe/Stockholm:20140831T133000
DTEND;TZID=Europe/Stockholm:20140831T150000
DTSTAMP:20260420T123058
CREATED:20140827T095429Z
LAST-MODIFIED:20140827T095429Z
UID:8221-1409491800-1409497200@norrkoping.vansterpartiet.se
SUMMARY:Flygbladsutdelning vid Nya Parken!
DESCRIPTION:På söndag den 31 augusti kommer vi att stå utanför IFK-AIK-matchen och dela material. Sedan går de som vill in och ser på matchen.\nVi ses klockan 13:30 vid Gunnar Nordahl-statyn vid klubbhuset.\n\n\nDe första 10 som anmäler sig får en gratis sittplatsbiljett av partiet!\n\nVälkommen!!
URL:https://norrkoping.vansterpartiet.se/event/flygbladsutdelning-vid-nya-parken/
END:VEVENT
BEGIN:VEVENT
DTSTART;TZID=Europe/Stockholm:20140828T190000
DTEND;TZID=Europe/Stockholm:20140828T190000
DTSTAMP:20260420T123058
CREATED:20140704T104937Z
LAST-MODIFIED:20140827T094846Z
UID:7502-1409252400-1409252400@norrkoping.vansterpartiet.se
SUMMARY:Bio i Finspång. "Godheten" av Stefan Jarl
DESCRIPTION:Välkommen till visning av Stefan Jarls film ”Godheten”.  \nVi får se hur girigheten breder ut sig på bekostnad av välfärd för alla. Detta är filmen SVT inte ville visa före valet!  \nDu kan boka on-line via Kulturhuset i Finspång.  \nKom gärna kl. 18.00 för att fika och mingla. \nEvenemang Vänsterpartiet Finspång \n  \nVi ordnar samåkning från lokalen\, en bil med fyra platser åker klockan 17:30 och en bil med tre platser åker klockan 18:00 från partilokalen (Trädgårdsgatan 25). \nÅk med! \n  \n \n 
URL:https://norrkoping.vansterpartiet.se/event/bio-i-finspang-godheten-av-stefan-jarl/
END:VEVENT
BEGIN:VEVENT
DTSTART;TZID=Europe/Stockholm:20140827T180000
DTEND;TZID=Europe/Stockholm:20140827T193000
DTSTAMP:20260420T123058
CREATED:20140704T104709Z
LAST-MODIFIED:20140811T132043Z
UID:7501-1409162400-1409167800@norrkoping.vansterpartiet.se
SUMMARY:Valcafé
DESCRIPTION:Valcafé – valskola om lokalpolitik\n18.00 i partilokalen. \nVälkommen!
URL:https://norrkoping.vansterpartiet.se/event/valcafe/
END:VEVENT
BEGIN:VEVENT
DTSTART;TZID=Europe/Stockholm:20140827T170000
DTEND;TZID=Europe/Stockholm:20140827T180000
DTSTAMP:20260420T123058
CREATED:20140704T104629Z
LAST-MODIFIED:20140704T104629Z
UID:7500-1409158800-1409162400@norrkoping.vansterpartiet.se
SUMMARY:Flygbladsutdelning.
DESCRIPTION:
URL:https://norrkoping.vansterpartiet.se/event/flygbladsutdelning/
END:VEVENT
BEGIN:VEVENT
DTSTART;TZID=Europe/Stockholm:20140823T180000
DTEND;TZID=Europe/Stockholm:20140823T180000
DTSTAMP:20260420T123058
CREATED:20140704T104402Z
LAST-MODIFIED:20140816T174816Z
UID:7498-1408816800-1408816800@norrkoping.vansterpartiet.se
SUMMARY:Distriktets valfest!
DESCRIPTION:Vänsterpartiet Östergötlands valfest \nlördagen den 23 augusti kl 18\nVi grillar\, minglar\, pratar och festar tillsammans i Norrköpings partilokal. Vi bjuder på sallad\, dricka och bröd\, ta med dig gott att grilla till dig själv och om du önskar något mer att dricka.Underhåller gör Finspångsvänstern egna band och  \nDJ:ar gör Déliah Åström.  \nDeniz Tütüncü bjuder på politikquiz och  \nRicardo Olivares Miranda kommer som vanligt att dansa salsa. \nVälkommen till en rolig kväll\, ta med familjen\, partikamraterna och grannen! \n\nönskar Vänsterpartiet Östergötland genom Linda Snecker \n  \nVälkommen!!
URL:https://norrkoping.vansterpartiet.se/event/distriktets-valfest/
END:VEVENT
END:VCALENDAR