BEGIN:VCALENDAR
VERSION:2.0
PRODID:-//Vänsterpartiet Norrköping - ECPv6.15.17.1//NONSGML v1.0//EN
CALSCALE:GREGORIAN
METHOD:PUBLISH
X-ORIGINAL-URL:https://norrkoping.vansterpartiet.se
X-WR-CALDESC:Händelser för Vänsterpartiet Norrköping
REFRESH-INTERVAL;VALUE=DURATION:PT1H
X-Robots-Tag:noindex
X-PUBLISHED-TTL:PT1H
BEGIN:VTIMEZONE
TZID:Europe/Stockholm
BEGIN:DAYLIGHT
TZOFFSETFROM:+0100
TZOFFSETTO:+0200
TZNAME:CEST
DTSTART:20200329T010000
END:DAYLIGHT
BEGIN:STANDARD
TZOFFSETFROM:+0200
TZOFFSETTO:+0100
TZNAME:CET
DTSTART:20201025T010000
END:STANDARD
BEGIN:DAYLIGHT
TZOFFSETFROM:+0100
TZOFFSETTO:+0200
TZNAME:CEST
DTSTART:20210328T010000
END:DAYLIGHT
BEGIN:STANDARD
TZOFFSETFROM:+0200
TZOFFSETTO:+0100
TZNAME:CET
DTSTART:20211031T010000
END:STANDARD
BEGIN:DAYLIGHT
TZOFFSETFROM:+0100
TZOFFSETTO:+0200
TZNAME:CEST
DTSTART:20220327T010000
END:DAYLIGHT
BEGIN:STANDARD
TZOFFSETFROM:+0200
TZOFFSETTO:+0100
TZNAME:CET
DTSTART:20221030T010000
END:STANDARD
BEGIN:DAYLIGHT
TZOFFSETFROM:+0100
TZOFFSETTO:+0200
TZNAME:CEST
DTSTART:20230326T010000
END:DAYLIGHT
BEGIN:STANDARD
TZOFFSETFROM:+0200
TZOFFSETTO:+0100
TZNAME:CET
DTSTART:20231029T010000
END:STANDARD
END:VTIMEZONE
BEGIN:VEVENT
DTSTART;TZID=Europe/Stockholm:20220725T160000
DTEND;TZID=Europe/Stockholm:20220725T170000
DTSTAMP:20260419T183846
CREATED:20220708T151126Z
LAST-MODIFIED:20220708T151126Z
UID:16250-1658764800-1658768400@norrkoping.vansterpartiet.se
SUMMARY:Flygbladsutdelning i centrum
DESCRIPTION:Vi träffas och delar ut flygblad \nmellan Spiralen 1-2 kl. 16:00
URL:https://norrkoping.vansterpartiet.se/event/flygbladsutdelning-i-centrum-2/
END:VEVENT
BEGIN:VEVENT
DTSTART;TZID=Europe/Stockholm:20220720T160000
DTEND;TZID=Europe/Stockholm:20220720T170000
DTSTAMP:20260419T183846
CREATED:20220708T151000Z
LAST-MODIFIED:20220708T151000Z
UID:16248-1658332800-1658336400@norrkoping.vansterpartiet.se
SUMMARY:Flygbladsutdelning vid Mirum
DESCRIPTION:Vi träffas och delar ut flygblad vid Mirum \n16.00\nVid entrén mot parkeringen.
URL:https://norrkoping.vansterpartiet.se/event/flygbladsutdelning-vid-mirum/
END:VEVENT
BEGIN:VEVENT
DTSTART;TZID=Europe/Stockholm:20220711T160000
DTEND;TZID=Europe/Stockholm:20220711T180000
DTSTAMP:20260419T183846
CREATED:20220708T150749Z
LAST-MODIFIED:20220708T150749Z
UID:16246-1657555200-1657562400@norrkoping.vansterpartiet.se
SUMMARY:Minigolf och fika
DESCRIPTION:  \n11 juli kl.16:00 anordnar vi minigolf i Vrinnevi på Tjalves anläggning. Ett utmärkt sätt att träffas\, umgås och fika under avslappnade former! \nAdressen är Sprängstensgatan 20.\nHar du frågor så maila vår ordförande Sara som ansvarar för aktiviteten! \n 
URL:https://norrkoping.vansterpartiet.se/event/minigolf-och-fika/
CATEGORIES:För medlemmar och sympatisörer.
END:VEVENT
BEGIN:VEVENT
DTSTART;TZID=Europe/Stockholm:20220623T120000
DTEND;TZID=Europe/Stockholm:20220623T140000
DTSTAMP:20260419T183846
CREATED:20220612T134505Z
LAST-MODIFIED:20220612T134505Z
UID:16240-1655985600-1655992800@norrkoping.vansterpartiet.se
SUMMARY:Flygbladsutdelning i Hageby
DESCRIPTION:
URL:https://norrkoping.vansterpartiet.se/event/flygbladsutdelning-i-hageby/
CATEGORIES:Allmän aktivitet
END:VEVENT
BEGIN:VEVENT
DTSTART;TZID=Europe/Stockholm:20220616T180000
DTEND;TZID=Europe/Stockholm:20220616T200000
DTSTAMP:20260419T183846
CREATED:20220526T210743Z
LAST-MODIFIED:20220526T210855Z
UID:16198-1655402400-1655409600@norrkoping.vansterpartiet.se
SUMMARY:Medlemsmöte
DESCRIPTION:Den 16 juni har vi medlemsmöte!  \nVi kommer bland annat att diskutera vänsterns förslag för budget för nästa år\, hur förhandlingar efter valet ska skötas samt göra fyllnadsval till Vård- och Omsorgsnämnden och Hyresbostäder AB.  \nBoka in dagen redan nu! 
URL:https://norrkoping.vansterpartiet.se/event/medlemsmote-20/
CATEGORIES:För medlemmar
END:VEVENT
BEGIN:VEVENT
DTSTART;TZID=Europe/Stockholm:20220614T180000
DTEND;TZID=Europe/Stockholm:20220614T200000
DTSTAMP:20260419T183846
CREATED:20220612T134732Z
LAST-MODIFIED:20220612T135200Z
UID:16242-1655229600-1655236800@norrkoping.vansterpartiet.se
SUMMARY:Valskola med Nooshi
DESCRIPTION:För dig som vill bli delaktig i Vänsterpartiets valrörelse. Andra lovar\, vi agerar – men hur? Ladda med kunskap och argument\, fatta strategierna och gör dig redo för att kampanja tillsammans med Nooshi Dadgostar och deltagare från hela landet. \nKvällen riktar sig till alla som vill hjälpa till under valrörelsen\, med eller utan förkunskaper. Just du behövs – varje insats är viktig när vi ska vända utvecklingen från marknadsexperiment till en politik som tar tillbaka kontrollen\, med ansvar för allas trygghet. \nEfter inledning av Nooshi kommer Lisa Claesson\, ledamot av Vänsterpartiets verkställande utskott\, prata strategi och politik\, följt av rörelsebyggande med Hanna Cederin från organisationsenheten. \nAnmäl dig här och delta hemifrån!
URL:https://norrkoping.vansterpartiet.se/event/valskola-med-nooshi/
CATEGORIES:För medlemmar och sympatisörer.
ATTACH;FMTTYPE=image/jpeg:https://norrkoping.vansterpartiet.se/files/2022/06/nooshi-m.fl_.jpg
END:VEVENT
BEGIN:VEVENT
DTSTART;TZID=Europe/Stockholm:20220604T120000
DTEND;TZID=Europe/Stockholm:20220604T130000
DTSTAMP:20260419T183846
CREATED:20220526T210654Z
LAST-MODIFIED:20220526T210654Z
UID:16196-1654344000-1654347600@norrkoping.vansterpartiet.se
SUMMARY:Röd lördag - med flygbladsutdelning
DESCRIPTION:
URL:https://norrkoping.vansterpartiet.se/event/rod-lordag-med-flygbladsutdelning/
CATEGORIES:Allmän aktivitet
END:VEVENT
BEGIN:VEVENT
DTSTART;TZID=Europe/Stockholm:20220528T120000
DTEND;TZID=Europe/Stockholm:20220528T160000
DTSTAMP:20260419T183846
CREATED:20220526T210439Z
LAST-MODIFIED:20220526T210439Z
UID:16194-1653739200-1653753600@norrkoping.vansterpartiet.se
SUMMARY:East Pride Gå i Vänsterns sektion
DESCRIPTION:Självklart kommer Norrköpingsvänstern ha en rejäl sektion i årets pride-demo nu på lördag! Vill du vara med och gå med oss? Bara dyk upp vid stadsbiblioteket på lördag och leta efter flaggor med V-loggan. Sprid vårt FB-event!\nAlla är välkomna!  \n12.00 samling vid Stadsbiblioteket\n13.00 avmarsch\n14.30 tal och musik i Folkparken\nAnmäl er gärna även till ”huvudeventet” för paraden!
URL:https://norrkoping.vansterpartiet.se/event/east-pride-ga-i-vansterns-sektion/
CATEGORIES:Alla är välkomna!,Allmän aktivitet
ATTACH;FMTTYPE=image/jpeg:https://norrkoping.vansterpartiet.se/files/2014/07/prideflagga.jpg
END:VEVENT
BEGIN:VEVENT
DTSTART;TZID=Europe/Stockholm:20220525T180000
DTEND;TZID=Europe/Stockholm:20220525T200000
DTSTAMP:20260419T183846
CREATED:20220508T143131Z
LAST-MODIFIED:20220508T143131Z
UID:16162-1653501600-1653508800@norrkoping.vansterpartiet.se
SUMMARY:Nooshi i Norrköping 25 maj!
DESCRIPTION:Välkommen till en talkshow med vänsterns partiledare på Hörsalen i Norrköping. \nNooshi besöker Norrköping precis under Pride. Klockan 18 börjar mötet och det kommer att bli ett partiledarbesök olikt alla andra. Vi kommer att bjuda på musik och samtal med lokala profiler från bland annat Undersköterskeupproret\, vänstern och pensionärsorganisationer. \nRedan från klockan 15 kommer vänstern att finnas på plats i Hörsalsparken för korvgrillning och samtal. \nVarmt välkommen till en kväll du sent ska glömma! \nNooshi Dadgostar på Hörslaen 18:00
URL:https://norrkoping.vansterpartiet.se/event/nooshi-i-norrkoping-25-maj/
LOCATION:Hörsalen Norrköping\, Drottninggatan 48\, Norrköping
CATEGORIES:Allmän aktivitet,Öppet möte
ATTACH;FMTTYPE=image/jpeg:https://norrkoping.vansterpartiet.se/files/2022/05/Nooshi-affisch.jpg
END:VEVENT
BEGIN:VEVENT
DTSTART;TZID=Europe/Stockholm:20220509T180000
DTEND;TZID=Europe/Stockholm:20220509T200000
DTSTAMP:20260419T183846
CREATED:20220425T164557Z
LAST-MODIFIED:20220508T143249Z
UID:16123-1652119200-1652126400@norrkoping.vansterpartiet.se
SUMMARY:Brädspelskväll
DESCRIPTION:På måndag 9 maj har vi brädspelskväll på partilokalen från klockan 18:00. \nVi spelar enkla brädspel\, fikar och snackar politik. Ett utmärkt tillfälle för den som är ny att lära känna oss lite bättre. \nKom förbi och häng med oss!
URL:https://norrkoping.vansterpartiet.se/event/bradspelskvall/
LOCATION:Partilokalen Nelinsgatan 14\, Nelinsgatan 14\, Norrköping\, Sverige
CATEGORIES:För medlemmar och sympatisörer.
END:VEVENT
BEGIN:VEVENT
DTSTART;TZID=Europe/Stockholm:20220504T190000
DTEND;TZID=Europe/Stockholm:20220504T210000
DTSTAMP:20260419T183846
CREATED:20220502T154804Z
LAST-MODIFIED:20220502T155020Z
UID:16141-1651690800-1651698000@norrkoping.vansterpartiet.se
SUMMARY:ETC´s klimatdebatt
DESCRIPTION:ETC:s grundare Johan Ehrenberg gör en turné med ett enkelt program för att lösa klimatkrisen – här och nu.\nFör den stora frågan är just varför vi inte gör det vi faktiskt kan göra redan nu.\nKom och lyssna och fråga ut politiker:\nEva Vikmång (S)\,\nTobias Holmberg (V)\nJan Thilander (MP).\nBoka dina biljetter (gratis) här: https://kund.etc.se/boka-dina-biljetter-till-raddningen\nPlats: Arbetets museum\, Laxholmen\, Norrköping\n\nFrågor om föreställningen? Mejla raddningen@etc.se\nArrangemanget genomförs i samarbete med ABF Norrköping\, Arbetets museum och Jordens Vänner.
URL:https://norrkoping.vansterpartiet.se/event/etcs-klimatdebatt/
LOCATION:Arbetets Museum\, Laxholmen \, Norrköping 
CATEGORIES:Öppet möte
ATTACH;FMTTYPE=image/jpeg:https://norrkoping.vansterpartiet.se/files/2022/05/etc-raddningen.jpg
END:VEVENT
BEGIN:VEVENT
DTSTART;TZID=Europe/Stockholm:20220503T180000
DTEND;TZID=Europe/Stockholm:20220503T200000
DTSTAMP:20260419T183846
CREATED:20220425T164740Z
LAST-MODIFIED:20220502T154022Z
UID:16125-1651600800-1651608000@norrkoping.vansterpartiet.se
SUMMARY:Vänsterns valrörelse
DESCRIPTION:Sverige och Norrköping behöver en ny och starkare vänster! Tillsammans kan vi bygga en rörelse som tar ansvar för klimatet\, välfärden och jämlikheten. \nKom och delta i ett samtal om Norrköpingsvänstens planer inför valrörelsen. \nVad vill och kan just du kan bidra med i augusti och september? \nBara genom att vara många kan vi vinna! \nVi bjuder på fika och du behöver inte vara medlem för att hänga på. \nTisdag 3 maj klockan 18:00\nABF Bergslagsgården (vid Skvallertorget) \nVälkommen!
URL:https://norrkoping.vansterpartiet.se/event/vansterns-valrorelse/
LOCATION:ABF Norrköping Bergslagsgården\, Västgötegatan 25\, Norrköping
CATEGORIES:För medlemmar och sympatisörer.
ATTACH;FMTTYPE=image/jpeg:https://norrkoping.vansterpartiet.se/files/2022/04/unnamed.jpg
END:VEVENT
BEGIN:VEVENT
DTSTART;VALUE=DATE:20220501
DTEND;VALUE=DATE:20220502
DTSTAMP:20260419T183846
CREATED:20220405T130311Z
LAST-MODIFIED:20220422T180530Z
UID:16072-1651363200-1651449599@norrkoping.vansterpartiet.se
SUMMARY:1 maj
DESCRIPTION:Välkommen att fira internationella arbetardagen med Norrköpingsvänstern! \nÄntligen är pandemirestriktionerna över och vi kan träffas och demonstrera igen. Återigen ska vi såklart se till att arrangera Norrköpings största och roligaste 1 maj!\nÅrets paroll är: ”Allas välfärd”.\nUtan vår gemensamma välfärd står vi oss slätt. Inte minst har pandemin visat hur det kan gå när välfärden privatiseras och säljs ut. Maskorna i nätet måste lagas!\n\n\n\n10.00 – Frukost på ABF vid Skvallertorget\n11.00 – Vi samlas på Skvallertorget (Kungsgatan 41)\n11.30 – Avmarsch mot Vasaparken\n12.00-14.00 – Tal och musik i Vasaparken\nTalare\nRiksdagsledamot Linda Snecker\nGruppledare Nicklas Lundström\nRegiongruppledare Emil Broberg\nUng Vänster.\nUnderhållning\nRrriotsamba Norrköping\, Mjölby Baktaktsorkester\, Louice Ottosson\, Det kommer även finnas matservering i Vasaparken\, samt kaffe\, barnaktiviteter och massa annat skoj. Detta får ni inte missa.\nBjud in alla du känner\, släkt och vänner!\nArrangeras av: Vänsterpartiet\, Ung Vänster\, ABF\, Palestinska Föreningen Norrköping\nÅrets insamling går till UNHCR:s flyktinghjälp I Ukraina. Rysslands anfallskrig har lett till att runt 10 miljoner ukrainare är på flykt. All hjälp behövs!\n\n*  *  * \nVill du vara funktionär på Norrköpings största 1 maj-demonstration? \nVi behöver folk som kör prylar\, ropar slagord\, är demonstrationsvakter\, serverar kaffe och rekryterar valaktivister. \nVi har helt säkert något som just du kan hjälpa till med! \nMaila till: V Norrköping!
URL:https://norrkoping.vansterpartiet.se/event/1-maj-5/
CATEGORIES:Alla är välkomna!,Allmän aktivitet
ATTACH;FMTTYPE=image/jpeg:https://norrkoping.vansterpartiet.se/files/2021/04/1-majfil-visn-bild-klipp-2.jpg
END:VEVENT
BEGIN:VEVENT
DTSTART;TZID=Europe/Stockholm:20220429T123000
DTEND;TZID=Europe/Stockholm:20220429T133000
DTSTAMP:20260419T183846
CREATED:20220422T180308Z
LAST-MODIFIED:20220422T180308Z
UID:16116-1651235400-1651239000@norrkoping.vansterpartiet.se
SUMMARY:Flygbladsutdelning inför 1 maj
DESCRIPTION:Flygbladsutdelning 1 maj\n12:30 mellan spiralen 1-2. \nVälkommen att delta!
URL:https://norrkoping.vansterpartiet.se/event/flygbladsutdelning-infor-1-maj/
CATEGORIES:Allmän aktivitet,För medlemmar och sympatisörer.
END:VEVENT
BEGIN:VEVENT
DTSTART;TZID=Europe/Stockholm:20220428T180000
DTEND;TZID=Europe/Stockholm:20220428T200000
DTSTAMP:20260419T183846
CREATED:20220422T133255Z
LAST-MODIFIED:20220423T145930Z
UID:16104-1651168800-1651176000@norrkoping.vansterpartiet.se
SUMMARY:Medlemsmöte. Livesändning med Nooshi
DESCRIPTION:Nu på torsdag 28 april har vi medlemsmöte på partilokalen på Luntgatan 41! Kom dit och lyssna på Nooshi Dagostars direktsända tal och frågestund. På dagordningen står: \n\nOstlänken och nya resecentrum.\nKommunens tjänstemän kommer och berättar om det nya resecentrum som ska byggas när Ostlänken kommer och de stora planerna för nya stadsdelar runt omkring. Dessutom om hur vi ska ha råd med jätteprojektet.\nNorrköpingsvänsterns valrörelse.\nVi går igenom hur planerna för vår riktigt grymma valrörelse i Norrköping ser ut och tar gärna emot nya kreativa idéer och inspel!\nLive-sändning med Nooshi från 19:00!\nDet kommer också att finnas möjlighet att ställa frågor direkt till Nooshi!\n\n\nVälkommen! 
URL:https://norrkoping.vansterpartiet.se/event/medlemsmote-med-nooshi/
LOCATION:Partilokalen Nelinsgatan 14\, Nelinsgatan 14\, Norrköping\, Sverige
CATEGORIES:För medlemmar
ATTACH;FMTTYPE=image/jpeg:https://norrkoping.vansterpartiet.se/files/2022/04/nooshi-dadgostar.jpg
END:VEVENT
BEGIN:VEVENT
DTSTART;TZID=Europe/Stockholm:20220426T180000
DTEND;TZID=Europe/Stockholm:20220426T200000
DTSTAMP:20260419T183846
CREATED:20220405T125915Z
LAST-MODIFIED:20220409T120729Z
UID:16070-1650996000-1651003200@norrkoping.vansterpartiet.se
SUMMARY:Ryssland och Ukraina för nybörjare\, med Mats Granberg
DESCRIPTION:Norrköpingsvänstern har bjudit in kulturprofilen och tidigare kulturredaktören på NT Mats Granberg till ett samtal om Östeuropa i allmänhet och Rysslands krig mot Ukraina i synnerhet. Alla är välkomna!\nPolitik och litteratur för nybörjare – om Ryssland och Ukraina\, Belarus och Polen.\n2013: Euromajdan startar i Ukraina\, i protest mot den sittande regeringen. 2014: Ryssland invaderar Krim och startar krig i östra Ukraina.\n2015: i det polska valet segrar ett nationalistiskt och konservativt parti.\n2020: Belarus oppositionsrörelse krossas av den diktatoriska regimen.\n2022: Ryssland startar krig mot hela Ukraina.\nAllt detta hänger ihop.\nMats Granberg berättar om det som händer i östra Europa\, och ger exempel på viktiga böcker och betydande författare från dessa länder.\nVälkommen!\n  \nVälkommen! 
URL:https://norrkoping.vansterpartiet.se/event/v-cafe-mats-granberg-pratar-om-ukraina/
LOCATION:ABF Norrköping Bergslagsgården\, Västgötegatan 25\, Norrköping
CATEGORIES:Alla är välkomna!
ATTACH;FMTTYPE=image/jpeg:https://norrkoping.vansterpartiet.se/files/2022/04/mats-granberg-2.jpg
END:VEVENT
BEGIN:VEVENT
DTSTART;TZID=Europe/Stockholm:20220423T100000
DTEND;TZID=Europe/Stockholm:20220423T130000
DTSTAMP:20260419T183846
CREATED:20220405T125621Z
LAST-MODIFIED:20220405T125621Z
UID:16068-1650708000-1650718800@norrkoping.vansterpartiet.se
SUMMARY:Valskola. På ABF Bergslagsgården
DESCRIPTION:Nu kör vi igång Valskolan! \nLördagen den 23 april 10-13 \nVi är på ABF Bergslagsgården \nVälkommen!
URL:https://norrkoping.vansterpartiet.se/event/valskola-pa-abf-bergslagsgarden/
LOCATION:ABF Norrköping Bergslagsgården\, Västgötegatan 25\, Norrköping
CATEGORIES:För medlemmar,För medlemmar och sympatisörer.
ATTACH;FMTTYPE=image/jpeg:https://norrkoping.vansterpartiet.se/files/2021/12/Valrorelsen-2018-scaled.jpg
END:VEVENT
BEGIN:VEVENT
DTSTART;TZID=Europe/Stockholm:20220407T180000
DTEND;TZID=Europe/Stockholm:20220407T200000
DTSTAMP:20260419T183846
CREATED:20220405T125013Z
LAST-MODIFIED:20220405T132003Z
UID:16065-1649354400-1649361600@norrkoping.vansterpartiet.se
SUMMARY:V-Cafè. Ibrahim Moshen om ockupationen av Palestina
DESCRIPTION:Den 7 april har vi vänstercafé om ockupationen av Palestina. \nIbrahim Moshen är en av de mest erfarna palestinaaktivisterna i Norrköping och inleder mötet. Sedan diskuterar vi och om intresset finns kan det också bli en startpunkt för en studiecirkel om frågan! \nVarmt välkommen! – det finns fika! \n  \n 
URL:https://norrkoping.vansterpartiet.se/event/v-cafe-ibrahim-moshen-om-ockupationen-av-palestina/
LOCATION:Partilokalen Nelinsgatan 14\, Nelinsgatan 14\, Norrköping\, Sverige
CATEGORIES:Alla är välkomna!,Öppet möte
ATTACH;FMTTYPE=image/jpeg:https://norrkoping.vansterpartiet.se/files/2022/04/Palestina-manif.jpg
END:VEVENT
BEGIN:VEVENT
DTSTART;TZID=Europe/Stockholm:20211218T110000
DTEND;TZID=Europe/Stockholm:20211218T130000
DTSTAMP:20260419T183846
CREATED:20211207T153635Z
LAST-MODIFIED:20211207T153635Z
UID:16014-1639825200-1639832400@norrkoping.vansterpartiet.se
SUMMARY:Flygbladsutdelning i centrum
DESCRIPTION:Lördagen den 18 december. \nVi delar flygblad\, mellan spiralen-galleriorna kl. 11.00-13.00 \nVälkommen!!
URL:https://norrkoping.vansterpartiet.se/event/flygbladsutdelning-i-centrum/
CATEGORIES:Alla är välkomna!,För medlemmar och sympatisörer.
END:VEVENT
BEGIN:VEVENT
DTSTART;TZID=Europe/Stockholm:20211216T180000
DTEND;TZID=Europe/Stockholm:20211216T200000
DTSTAMP:20260419T183846
CREATED:20211207T153146Z
LAST-MODIFIED:20211207T153340Z
UID:16010-1639677600-1639684800@norrkoping.vansterpartiet.se
SUMMARY:Så blir du kommunpolitiker
DESCRIPTION:Den 16 december ordnar vi ett möte på temat – så blir du kommunpolitiker.  \nHär får du lära dig grunderna i hur kommunen fungerar. Vad det i praktiken innebär att ha ett förtroendeuppdrag för Vänsterpartiet och hur vi förankrar och fattar beslut. Dessutom pratar vi om grunderna i politisk retorik och mediaarbete. Detta är verkligen något för den som kandiderar till fullmäktige eller är intresserad av politiska uppdrag efter valet\, såväl som den som bara är intresserad av hur kommunpolitiken funkar och hur man kan påverka. \nDet börjar kl.18:00 och vi är på ABF Bergslagsgården i Norrköping. \nVarmt välkommen! \nKommunfullmäktigegruppen
URL:https://norrkoping.vansterpartiet.se/event/sa-blir-du-kommunpolitiker/
LOCATION:ABF Norrköping Bergslagsgården\, Västgötegatan 25\, Norrköping
CATEGORIES:För medlemmar och sympatisörer.
END:VEVENT
BEGIN:VEVENT
DTSTART;TZID=Europe/Stockholm:20211207T170000
DTEND;TZID=Europe/Stockholm:20211207T190000
DTSTAMP:20260419T183846
CREATED:20211111T142538Z
LAST-MODIFIED:20211207T152905Z
UID:15980-1638896400-1638903600@norrkoping.vansterpartiet.se
SUMMARY:Öppet möte i Skärblacka!
DESCRIPTION:På tisdag 7 december kl.17-19 ordnar vänstern ett öppet möte på Skärblacka Folkets hus! \nVår gruppledare Nicklas Lundström kommer att berätta kort om vänsterns politik i kommunen med fokus på frågor som berör Skärblacka. Flera vänsterpolitiker från Skärblacka medverkar också på mötet. Självklart är vi mest intresserade av att höra om vad som är de viktigaste frågorna du som Skärblackabo vill att vi ska driva! \nVälkommen!! \n 
URL:https://norrkoping.vansterpartiet.se/event/oppet-mote-i-skarblacka/
LOCATION:Skärblacka
CATEGORIES:Alla är välkomna!,Öppet möte
END:VEVENT
BEGIN:VEVENT
DTSTART;TZID=Europe/Stockholm:20211129T180000
DTEND;TZID=Europe/Stockholm:20211129T200000
DTSTAMP:20260419T183846
CREATED:20211111T142108Z
LAST-MODIFIED:20211111T143007Z
UID:15978-1638208800-1638216000@norrkoping.vansterpartiet.se
SUMMARY:V-café om att förebygga kriminalitet
DESCRIPTION:
URL:https://norrkoping.vansterpartiet.se/event/v-cafe-om-att-forebygga-kriminalitet/
LOCATION:Partilokalen Nelinsgatan 14\, Nelinsgatan 14\, Norrköping\, Sverige
CATEGORIES:Alla är välkomna!,Öppet möte
END:VEVENT
BEGIN:VEVENT
DTSTART;VALUE=DATE:20211127
DTEND;VALUE=DATE:20211128
DTSTAMP:20260419T183846
CREATED:20211002T154019Z
LAST-MODIFIED:20211002T154019Z
UID:15919-1637971200-1638057599@norrkoping.vansterpartiet.se
SUMMARY:Distriktets valkonferens
DESCRIPTION:
URL:https://norrkoping.vansterpartiet.se/event/distriktets-valkonferens/
LOCATION:Linköping
CATEGORIES:För medlemmar
ATTACH;FMTTYPE=image/jpeg:https://norrkoping.vansterpartiet.se/files/2018/03/v-östergötland-konferens-vadstena-2018.jpg
END:VEVENT
BEGIN:VEVENT
DTSTART;TZID=Europe/Stockholm:20211118T180000
DTEND;TZID=Europe/Stockholm:20211118T200000
DTSTAMP:20260419T183846
CREATED:20211023T170011Z
LAST-MODIFIED:20211023T170011Z
UID:15961-1637258400-1637265600@norrkoping.vansterpartiet.se
SUMMARY:Spelkväll
DESCRIPTION:Spelkväll i partilokalen \nMer info kommer
URL:https://norrkoping.vansterpartiet.se/event/spelkvall/
LOCATION:Partilokalen Nelinsgatan 14\, Nelinsgatan 14\, Norrköping\, Sverige
CATEGORIES:För medlemmar och sympatisörer.
END:VEVENT
BEGIN:VEVENT
DTSTART;TZID=Europe/Stockholm:20211020T180000
DTEND;TZID=Europe/Stockholm:20211020T200000
DTSTAMP:20260419T183846
CREATED:20211002T153747Z
LAST-MODIFIED:20211002T153747Z
UID:15916-1634752800-1634760000@norrkoping.vansterpartiet.se
SUMMARY:Medlemsmöte inför valkonferensen
DESCRIPTION:  \nPå detta medlemsmöte den 20 oktober väljer  partiföreningen i Norrköping bl.a. ombud till valkonferensen  i Linköping den 27 november. Nomineringar görs till valberedningen i Norrköping. \nVälkommen till medlemsmötet! \nVal 2022\n\nDet är under hösten 2021 dags att fastställa våra riksdags- och regionlistor inför 2022 års allmänna val. Distriktsstyrelsen har beslutat att detta ska ske på en valkonferens den 27 november 2021 i Linköping.
URL:https://norrkoping.vansterpartiet.se/event/medlemsmote-infor-valkonferensen/
CATEGORIES:För medlemmar
ATTACH;FMTTYPE=image/jpeg:https://norrkoping.vansterpartiet.se/files/2018/10/medlemsmöte-10-okt-2018-översikt.jpg
END:VEVENT
BEGIN:VEVENT
DTSTART;TZID=Europe/Stockholm:20211013T180000
DTEND;TZID=Europe/Stockholm:20211013T200000
DTSTAMP:20260419T183846
CREATED:20211002T152122Z
LAST-MODIFIED:20211002T152122Z
UID:15912-1634148000-1634155200@norrkoping.vansterpartiet.se
SUMMARY:V-café. Samhällsbyggnad
DESCRIPTION:Dags att jobba fram valplattform! \nUnder oktober och november kommer partiföreningen att anordna en rad vänstercaféer där våra lokalpolitiker får berätta om det politikområde dom jobbar med\, vilka frågor vi driver och vad dom ser framöver. Här kommer du som medlem in och kan komma med frågor och synpunkter och framförallt förslag på vilken politik vi ska driva i valrörelsen och genomföra när vi sedan styr kommunen! \nDenna gång vår representant i Samhällsbyggnadsnämnden. \nEfter vänstercaféerna kommer KF-gruppen att arbeta fram förslag som sedan kommer att antas av alla medlemmar på årsmötet i början av 2022. Så se till att göra din röst hörd redan i höst! \nVälkommen!!
URL:https://norrkoping.vansterpartiet.se/event/v-cafe-samhallsbyggnad/
LOCATION:Partilokalen Nelinsgatan 14\, Nelinsgatan 14\, Norrköping\, Sverige
CATEGORIES:Alla är välkomna!,För medlemmar och sympatisörer.,Öppet möte
ATTACH;FMTTYPE=image/png:https://norrkoping.vansterpartiet.se/files/2021/10/Dags-att-jobba-fram-valplattform.png
END:VEVENT
BEGIN:VEVENT
DTSTART;TZID=Europe/Stockholm:20211006T180000
DTEND;TZID=Europe/Stockholm:20211006T200000
DTSTAMP:20260419T183846
CREATED:20211002T150302Z
LAST-MODIFIED:20211002T150428Z
UID:15904-1633543200-1633550400@norrkoping.vansterpartiet.se
SUMMARY:V-café. Regionpolitik
DESCRIPTION:Diskussion om regional valplattform! \nMötet om den regionala valplattformen är framskjutet till 6 oktober. Det handlar om sjukvård men också om kollektivtrafik\, kultur och regional utveckling. Här är din chans att förstå vår regionpolitik\, ställa frågor och komma på saker du vill förändra genom motioner! Vad ska vi gå till val på och vad tycker du är viktigast? Om du får idéer så ordnar vi en särskild motionsskrivarkväll 10 oktober! \nVår gruppledare i regionen Emil Broberg kommer att hålla i mötet. \nHär finns förslaget på valplattform att läsa. \nDetta möte är fysiskt på plats i partilokalen\, men självklart håller vi avstånden noga!  \nVälkommen! \n 
URL:https://norrkoping.vansterpartiet.se/event/v-cafe-regionpolitik/
LOCATION:Partilokalen Nelinsgatan 14\, Nelinsgatan 14\, Norrköping\, Sverige
CATEGORIES:För medlemmar och sympatisörer.,Öppet möte
ATTACH;FMTTYPE=image/jpeg:https://norrkoping.vansterpartiet.se/files/2021/10/Regionpolitiskt-program-2.jpg
END:VEVENT
BEGIN:VEVENT
DTSTART;TZID=Europe/Stockholm:20210608T180000
DTEND;TZID=Europe/Stockholm:20210608T200000
DTSTAMP:20260419T183846
CREATED:20210425T165942Z
LAST-MODIFIED:20210425T165942Z
UID:15740-1623175200-1623182400@norrkoping.vansterpartiet.se
SUMMARY:Medlemsmöte med budget och sommaravslutning
DESCRIPTION:
URL:https://norrkoping.vansterpartiet.se/event/medlemsmote-med-budget-och-sommaravslutning/
CATEGORIES:För medlemmar
END:VEVENT
BEGIN:VEVENT
DTSTART;TZID=Europe/Stockholm:20210501T120000
DTEND;TZID=Europe/Stockholm:20210501T160000
DTSTAMP:20260419T183846
CREATED:20210405T130955Z
LAST-MODIFIED:20210425T170307Z
UID:15693-1619870400-1619884800@norrkoping.vansterpartiet.se
SUMMARY:1 Maj
DESCRIPTION:Tal av Nooshi Dadgostar kl.12:00  \n \nOckså detta år blir 1 maj såklart helt digitalt. Den lokala sändningen kommer att bli lika grym som förra året. \nSändningen kommer att börja 11:00 på vår Facebooksida. Vi har musik från Oxelösundsbandet Dick Lundberg & Solidariteten från andra sidan Bråviken och korta och kärnfulla tal håller: Linda Snecker\, riksdagsledamot. Amy Berglund\, Ung Vänster. Emil Broberg\, Regiongruppledare\, Nicklas Lundström kommungruppledare. \nDela gärna vårt arrangemang och bjud in alla du känner! \nSändningarna sker via Facebooksidorna. \n11:00 Vår lokala sändning på Facebooksidan! LÄNK\n11:45 Den centrala sändningen på rikssidan! LÄNK \nLokalen öppen inför 1 maj! \nInför 1 maj kommer vi att hålla lokalen på Luntgatan 41 öppen en del nästa vecka. Detta så att du kan byta några ord med någon från styrelsen på Coronasäkert avstånd och: \n\nHämta en fana att hänga i fönstret på 1 maj\nKöpa en pin\nHämta en 1-maj-tidning och kanske dela några till grannarna\nHämta 1 maj-affischer att sätta upp i kvarteret\n\nDagar och tider då lokalen är bemannad: \nSöndag 25/4\, kl. 15-16\nMåndag 26/4: kl.16-17\nTisdag 27/4\, kl. 17-18\nTorsdag 29/4: 18 – 20 
URL:https://norrkoping.vansterpartiet.se/event/1-maj-4/
CATEGORIES:Allmän aktivitet
END:VEVENT
BEGIN:VEVENT
DTSTART;TZID=Europe/Stockholm:20210429T180000
DTEND;TZID=Europe/Stockholm:20210429T193000
DTSTAMP:20260419T183846
CREATED:20210415T170655Z
LAST-MODIFIED:20210416T145819Z
UID:15705-1619719200-1619724600@norrkoping.vansterpartiet.se
SUMMARY:Medlemsmöte. Om trafikstrategi och kommunens överskott
DESCRIPTION:Medlemsmöte.\nOm trafikstrategi och kommunens överskott \nPå torsdag 29 april 18:00 har vi årets första medlemsmöte som kommer att handla om kommunens nya Trafikstrategi. Vi som medlemmar i Vänsterpartiet har nu chansen att säga vad vi tycker om viktiga frågor som kollektivtrafik\, bil kontra cykel och gång samt sådant som trafiksäkerhet\, klimatpåverkan och parkeringsplatser! Vi kommer att få ett kortare föredrag av kontorets tjänstemän innan vi börjar diskutera de spännande frågorna. Vill du förbereda dig extra noga finns en artikel och länk till hela strategin HÄR. \nNicklas kommer också att berätta om vad som händer i kommunpolitiken just nu med särskilt fokus på det jättelika överskottet på hela 430 miljoner som kommunen gjorde 2020 och vad vi vill använda pengarna till. \nMötet är självklart digitalt och du kan koppla upp dig via denna LÄNK. \nhttps://zoom.us/j/99855956438
URL:https://norrkoping.vansterpartiet.se/event/medlemsmote-om-trafikstrategi-och-kommunens-overskott/
LOCATION:Zoom
CATEGORIES:För medlemmar
ATTACH;FMTTYPE=image/jpeg:https://norrkoping.vansterpartiet.se/files/2021/04/trafik_LI.jpg
END:VEVENT
END:VCALENDAR