BEGIN:VCALENDAR
VERSION:2.0
PRODID:-//Vänsterpartiet Norrköping - ECPv6.15.17.1//NONSGML v1.0//EN
CALSCALE:GREGORIAN
METHOD:PUBLISH
X-ORIGINAL-URL:https://norrkoping.vansterpartiet.se
X-WR-CALDESC:Händelser för Vänsterpartiet Norrköping
REFRESH-INTERVAL;VALUE=DURATION:PT1H
X-Robots-Tag:noindex
X-PUBLISHED-TTL:PT1H
BEGIN:VTIMEZONE
TZID:Europe/Stockholm
BEGIN:DAYLIGHT
TZOFFSETFROM:+0100
TZOFFSETTO:+0200
TZNAME:CEST
DTSTART:20170326T010000
END:DAYLIGHT
BEGIN:STANDARD
TZOFFSETFROM:+0200
TZOFFSETTO:+0100
TZNAME:CET
DTSTART:20171029T010000
END:STANDARD
BEGIN:DAYLIGHT
TZOFFSETFROM:+0100
TZOFFSETTO:+0200
TZNAME:CEST
DTSTART:20180325T010000
END:DAYLIGHT
BEGIN:STANDARD
TZOFFSETFROM:+0200
TZOFFSETTO:+0100
TZNAME:CET
DTSTART:20181028T010000
END:STANDARD
BEGIN:DAYLIGHT
TZOFFSETFROM:+0100
TZOFFSETTO:+0200
TZNAME:CEST
DTSTART:20190331T010000
END:DAYLIGHT
BEGIN:STANDARD
TZOFFSETFROM:+0200
TZOFFSETTO:+0100
TZNAME:CET
DTSTART:20191027T010000
END:STANDARD
BEGIN:DAYLIGHT
TZOFFSETFROM:+0100
TZOFFSETTO:+0200
TZNAME:CEST
DTSTART:20200329T010000
END:DAYLIGHT
BEGIN:STANDARD
TZOFFSETFROM:+0200
TZOFFSETTO:+0100
TZNAME:CET
DTSTART:20201025T010000
END:STANDARD
BEGIN:DAYLIGHT
TZOFFSETFROM:+0100
TZOFFSETTO:+0200
TZNAME:CEST
DTSTART:20210328T010000
END:DAYLIGHT
BEGIN:STANDARD
TZOFFSETFROM:+0200
TZOFFSETTO:+0100
TZNAME:CET
DTSTART:20211031T010000
END:STANDARD
END:VTIMEZONE
BEGIN:VEVENT
DTSTART;TZID=Europe/Stockholm:20201014T180000
DTEND;TZID=Europe/Stockholm:20201014T190000
DTSTAMP:20260419T215646
CREATED:20200929T114048Z
LAST-MODIFIED:20201013T130323Z
UID:15131-1602698400-1602702000@norrkoping.vansterpartiet.se
SUMMARY:Digitalt V-café med Nicklas Lundström
DESCRIPTION:14 oktober håller vi återigen ett\nDigitalt vänstercafé!\nVår gruppledare Nicklas Lundström kommer att prata om de stora politiska frågorna för Norrköping under hösten:\n* Vad satsar vi på i den rekordstora tilläggsbudgeten?\n* Vad vet vi om flygplatsens framtid?\n* Vad tusan är det för ny skandal som pågår inom SD Norrköping?\n* Vad säger vi om vindkraftsetableringen?\n* Varför gick S och M ihop och tog bort vår kommunalrådspost i juni?\nVi kör livesändning med frågor Facebook! \n\nOnlineevenemang via Zoom:\nhttps://zoom.us/j/96328668334\n\n\nVälkommen!\n\n 
URL:https://norrkoping.vansterpartiet.se/event/digitalt-v-cafe-med-nicklas-lundstrom/
CATEGORIES:Alla är välkomna!
ATTACH;FMTTYPE=image/jpeg:https://norrkoping.vansterpartiet.se/files/2020/09/Nicklas-framför-rådhuset.jpg
END:VEVENT
BEGIN:VEVENT
DTSTART;TZID=Europe/Stockholm:20201001T190000
DTEND;TZID=Europe/Stockholm:20201001T200000
DTSTAMP:20260419T215646
CREATED:20200929T113855Z
LAST-MODIFIED:20200929T113855Z
UID:15128-1601578800-1601582400@norrkoping.vansterpartiet.se
SUMMARY:Digitalt V-café med Linda Snecker
DESCRIPTION:  \nTrygghet för alla\, inte bara några få! \nOtryggheten ökar\, gängkriminaliteten breder ut sig\, kvinnors utsatthet minskar inte. Längre straff och mer övervakning räcker inte för att lösa problemen. Men det gör ekonomisk jämlikhet\, en sammanhållen skola och att det inte längre ska finnas utsatta områden\, bara trygga områden. \nHör Linda Snecker\, rättspolitisk talesperson berätta om vänstern trygghetsskapande arbete. \nVi kör livesändning med frågor.\nNu på torsdag 1 oktober 19-19:45. \nMan kan följa det live via vår Facebook\nEller använda denna Zoom-länk \nVälkommen! \n 
URL:https://norrkoping.vansterpartiet.se/event/digitalt-v-cafe-med-linda-snecker/
LOCATION:Facebook
CATEGORIES:Alla är välkomna!
END:VEVENT
BEGIN:VEVENT
DTSTART;TZID=Europe/Stockholm:20200925T170000
DTEND;TZID=Europe/Stockholm:20200925T200000
DTSTAMP:20260419T215646
CREATED:20200827T171219Z
LAST-MODIFIED:20200914T164509Z
UID:15114-1601053200-1601064000@norrkoping.vansterpartiet.se
SUMMARY:Vänstervernissage under kulturnatten!
DESCRIPTION:Vänsterpartiet Norrköping har fått äran att motta två tavlor av norrköpingskonstnären Stefan Teleman. Vi vill givetvis gärna dela med oss av de vackra tavlorna och bjuder därför in till en vernissage i vår partilokal på Luntgatan 41.\nMotivet är baserat på ett känt textiltryck som spreds över hela Sverige. Det är också en hyllning till Norrköpings textilarbeterskor som byggde stadens välstånd. \nStefan Teleman deltar själv under inledningen av kvällen och berättar själv historien kring konstverket\, självklart på ett Coronasäkert sätt. Blir det för många i lokalen från början får övriga besökare se ett filmat samtal med Stefan. \nDatum: fredag 25 september\nTid: 17-20\nPlats: Partilokalen på Luntgatan 41
URL:https://norrkoping.vansterpartiet.se/event/vanstervernissage-under-kulturnatten/
LOCATION:Partilokalen Nelinsgatan 14\, Nelinsgatan 14\, Norrköping\, Sverige
CATEGORIES:Alla är välkomna!
ATTACH;FMTTYPE=image/jpeg:https://norrkoping.vansterpartiet.se/files/2020/08/unnamed.jpg
END:VEVENT
BEGIN:VEVENT
DTSTART;TZID=Europe/Stockholm:20200920T140000
DTEND;TZID=Europe/Stockholm:20200920T170000
DTSTAMP:20260419T215646
CREATED:20200827T170517Z
LAST-MODIFIED:20200827T170517Z
UID:15112-1600610400-1600621200@norrkoping.vansterpartiet.se
SUMMARY:Vänstervandring!
DESCRIPTION:Välkommen på utflykt med vandring i Svensksundsvikens söndag 20 september. Vi vandrar längs Svensksundsleden\, med vidsträckta havsstrandsängar och ett fågeltorn med fin utsikt. Vi är ute ca 3 timmar inklusive en stunds grillning\, om eldningsförbudet är lyft. Medtag egen matsäck på ryggen. Vi startar kl. 14 från naturreservatets parkering för de som kommer med bil. Vi andra åker tillsammans med buss från resecentrum kl 13:20. Räkna med ca 5 timmar inräknat resa till och från Norrköping\, om du åker med bussen. Delar av leden\, och rastplatsen där vi hoppas grilla\, är rullstolsvänlig. \nDatum: söndag 20 september\nTid: vandringsstart från 14:00\nFrågor\, och anmälan senast tisdag 15 september till Annika: kaiser.annika@gmail.com \nVälkommen! \n 
URL:https://norrkoping.vansterpartiet.se/event/vanstervandring/
CATEGORIES:Alla är välkomna!
END:VEVENT
BEGIN:VEVENT
DTSTART;TZID=Europe/Stockholm:20200828T180000
DTEND;TZID=Europe/Stockholm:20200828T200000
DTSTAMP:20260419T215646
CREATED:20200827T165834Z
LAST-MODIFIED:20200827T170115Z
UID:15108-1598637600-1598644800@norrkoping.vansterpartiet.se
SUMMARY:Vänsterpicknick!
DESCRIPTION:Kom på (sen)sommarens sista picknick med vänstern i Folkparken. Ta med filt så bjuder vi på pizza och trevlig umgänge! Ett utmärkt sätt för dig som är ny att bekanta dig med partiföreningen under avslappnade former. Eller bara att få prata lite vänsterpolitik! \nDatum: fredag 28 augusti\nTid: 18-20\nPlats: Träffas utanför partilokalen på Luntgatan 41.\nFöranmäl gärna till marcus.posada@vansterpartiet.se \nVälkommen!
URL:https://norrkoping.vansterpartiet.se/event/vansterpicknick-2/
CATEGORIES:Alla är välkomna!
END:VEVENT
BEGIN:VEVENT
DTSTART;TZID=Europe/Stockholm:20200801T140000
DTEND;TZID=Europe/Stockholm:20200801T160000
DTSTAMP:20260419T215646
CREATED:20200722T162246Z
LAST-MODIFIED:20200722T162247Z
UID:15031-1596290400-1596297600@norrkoping.vansterpartiet.se
SUMMARY:Minigolf
DESCRIPTION:Vänsterpartiet Norrköping bjuder in till minigolf. \nKom och spela i goda kamraters sällskap! Vi spelar tillsammans en stund och sen umgås vi och äter glass i det vackra vädret så länge vi vill.\n\n\nDatum: lördag 1 augusti\nTid: 14.00\nPlats: Vrinnevi minigolf\, Sprängstensgatan 20\n \nPris till vinnaren utlovas!\n \nAnmäl dig till Johan Norlund genom att skicka ett sms till \n073 – 3405846
URL:https://norrkoping.vansterpartiet.se/event/minigolf/
LOCATION:Vrinnevi minigolf\, Sprängstensgatan 20\, Norrköping
CATEGORIES:Alla är välkomna!
END:VEVENT
BEGIN:VEVENT
DTSTART;TZID=Europe/Stockholm:20200725T180000
DTEND;TZID=Europe/Stockholm:20200725T200000
DTSTAMP:20260419T215646
CREATED:20200722T150358Z
LAST-MODIFIED:20200722T160553Z
UID:15020-1595700000-1595707200@norrkoping.vansterpartiet.se
SUMMARY:Vänsterpicknick
DESCRIPTION:Vänsterpicknick!\nKom till en härlig somrig vänster picknick i Folkparken. Ta med filt så bjuder vi på pizza och trevlig umgänge! Kaffe/té och kaka kommer finnas.\nEtt utmärkt sätt för dig som är ny att bekanta dig med partiföreningen under avslappnade former. Eller bara att få prata lite vänsterpolitik mitt i sommaren!\nDatum: 25 juli\nTid: 18-20\nPlats: Träffs utanför partilokalen på Luntgatan 41.\nP.s. Ingen föranmälan krävs! \nVälkommen!\n\n 
URL:https://norrkoping.vansterpartiet.se/event/vansterpicknick/
CATEGORIES:Alla är välkomna!
END:VEVENT
BEGIN:VEVENT
DTSTART;TZID=Europe/Stockholm:20200615T100000
DTEND;TZID=Europe/Stockholm:20200615T170000
DTSTAMP:20260419T215646
CREATED:20200614T132519Z
LAST-MODIFIED:20200614T132519Z
UID:14787-1592215200-1592240400@norrkoping.vansterpartiet.se
SUMMARY:sommarfest
DESCRIPTION:
URL:https://norrkoping.vansterpartiet.se/event/sommarfest-3/
CATEGORIES:Alla är välkomna!
END:VEVENT
BEGIN:VEVENT
DTSTART;TZID=Europe/Stockholm:20180619T180000
DTEND;TZID=Europe/Stockholm:20180619T200000
DTSTAMP:20260419T215646
CREATED:20180508T111547Z
LAST-MODIFIED:20180508T111547Z
UID:12497-1529431200-1529438400@norrkoping.vansterpartiet.se
SUMMARY:Medlemsmöte och sommarfest
DESCRIPTION:Medlemsmöte och sommarfest \n19 juni
URL:https://norrkoping.vansterpartiet.se/event/medlemsmote-och-sommarfest/
CATEGORIES:För medlemmar
END:VEVENT
BEGIN:VEVENT
DTSTART;TZID=Europe/Stockholm:20180610T100000
DTEND;TZID=Europe/Stockholm:20180610T130000
DTSTAMP:20260419T215646
CREATED:20180508T111442Z
LAST-MODIFIED:20180508T111702Z
UID:12495-1528624800-1528635600@norrkoping.vansterpartiet.se
SUMMARY:Valskola
DESCRIPTION:Valskola 10-13
URL:https://norrkoping.vansterpartiet.se/event/valskola-10-13/
END:VEVENT
BEGIN:VEVENT
DTSTART;TZID=Europe/Stockholm:20180606T080000
DTEND;TZID=Europe/Stockholm:20180606T170000
DTSTAMP:20260419T215646
CREATED:20180508T111349Z
LAST-MODIFIED:20180508T111349Z
UID:12493-1528272000-1528304400@norrkoping.vansterpartiet.se
SUMMARY:Antirasistisk dag
DESCRIPTION:Antirasistisk dag den 6 juni
URL:https://norrkoping.vansterpartiet.se/event/antirasistisk-dag/
END:VEVENT
BEGIN:VEVENT
DTSTART;TZID=Europe/Stockholm:20180605T160000
DTEND;TZID=Europe/Stockholm:20180605T180000
DTSTAMP:20260419T215646
CREATED:20180508T111238Z
LAST-MODIFIED:20180515T190017Z
UID:12491-1528214400-1528221600@norrkoping.vansterpartiet.se
SUMMARY:Världsmiljödagen
DESCRIPTION:Världsmiljödagen \nEvenemang i och utanför Hörsalen från kl.16.00. \nMer info kommer. \nVänsterpartiet\, Naturskyddsföreningen\, Miljöpartiet
URL:https://norrkoping.vansterpartiet.se/event/varldsmiljodagen/
LOCATION:Hörsalsparken
CATEGORIES:Allmän aktivitet,Öppet möte
END:VEVENT
BEGIN:VEVENT
DTSTART;TZID=Europe/Stockholm:20180531T180000
DTEND;TZID=Europe/Stockholm:20180531T200000
DTSTAMP:20260419T215646
CREATED:20180508T110725Z
LAST-MODIFIED:20180508T110725Z
UID:12489-1527789600-1527796800@norrkoping.vansterpartiet.se
SUMMARY:Vänsteringel med Linda
DESCRIPTION:Vänsteringel med Linda
URL:https://norrkoping.vansterpartiet.se/event/vansteringel-med-linda/
LOCATION:Partilokalen Nelinsgatan 14\, Nelinsgatan 14\, Norrköping\, Sverige
CATEGORIES:Alla är välkomna!,För medlemmar och sympatisörer.
END:VEVENT
BEGIN:VEVENT
DTSTART;TZID=Europe/Stockholm:20180526T120000
DTEND;TZID=Europe/Stockholm:20180526T150000
DTSTAMP:20260419T215646
CREATED:20180408T151327Z
LAST-MODIFIED:20180515T185636Z
UID:12432-1527336000-1527346800@norrkoping.vansterpartiet.se
SUMMARY:East Pride parad
DESCRIPTION:Den 23 maj startar East Pride. En höjdpunkt under festivalen är Pridetåget lördagen den 26 maj. Start från Bredgatan 54\, utanför Arbis\, kl.13.00\, paraden går Kungsgatan\, Norra Promenaden\, Drottninggatan med avslutning i Vasaparken. \nGå i Pridedemonstration med Vänsterpartiet! Samling 12.30 utanför Arbis bar och salonger på Bredgatan 54 \n  \nMer under East Pride: \nQueera Norrköping! \nNorrköpings kommun har hbtq-certifierad äldreomsorg\, men hur kan kommunen arbeta vidare? \nHur vi bygger ett Norrköping som är till för alla oavsett vem du vill ligga med. \nSamtal med Sofia Kuno\, politisk sekreterare i Sundbybergs kommun och ordförande för Femmis\, Ina Nyberg Gruffman\, socionom som arbetat många år inom Norrköpings skolor och brinner för HBTQ-ungdomars rättigheter\, Josefin Nylander\, trans- och queeraktivist från Norrköping\, och Nicklas Ellehammar Lundström\, kommunpolitiker för Vänsterpartiet\, \nModererar gör Deniz Butros. \n25 maj 18.00-20.00\nLuntgatan 41\, Norrköping \n  \nVem är crip och hur påverkar det sexlivet? \nIkonen Christine Bylund\, doktorand i etnologi\, genusvetare och föreläsare reder ut vad begreppet funktionsmaktsordning innebär och hur det påverkar våra föreställningar om kroppar\, lust och sexualitet.\nKan sex vara en motståndshandling mot funktionsmaktsordningen?\nHur påverkar politiken sexlivet? Och vill alla funkisar ligga? \n25 maj 18.00-20.00\nLuntgatan 41\, Norrköping \nLokalen är tillgänglighetsanpassad och självklart finns det fika! \n  \nVälkommen på alla event!!
URL:https://norrkoping.vansterpartiet.se/event/east-pride-parad/
CATEGORIES:Allmän aktivitet,Öppet möte
ATTACH;FMTTYPE=image/png:https://norrkoping.vansterpartiet.se/files/2018/04/east-pride-logo.png
END:VEVENT
BEGIN:VEVENT
DTSTART;TZID=Europe/Stockholm:20180526T110000
DTEND;TZID=Europe/Stockholm:20180526T140000
DTSTAMP:20260419T215646
CREATED:20180508T103643Z
LAST-MODIFIED:20180508T103643Z
UID:12476-1527332400-1527343200@norrkoping.vansterpartiet.se
SUMMARY:Åbydagen
DESCRIPTION:Vi har bokbord under Åbydagen.
URL:https://norrkoping.vansterpartiet.se/event/abydagen/
CATEGORIES:För medlemmar och sympatisörer.
END:VEVENT
BEGIN:VEVENT
DTSTART;TZID=Europe/Stockholm:20180526T110000
DTEND;TZID=Europe/Stockholm:20180526T120000
DTSTAMP:20260419T215646
CREATED:20180508T105525Z
LAST-MODIFIED:20180508T105644Z
UID:12486-1527332400-1527336000@norrkoping.vansterpartiet.se
SUMMARY:Vem är crip och hur påverkar det sexlivet?
DESCRIPTION:Vem är crip och hur påverkar det sexlivet? \nIkonen Christine Bylund\, doktorand i etnologi\, genusvetare och föreläsare reder ut vad begreppet funktionsmaktsordning innebär och hur det påverkar våra föreställningar om kroppar\, lust och sexualitet.\nKan sex vara en motståndshandling mot funktionsmaktsordningen?\nHur påverkar politiken sexlivet? Och vill alla funkisar ligga? \nden 26 maj kl. 11:00 – 12:00 \nLuntgatan 41\, Norrköping \nLokalen är tillgänglighetsanpassad och självklart finns det fika! \nVärd: Vänsterpartiet Norrköping och East Pride \nVälkommen! \n 
URL:https://norrkoping.vansterpartiet.se/event/vem-ar-crip-och-hur-paverkar-det-sexlivet/
LOCATION:Partilokalen Nelinsgatan 14\, Nelinsgatan 14\, Norrköping\, Sverige
CATEGORIES:Öppet möte
ATTACH;FMTTYPE=image/jpeg:https://norrkoping.vansterpartiet.se/files/2018/05/Pride-paraden-i-Stockholm-Jonas.jpg
END:VEVENT
BEGIN:VEVENT
DTSTART;TZID=Europe/Stockholm:20180525T180000
DTEND;TZID=Europe/Stockholm:20180525T200000
DTSTAMP:20260419T215646
CREATED:20180508T104900Z
LAST-MODIFIED:20180515T185738Z
UID:12483-1527271200-1527278400@norrkoping.vansterpartiet.se
SUMMARY:Queera Norrköping
DESCRIPTION:Norrköpings kommun har hbtq-certifierad äldreomsorg\, men hur kan kommunen arbeta vidare? \nSamtal med Sofia Kuno\, politisk sekreterare i Sundbybergs kommun och \nordförande för Femmis\, \nIna Nyberg Gruffman\, socionom som arbetat många år inom Norrköpings skolor och brinner för HBTQ-ungdomars rättigheter\, \nJosefin Nylander\, trans- och queeraktivist från Norrköping\, \noch Nicklas Ellehammar Lundström\, kommunpolitiker för Vänsterpartiet\, \nom hur vi bygger ett Norrköping som är till för alla oavsett vem du vill ligga med. \nModererar gör Deniz Butros. \n  \n25 maj 18.00-20.00  \nLuntgatan 41\, Norrköping \n  \nLokalen är tillgänglighetsanpassad och självklart finns det fika! \nVärdar: Vänsterpartiet Norrköping och East Pride \nVälkommen!
URL:https://norrkoping.vansterpartiet.se/event/queera-norrkoping/
LOCATION:Partilokalen Nelinsgatan 14\, Nelinsgatan 14\, Norrköping\, Sverige
CATEGORIES:Alla är välkomna!,Öppet möte
ATTACH;FMTTYPE=image/jpeg:https://norrkoping.vansterpartiet.se/files/2018/05/Pride-paraden-i-Stockholm-Jonas.jpg
END:VEVENT
BEGIN:VEVENT
DTSTART;TZID=Europe/Stockholm:20180524T183000
DTEND;TZID=Europe/Stockholm:20180524T200000
DTSTAMP:20260419T215646
CREATED:20180318T121028Z
LAST-MODIFIED:20180515T184408Z
UID:12355-1527186600-1527192000@norrkoping.vansterpartiet.se
SUMMARY:Medlemsmöte. Obs ändrat datum!
DESCRIPTION:Medlemsmöte med webbsändning. \nÖppet för fika från kl.18.00 \nMötet startar 18.30. \nWebbsändningen startar 19.00 \nVälkommen!
URL:https://norrkoping.vansterpartiet.se/event/medlemsmote-18/
CATEGORIES:För medlemmar
END:VEVENT
BEGIN:VEVENT
DTSTART;TZID=Europe/Stockholm:20180517T190000
DTEND;TZID=Europe/Stockholm:20180517T210000
DTSTAMP:20260419T215646
CREATED:20180508T103238Z
LAST-MODIFIED:20180508T103238Z
UID:12472-1526583600-1526590800@norrkoping.vansterpartiet.se
SUMMARY:Vårruset!
DESCRIPTION:Vårruset 17 maj! \nVänsterpartiet brukar ha ett gäng kvinnor som varje år springer vårruset med Vänsterpartiet! Vill du vara med i år? \nSjälvklart så betalar vi då avgiften\, meddela ditt intresse till Lorena Peralta som är ansvarig från styrelsen. \nVälkommen att springa med oss! 
URL:https://norrkoping.vansterpartiet.se/event/varruset-3/
CATEGORIES:För medlemmar och sympatisörer.
END:VEVENT
BEGIN:VEVENT
DTSTART;TZID=Europe/Stockholm:20180513T140000
DTEND;TZID=Europe/Stockholm:20180513T160000
DTSTAMP:20260419T215646
CREATED:20180508T102943Z
LAST-MODIFIED:20180508T103345Z
UID:12468-1526220000-1526227200@norrkoping.vansterpartiet.se
SUMMARY:Utbildning och telefonkampanjande
DESCRIPTION:Utbildning och telefonkampanjande \nNu på söndag klockan 14:00 så ordnar vi en utbildning i hur det fungerar att ringa upp våra medlemmar och sympatisörer via Zetkin och praktiserar det sedan genom att mobilisera inför våra kommande aktiviteter som Pride och Vårruset! \nVälkommen!
URL:https://norrkoping.vansterpartiet.se/event/utbildning-och-telefonkampanjande/
CATEGORIES:För medlemmar och sympatisörer.
END:VEVENT
BEGIN:VEVENT
DTSTART;TZID=Europe/Stockholm:20180509T180000
DTEND;TZID=Europe/Stockholm:20180509T200000
DTSTAMP:20260419T215646
CREATED:20180408T151119Z
LAST-MODIFIED:20180508T102709Z
UID:12428-1525888800-1525896000@norrkoping.vansterpartiet.se
SUMMARY:Valpepp!
DESCRIPTION:För dig som vill vara med och göra en insats för ett rättvisare Norrköping och Sverige ordnar vi valpepp! \nVi bjuder på enkla övningar för att prata med väljare\, roligt val-quiz och såklart prata om våra valfrågor. \nDet är en kväll för dig som aldrig vågat komma till partiföreningen tidigare och det är för dig som ska göra din femte valrörelse med Vänsterpartiet. \nVill du ha barnpassning? Säg till i förväg så fixar vi det! \n”Barnvänligt” \nVälkommen!!
URL:https://norrkoping.vansterpartiet.se/event/valpepp/
CATEGORIES:För medlemmar och sympatisörer.
END:VEVENT
BEGIN:VEVENT
DTSTART;TZID=Europe/Stockholm:20180503T180000
DTEND;TZID=Europe/Stockholm:20180503T193000
DTSTAMP:20260419T215646
CREATED:20180327T102849Z
LAST-MODIFIED:20180327T103436Z
UID:12361-1525370400-1525375800@norrkoping.vansterpartiet.se
SUMMARY:Mingel med Linda
DESCRIPTION:Välkommen till en avslappnad kväll med lite tilltugg och alkoholfritt bubbel. \nVänsterpartiet Norrköping bjuder in Vänsterpartiets riksdagsledamot Linda Snecker för att berätta grunderna i Vänsterpartiet och om sitt uppdrag i riksdagen. \nVad gör man som politiker i riksdagen? Hur påverkar den nationella politiken Norrköping? Hur är det att vara feminist och socialist i en riksdag med sverigedemokrater och en socialdemokrati som går allt mer åt höger? \nKom och träffa en riksdagsledamot\, ställ alla frågor du undrat över och ha en trevlig kväll med vänsterrörelsen! \nTorsdag 3 maj kl. 18.00-19.30 \ni partilokalen Luntgatan 51 \nVälkommen!!
URL:https://norrkoping.vansterpartiet.se/event/mingel-med-linda/
LOCATION:Partilokalen Nelinsgatan 14\, Nelinsgatan 14\, Norrköping\, Sverige
CATEGORIES:Alla är välkomna!,För medlemmar och sympatisörer.
ATTACH;FMTTYPE=image/jpeg:https://norrkoping.vansterpartiet.se/files/2018/03/linda-snecker-1.jpg
END:VEVENT
BEGIN:VEVENT
DTSTART;TZID=Europe/Stockholm:20180501T090000
DTEND;TZID=Europe/Stockholm:20180501T160000
DTSTAMP:20260419T215646
CREATED:20180318T120915Z
LAST-MODIFIED:20180408T152204Z
UID:12352-1525165200-1525190400@norrkoping.vansterpartiet.se
SUMMARY:1 maj
DESCRIPTION:Häng med i Norrköpings största första maj-tåg! \nVänsterpartiet bjuder in till en festlig dag som avslutas i Vasaparken med ingen mindre än artisten Adam Tensta på scen! \nVi bjuder på frukost och fika redan från kl. 9 på ABF Bergslagsgården dit alla är välkomna. Samling sker på Skvallertorget kl. 11 där bland annat Vänsterns Blåsorkester spelar. \nKl 11.30 avgår det största första maj-tåget i Norrköping från Skvallertorget via Drottninggatan för tal och musik i Vasaparken. Där kommer det finnas mat till försäljning och aktiviteter för barn som ansiktsmålning. Ta med dig vänner och familj\, ingen är för ung eller för gammal. \nTillsammans går vi ihop på 1 maj och manifesterar för vår frihet. Vänsterpartiet vill inget mindre än allas frihet. Frihet från våld och fattigdom. Frihet från diskriminering och rasism. Frihet till våra kroppar och till vår kärlek. Frihet för barn att växa upp i trygghet och få den kunskap och det stöd som behövs för att utveckla just deras förmågor. Frihet till ett gott och meningsfullt arbetsliv med bra lön. Frihet till en värdig och innehållsrik ålderdom med rättvis pension. Frihet att leva och utvecklas i en hållbar värld. \nBarnvänligt \nTider: 9.00 Frukost och fika ABF Bergslagsgården \n          11.00 Samling på Skvallertorget \n          11.30 Avgång mot Vasaparken \nVälkommen!! \n 
URL:https://norrkoping.vansterpartiet.se/event/1-maj-3/
CATEGORIES:Alla är välkomna!,Allmän aktivitet,Öppet möte
ATTACH;FMTTYPE=image/jpeg:https://norrkoping.vansterpartiet.se/files/2014/07/1-maj-2018-banner.jpg
END:VEVENT
BEGIN:VEVENT
DTSTART;TZID=Europe/Stockholm:20180419T183000
DTEND;TZID=Europe/Stockholm:20180419T183000
DTSTAMP:20260419T215646
CREATED:20180318T120740Z
LAST-MODIFIED:20180408T150833Z
UID:12350-1524162600-1524162600@norrkoping.vansterpartiet.se
SUMMARY:Jens Holm "Om inte vi\, vem?" #miljöpolitik
DESCRIPTION:Om inte vi\, vem? \nKlimatfrågan är inte bara vår stora ödesfråga: det är också genom den som vi nu har chansen att skapa ett nytt och bättre samhälle. \nJens Holm\, riksdagsledamot för Vänsterpartiet\, lyfter i sin bok ”Om inte vi\, vem? Politiken som räddar klimatet och förändrar vänstern” om varför det bara är vänstern som kan rädda klimatet och samtidigt bygga ett jämlikare samhälle. \nEn kväll där vi diskuterar vår tids ödesfråga\, hur vi kan ställa om Norrköping och varför det är vänstern som räddar klimatet. \nJens Holm börjar kl. 19.00 men från 18.30 bjuder vi på enklare vegansk mat från Trottoarbaren ! \nEventet är gratis och öppet för alla\, dela gärna till fler som är intresserade. \nKL.18:30 \nKulturkvarteret Hallarna\, Tunnbindaregatan 37\, Norrköping \nVälkommen!
URL:https://norrkoping.vansterpartiet.se/event/jens-holm-miljopolitik/
LOCATION:Kulturkvarteret Hallarna\, Tunnbindaregaten 37\, Norrköping
CATEGORIES:Alla är välkomna!,Öppet möte
END:VEVENT
BEGIN:VEVENT
DTSTART;TZID=Europe/Stockholm:20180415T093000
DTEND;TZID=Europe/Stockholm:20180415T150000
DTSTAMP:20260419T215646
CREATED:20180318T120602Z
LAST-MODIFIED:20180404T101101Z
UID:12347-1523784600-1523804400@norrkoping.vansterpartiet.se
SUMMARY:Valskola\, i Linköping
DESCRIPTION:Söndag 15 april kl 10.00 (fika från 9.30) \ni Regionhuset i Linköping. \nValskola för distriktet med Deniz Butros. \nDet kommer handla om argumentation\, hur vi ska bemöta de andra partierna och mycket mer. Riktigt bra för oss som vill vara med i valrörelsen! \nVälkommen! \n 
URL:https://norrkoping.vansterpartiet.se/event/valskolan-i-linkoping/
LOCATION:Regionhuset\,\, S:t Larsgatan 49\, Linköping
CATEGORIES:För medlemmar
END:VEVENT
BEGIN:VEVENT
DTSTART;TZID=Europe/Stockholm:20180412T180000
DTEND;TZID=Europe/Stockholm:20180412T200000
DTSTAMP:20260419T215646
CREATED:20180318T120429Z
LAST-MODIFIED:20180408T145838Z
UID:12345-1523556000-1523563200@norrkoping.vansterpartiet.se
SUMMARY:Medlemsmöte
DESCRIPTION:Den 12 april på torsdag så har vi medlemsmöte om hur vi bygger den absolut starkaste möjliga lokala valkampanjen. Vänsterpartiet Norrköping behöver dig och dina idéer inför den stundande valrörelsen! \nVi kommer att ha en kort och konkret presentation från flera i styrelsen om huvudbudskap\, 1-maj-kampanjen\, valplattformen\, den lokala valbudgeten och exakt vilka bostadsområden i Norrköping vi har störst möjlighet att växa i. \nHuvudsaken under mötet kommer dock att vara medlemmarnas åsikter och förslag och mycket tid kommer att avsättas för diskussion och samtal. \nVälkommen!!
URL:https://norrkoping.vansterpartiet.se/event/medlemsmote-17/
CATEGORIES:För medlemmar
END:VEVENT
BEGIN:VEVENT
DTSTART;TZID=Europe/Stockholm:20180410T180000
DTEND;TZID=Europe/Stockholm:20180410T200000
DTSTAMP:20260419T215646
CREATED:20180318T120324Z
LAST-MODIFIED:20180330T133308Z
UID:12343-1523383200-1523390400@norrkoping.vansterpartiet.se
SUMMARY:Kampanja som Bernie! Med vänstern för jämlikhet.
DESCRIPTION:Kampanja som Bernie! \nÖVA INFÖR VALRÖRELSEN MED BERNIE-ORGANISATÖREN \n\nUnder april 2018 arrangeras en utbildningsturné för Vänsterpartiet med Grayson Lookner som arbetade i Bernie Sanders presidentvalskampanj 2016.\nDen 10 april landar turnén i Norrköping. \n\nGrayson arbetade som delstatsorganisatör i fem delstater under Sanders primärvalskampanj. Inför det brittiska valet 2017 utbildade Grayson aktivister för Labour och Momentum.\nNu tar vi konceptet till Sverige och breddar samarbetet mellan den europeiska och amerikanska vänstern. \n\nUtbildningen riktar sig till dig som vill delta i Vänsterpartiets valkampanj 2018 och är baserad på den utbildning som genomfördes i Storbritannien 2017.\nI utbildningen får du i första hand lära dig hur du på ett effektivt sätt kan möta och övertyga väljare på stan\, vid dörrknackning eller i telefon. På ett roligt och inspirerande vis blir du tryggare i rollen som ambassadör för Vänsterpartiets budskap om jämlikhet.\nUtbildningen är gratis. Du förväntas ha för avsikt att hjälpa till i Vänsterpartiets kampanjarbete inför valet i september. \n\nVärd: Zetkin Foundation och Vänsterpartiet Östergötland \n\nDen 10 april 18.00-20.00\nPå ABF Norrköping Bergslagsgården\, Västgötegatan 25\, Norrköping. \nLäs mer på www.zetkin.org/att2018 eller kontakta antingen ditt distrikt eller Zetkin Foundation.
URL:https://norrkoping.vansterpartiet.se/event/kampanja-som-bernie-och-corbyn/
LOCATION:ABF Norrköping Bergslagsgården\, Västgötegatan 25\, Norrköping
CATEGORIES:För medlemmar och sympatisörer.
ATTACH;FMTTYPE=image/jpeg:https://norrkoping.vansterpartiet.se/files/2018/03/kampanja-som-bernie.jpg
END:VEVENT
BEGIN:VEVENT
DTSTART;TZID=Europe/Stockholm:20180408T100000
DTEND;TZID=Europe/Stockholm:20180408T140000
DTSTAMP:20260419T215646
CREATED:20180408T151235Z
LAST-MODIFIED:20180408T151235Z
UID:12430-1523181600-1523196000@norrkoping.vansterpartiet.se
SUMMARY:Marknad i Klockaretorpet
DESCRIPTION:
URL:https://norrkoping.vansterpartiet.se/event/marknad-i-klockaretorpet-2/
END:VEVENT
BEGIN:VEVENT
DTSTART;TZID=Europe/Stockholm:20180405T180000
DTEND;TZID=Europe/Stockholm:20180405T193000
DTSTAMP:20260419T215646
CREATED:20180318T115559Z
LAST-MODIFIED:20180330T134818Z
UID:12341-1522951200-1522956600@norrkoping.vansterpartiet.se
SUMMARY:Vänstermingel med Linda
DESCRIPTION:Välkommen till en avslappnad kväll med lite tilltugg och alkoholfritt bubbel. \nVänsterpartiet Norrköping bjuder in Vänsterpartiets riksdagsledamot Linda Snecker för att berätta grunderna i Vänsterpartiet och om sitt uppdrag i riksdagen. Vad gör man som politiker i riksdagen? Hur påverkar den nationella politiken Norrköping? Hur är det att vara feminist och socialist i en riksdag med sverigedemokrater och en socialdemokrati som går allt mer åt höger? \nKom och träffa en riksdagsledamot\, ställ alla frågor du undrat över och ha en trevlig kväll med vänsterrörelsen! \nPsst! Om du inte kan komma den här gången kommer vi att köra igen den 3 maj. \nTorsdag den 5 april kl.18.00-19.30 \ni partilokalen Luntgatan 41. \nVälkommen!! \n 
URL:https://norrkoping.vansterpartiet.se/event/vanstermingel-med-linda/
CATEGORIES:Alla är välkomna!,För medlemmar och sympatisörer.
ATTACH;FMTTYPE=image/jpeg:https://norrkoping.vansterpartiet.se/files/2018/03/linda-snecker-1.jpg
END:VEVENT
BEGIN:VEVENT
DTSTART;TZID=Europe/Stockholm:20180328T180000
DTEND;TZID=Europe/Stockholm:20180328T200000
DTSTAMP:20260419T215646
CREATED:20180318T115404Z
LAST-MODIFIED:20180318T115404Z
UID:12339-1522260000-1522267200@norrkoping.vansterpartiet.se
SUMMARY:Fika och brädspel
DESCRIPTION:Fika och brädspel \nDen 28 mars anordnar Vänsterpartiet en kväll med socialsamvaro\, enklare brädspel\, fika och samtal på partilokalen. \nK.18:00 som vanligt!
URL:https://norrkoping.vansterpartiet.se/event/fika-och-bradspel/
CATEGORIES:För medlemmar och sympatisörer.
END:VEVENT
END:VCALENDAR